BEGIN:VCALENDAR
VERSION:2.0
PRODID:-//La Casa&#039;Jeux à Alès - ECPv6.15.20//NONSGML v1.0//EN
CALSCALE:GREGORIAN
METHOD:PUBLISH
X-ORIGINAL-URL:http://www.lacasajeux.fr
X-WR-CALDESC:Évènements pour La Casa&#039;Jeux à Alès
REFRESH-INTERVAL;VALUE=DURATION:PT1H
X-Robots-Tag:noindex
X-PUBLISHED-TTL:PT1H
BEGIN:VTIMEZONE
TZID:Europe/Paris
BEGIN:DAYLIGHT
TZOFFSETFROM:+0100
TZOFFSETTO:+0200
TZNAME:CEST
DTSTART:20190331T010000
END:DAYLIGHT
BEGIN:STANDARD
TZOFFSETFROM:+0200
TZOFFSETTO:+0100
TZNAME:CET
DTSTART:20191027T010000
END:STANDARD
BEGIN:DAYLIGHT
TZOFFSETFROM:+0100
TZOFFSETTO:+0200
TZNAME:CEST
DTSTART:20200329T010000
END:DAYLIGHT
BEGIN:STANDARD
TZOFFSETFROM:+0200
TZOFFSETTO:+0100
TZNAME:CET
DTSTART:20201025T010000
END:STANDARD
BEGIN:DAYLIGHT
TZOFFSETFROM:+0100
TZOFFSETTO:+0200
TZNAME:CEST
DTSTART:20210328T010000
END:DAYLIGHT
BEGIN:STANDARD
TZOFFSETFROM:+0200
TZOFFSETTO:+0100
TZNAME:CET
DTSTART:20211031T010000
END:STANDARD
END:VTIMEZONE
BEGIN:VEVENT
DTSTART;VALUE=DATE:20200703
DTEND;VALUE=DATE:20200704
DTSTAMP:20260424T150819
CREATED:20200702T122343Z
LAST-MODIFIED:20200702T122343Z
UID:5015-1593734400-1593820799@www.lacasajeux.fr
SUMMARY:Lancement de la ligue Magic : Core 2021
DESCRIPTION:Vous venez d’apprendre Magic\, et/ou voulez ouvrir des boosters doucement\, en profitant des cartes que vous trouvez ?\n\n\n \n\n\nBienvenue dans la ligue Magic !\n\n\n \n\n\n \n\n\nChaque joueur commencera avec 3 boosters\, et fera un deck avec. Ensuite\, vous pourrez ajouter 1 booster par semaine pour améliorer celui-ci.\n\n\n \n\n\nUn bon moyen de commencer/compléter doucement sa collection de cartes\, et de jouer avec ce qu’on ouvre dans les boosters 🙂\n\n\n \n\n\nL’inscription sera de 15€\, et on finira avec une soirée (le 21 Février !) ou il y aura encore des boosters supplémentaires à gagner…\n\n\n \n\n\nToutes les infos en boutique !
URL:http://www.lacasajeux.fr/evenements/lancement-de-la-ligue-magic-core-2021/
LOCATION:La Casa’Jeux\, 22\, rue d'Estienne d'Orves\, Alès\, 30100\, France
CATEGORIES:Tournois
ATTACH;FMTTYPE=image/jpeg:http://www.lacasajeux.fr/wp-content/uploads/2020/07/20200707_liguemagic.jpg
ORGANIZER;CN="La Casa'Jeux":MAILTO:contact@lacasajeux.fr
END:VEVENT
BEGIN:VEVENT
DTSTART;TZID=Europe/Paris:20200703T210000
DTEND;TZID=Europe/Paris:20200703T233000
DTSTAMP:20260424T150819
CREATED:20200702T130058Z
LAST-MODIFIED:20200702T130058Z
UID:5036-1593810000-1593819000@www.lacasajeux.fr
SUMMARY:Nocturne spéciale : Vampire le jeu de cartes
DESCRIPTION:Vampire est un jeu de cartes multijoueurs\, ou vous contrôlerez des vampires (oui surprenant au vu du titre du jeu)\, et devrez venir à bout de ceux des adversaires… \n\n\nPour ça\, politique\, trahison et combats musclés seront au rendez-vous\, chacun sa stratégie.\n\n\n \n\n\nCe jeu est connu pour avoir été conçu dès le début en prévoyant sa dimension multi-joueurs.\n\n\n \n\n\nUne table sera réservée pendant la nocturne pour venir tester/découvrir\, ou simplement jouer à ce jeu\, qui est arrivé cette année\, pour la première fois\, en VF
URL:http://www.lacasajeux.fr/evenements/nocturne-speciale-vampire-le-jeu-de-cartes/
LOCATION:La Casa’Jeux\, 22\, rue d'Estienne d'Orves\, Alès\, 30100\, France
CATEGORIES:Démonstration
ATTACH;FMTTYPE=image/jpeg:http://www.lacasajeux.fr/wp-content/uploads/2020/07/20200703_vtes.jpg
ORGANIZER;CN="La Casa'Jeux":MAILTO:contact@lacasajeux.fr
END:VEVENT
END:VCALENDAR