BEGIN:VCALENDAR
VERSION:2.0
PRODID:-//La Casa&#039;Jeux à Alès - ECPv6.15.20//NONSGML v1.0//EN
CALSCALE:GREGORIAN
METHOD:PUBLISH
X-WR-CALNAME:La Casa&#039;Jeux à Alès
X-ORIGINAL-URL:http://www.lacasajeux.fr
X-WR-CALDESC:Évènements pour La Casa&#039;Jeux à Alès
REFRESH-INTERVAL;VALUE=DURATION:PT1H
X-Robots-Tag:noindex
X-PUBLISHED-TTL:PT1H
BEGIN:VTIMEZONE
TZID:Europe/Paris
BEGIN:DAYLIGHT
TZOFFSETFROM:+0100
TZOFFSETTO:+0200
TZNAME:CEST
DTSTART:20190331T010000
END:DAYLIGHT
BEGIN:STANDARD
TZOFFSETFROM:+0200
TZOFFSETTO:+0100
TZNAME:CET
DTSTART:20191027T010000
END:STANDARD
BEGIN:DAYLIGHT
TZOFFSETFROM:+0100
TZOFFSETTO:+0200
TZNAME:CEST
DTSTART:20200329T010000
END:DAYLIGHT
BEGIN:STANDARD
TZOFFSETFROM:+0200
TZOFFSETTO:+0100
TZNAME:CET
DTSTART:20201025T010000
END:STANDARD
BEGIN:DAYLIGHT
TZOFFSETFROM:+0100
TZOFFSETTO:+0200
TZNAME:CEST
DTSTART:20210328T010000
END:DAYLIGHT
BEGIN:STANDARD
TZOFFSETFROM:+0200
TZOFFSETTO:+0100
TZNAME:CET
DTSTART:20211031T010000
END:STANDARD
END:VTIMEZONE
BEGIN:VEVENT
DTSTART;TZID=Europe/Paris:20200722T190000
DTEND;TZID=Europe/Paris:20200722T230000
DTSTAMP:20260424T150753
CREATED:20200702T154931Z
LAST-MODIFIED:20200702T162847Z
UID:5052-1595444400-1595458800@www.lacasajeux.fr
SUMMARY:Les commander's Night de l'été
DESCRIPTION:Cette année sera celle du commander\, a annoncé wizards.\n\n\n \n\n\nEn tout cas\, ils nous donnent pleins de belles choses à tester.\n\n\n \n\n\nEt pour le tester\, quoi de mieux qu’une soirée\, avec des copains\, à 4 ou 5 autour d’une table ?\n\n\n \n\n\nPour pimenter le tout\, des feuilles d’objectifs seront distribuées à chaque joueur\, avec des objectifs à remplir très diverses\, pour repartir avec des promos en plus 😉\n\n\n \n\n\n4 sessions sont prévues : \n\n\n_ le mercredi 8 Juillet\n\n\n_ le mercredi 22 Juillet\n\n\n_ le mercredi 5 Août\n\n\n_ le mercredi 26 Août\n\n\n \n\n\nOn enchaine à 19h\, à la fermeture du magasin.\n\n\n \n\n\nPensez à vous pré-inscrire\, les places seront limitées 😉
URL:http://www.lacasajeux.fr/evenements/les-commanders-night-de-lete-2/
LOCATION:La Casa’Jeux\, 22\, rue d'Estienne d'Orves\, Alès\, 30100\, France
CATEGORIES:Divers
ATTACH;FMTTYPE=image/jpeg:http://www.lacasajeux.fr/wp-content/uploads/2020/07/202007_commandersnight_magic.jpg
END:VEVENT
END:VCALENDAR