BEGIN:VCALENDAR
VERSION:2.0
PRODID:-//La Casa&#039;Jeux à Alès - ECPv6.15.20//NONSGML v1.0//EN
CALSCALE:GREGORIAN
METHOD:PUBLISH
X-WR-CALNAME:La Casa&#039;Jeux à Alès
X-ORIGINAL-URL:http://www.lacasajeux.fr
X-WR-CALDESC:Évènements pour La Casa&#039;Jeux à Alès
REFRESH-INTERVAL;VALUE=DURATION:PT1H
X-Robots-Tag:noindex
X-PUBLISHED-TTL:PT1H
BEGIN:VTIMEZONE
TZID:Europe/Paris
BEGIN:DAYLIGHT
TZOFFSETFROM:+0100
TZOFFSETTO:+0200
TZNAME:CEST
DTSTART:20190331T010000
END:DAYLIGHT
BEGIN:STANDARD
TZOFFSETFROM:+0200
TZOFFSETTO:+0100
TZNAME:CET
DTSTART:20191027T010000
END:STANDARD
BEGIN:DAYLIGHT
TZOFFSETFROM:+0100
TZOFFSETTO:+0200
TZNAME:CEST
DTSTART:20200329T010000
END:DAYLIGHT
BEGIN:STANDARD
TZOFFSETFROM:+0200
TZOFFSETTO:+0100
TZNAME:CET
DTSTART:20201025T010000
END:STANDARD
BEGIN:DAYLIGHT
TZOFFSETFROM:+0100
TZOFFSETTO:+0200
TZNAME:CEST
DTSTART:20210328T010000
END:DAYLIGHT
BEGIN:STANDARD
TZOFFSETFROM:+0200
TZOFFSETTO:+0100
TZNAME:CET
DTSTART:20211031T010000
END:STANDARD
END:VTIMEZONE
BEGIN:VEVENT
DTSTART;TZID=Europe/Paris:20200919T090000
DTEND;TZID=Europe/Paris:20200919T140000
DTSTAMP:20260424T174541
CREATED:20200825T144001Z
LAST-MODIFIED:20200825T144001Z
UID:5182-1600506000-1600524000@www.lacasajeux.fr
SUMMARY:Avant-premières Magic : Renaissance de Zendikar
DESCRIPTION:Venez découvrir la nouvelle extension Magic ! \nPour l’occasion\, des avant-premières sont organisées…. Et à temps exceptionnels\, mesures exceptionnelles. \nDu coup\, les avant-premières seront limitées à 12 places (il est donc vivement conseillé de se pré-inscrire !!!).\n_ Il y en aura 2 le vendredi : 14h\, puis 20h30.\n_ 2 le samedi : 9h puis 14h\n_ 1 le dimanche à 13h \nIl y a possibilité aussi de passer prendre vos packs en boutique et de faire vos propres AP à la maison. \nPlus d’excuse de passer à côté ! 😉 \nLe PAF est de 26€\, et chaque participant repart avec 2 boosters de dotation supplémentaires.
URL:http://www.lacasajeux.fr/evenements/avant-premieres-magic-renaissance-de-zendikar-3/
LOCATION:La Casa’Jeux\, 22\, rue d'Estienne d'Orves\, Alès\, 30100\, France
CATEGORIES:Tournois
ATTACH;FMTTYPE=image/jpeg:http://www.lacasajeux.fr/wp-content/uploads/2020/08/20200918_magic_APzendikar.jpg
ORGANIZER;CN="La Casa'Jeux":MAILTO:contact@lacasajeux.fr
END:VEVENT
BEGIN:VEVENT
DTSTART;TZID=Europe/Paris:20200919T140000
DTEND;TZID=Europe/Paris:20200919T190000
DTSTAMP:20260424T174541
CREATED:20200825T144057Z
LAST-MODIFIED:20200825T144057Z
UID:5184-1600524000-1600542000@www.lacasajeux.fr
SUMMARY:Avant-premières Magic : Renaissance de Zendikar
DESCRIPTION:Venez découvrir la nouvelle extension Magic ! \nPour l’occasion\, des avant-premières sont organisées…. Et à temps exceptionnels\, mesures exceptionnelles. \nDu coup\, les avant-premières seront limitées à 12 places (il est donc vivement conseillé de se pré-inscrire !!!).\n_ Il y en aura 2 le vendredi : 14h\, puis 20h30.\n_ 2 le samedi : 9h puis 14h\n_ 1 le dimanche à 13h \nIl y a possibilité aussi de passer prendre vos packs en boutique et de faire vos propres AP à la maison. \nPlus d’excuse de passer à côté ! 😉 \nLe PAF est de 26€\, et chaque participant repart avec 2 boosters de dotation supplémentaires.
URL:http://www.lacasajeux.fr/evenements/avant-premieres-magic-renaissance-de-zendikar-4/
LOCATION:La Casa’Jeux\, 22\, rue d'Estienne d'Orves\, Alès\, 30100\, France
CATEGORIES:Tournois
ATTACH;FMTTYPE=image/jpeg:http://www.lacasajeux.fr/wp-content/uploads/2020/08/20200918_magic_APzendikar.jpg
ORGANIZER;CN="La Casa'Jeux":MAILTO:contact@lacasajeux.fr
END:VEVENT
BEGIN:VEVENT
DTSTART;TZID=Europe/Paris:20200920T090000
DTEND;TZID=Europe/Paris:20200920T180000
DTSTAMP:20260424T174541
CREATED:20200825T145455Z
LAST-MODIFIED:20200825T145455Z
UID:5190-1600592400-1600624800@www.lacasajeux.fr
SUMMARY:Tournoi WH40K
DESCRIPTION:Premier tournoi depuis longtemps à la boutique de Warhammer 40.000 !\n\n\n \n\n\nL’occasion idéale pour essayer vos armes à la dernière édition qui est encore toute récente…\n\n\n \n\n\nToutes les infos et les contacts en boutique\, ou sur cette affiche 😉 :
URL:http://www.lacasajeux.fr/evenements/tournoi-wh40k/
LOCATION:La Casa’Jeux\, 22\, rue d'Estienne d'Orves\, Alès\, 30100\, France
CATEGORIES:Tournois
ATTACH;FMTTYPE=image/jpeg:http://www.lacasajeux.fr/wp-content/uploads/2020/08/20200920_wh40k.jpg
ORGANIZER;CN="La Casa'Jeux":MAILTO:contact@lacasajeux.fr
END:VEVENT
END:VCALENDAR