BEGIN:VCALENDAR
VERSION:2.0
PRODID:-//La Casa&#039;Jeux à Alès - ECPv6.15.20//NONSGML v1.0//EN
CALSCALE:GREGORIAN
METHOD:PUBLISH
X-ORIGINAL-URL:http://www.lacasajeux.fr
X-WR-CALDESC:Évènements pour La Casa&#039;Jeux à Alès
REFRESH-INTERVAL;VALUE=DURATION:PT1H
X-Robots-Tag:noindex
X-PUBLISHED-TTL:PT1H
BEGIN:VTIMEZONE
TZID:Europe/Paris
BEGIN:DAYLIGHT
TZOFFSETFROM:+0100
TZOFFSETTO:+0200
TZNAME:CEST
DTSTART:20200329T010000
END:DAYLIGHT
BEGIN:STANDARD
TZOFFSETFROM:+0200
TZOFFSETTO:+0100
TZNAME:CET
DTSTART:20201025T010000
END:STANDARD
BEGIN:DAYLIGHT
TZOFFSETFROM:+0100
TZOFFSETTO:+0200
TZNAME:CEST
DTSTART:20210328T010000
END:DAYLIGHT
BEGIN:STANDARD
TZOFFSETFROM:+0200
TZOFFSETTO:+0100
TZNAME:CET
DTSTART:20211031T010000
END:STANDARD
BEGIN:DAYLIGHT
TZOFFSETFROM:+0100
TZOFFSETTO:+0200
TZNAME:CEST
DTSTART:20220327T010000
END:DAYLIGHT
BEGIN:STANDARD
TZOFFSETFROM:+0200
TZOFFSETTO:+0100
TZNAME:CET
DTSTART:20221030T010000
END:STANDARD
END:VTIMEZONE
BEGIN:VEVENT
DTSTART;TZID=Europe/Paris:20210717T090000
DTEND;TZID=Europe/Paris:20210717T130000
DTSTAMP:20260425T014324
CREATED:20210627T154049Z
LAST-MODIFIED:20210627T154049Z
UID:5701-1626512400-1626526800@www.lacasajeux.fr
SUMMARY:Magic : avant-première Forgotten Realms
DESCRIPTION:Venez découvrir la nouvelle extension Magic ! \nCelle-ci se passe dans l’univers de Donjons & Dragons\, et si vous êtes habitués à celui-ci\, vous devriez voyager en terrain connu 😉\nDes avant-premières seront organisées\, pour découvrir l’extension en avance :\n_ Il y en aura 2 le vendredi : 14h\, puis 20h30.\n_ 2 le samedi : 9h puis 14h \nIl y a possibilité aussi de passer prendre vos packs en boutique et de faire vos propres AP à la maison.\nPlus d’excuse de passer à côté ! 😉 \nLe PAF est de 26€\, et chaque participant repart avec 2 boosters de dotation supplémentaires.
URL:http://www.lacasajeux.fr/evenements/magic-avant-premiere-forgotten-realms-2/
LOCATION:La Casa’Jeux\, 22 rue d'Estienne d'Orves\, Alès\, Gard\, 30100\, France
CATEGORIES:Tournois
ATTACH;FMTTYPE=image/jpeg:http://www.lacasajeux.fr/wp-content/uploads/2021/06/202107_magic_APforgottenrealms.jpg
END:VEVENT
BEGIN:VEVENT
DTSTART;TZID=Europe/Paris:20210717T140000
DTEND;TZID=Europe/Paris:20210717T190000
DTSTAMP:20260425T014324
CREATED:20210627T154238Z
LAST-MODIFIED:20210627T154238Z
UID:5703-1626530400-1626548400@www.lacasajeux.fr
SUMMARY:Magic : avant-première Forgotten Realms
DESCRIPTION:Venez découvrir la nouvelle extension Magic ! \nCelle-ci se passe dans l’univers de Donjons & Dragons\, et si vous êtes habitués à celui-ci\, vous devriez voyager en terrain connu 😉\nDes avant-premières seront organisées\, pour découvrir l’extension en avance :\n_ Il y en aura 2 le vendredi : 14h\, puis 20h30.\n_ 2 le samedi : 9h puis 14h \nIl y a possibilité aussi de passer prendre vos packs en boutique et de faire vos propres AP à la maison.\nPlus d’excuse de passer à côté ! 😉 \nLe PAF est de 26€\, et chaque participant repart avec 2 boosters de dotation supplémentaires.
URL:http://www.lacasajeux.fr/evenements/magic-avant-premiere-forgotten-realms-3/
LOCATION:La Casa’Jeux\, 22 rue d'Estienne d'Orves\, Alès\, 30100\, France
CATEGORIES:Tournois
ATTACH;FMTTYPE=image/jpeg:http://www.lacasajeux.fr/wp-content/uploads/2021/06/202107_magic_APforgottenrealms.jpg
END:VEVENT
END:VCALENDAR