BEGIN:VCALENDAR
VERSION:2.0
PRODID:-//La Casa&#039;Jeux à Alès - ECPv6.15.20//NONSGML v1.0//EN
CALSCALE:GREGORIAN
METHOD:PUBLISH
X-WR-CALNAME:La Casa&#039;Jeux à Alès
X-ORIGINAL-URL:http://www.lacasajeux.fr
X-WR-CALDESC:Évènements pour La Casa&#039;Jeux à Alès
REFRESH-INTERVAL;VALUE=DURATION:PT1H
X-Robots-Tag:noindex
X-PUBLISHED-TTL:PT1H
BEGIN:VTIMEZONE
TZID:Europe/Paris
BEGIN:DAYLIGHT
TZOFFSETFROM:+0100
TZOFFSETTO:+0200
TZNAME:CEST
DTSTART:20200329T010000
END:DAYLIGHT
BEGIN:STANDARD
TZOFFSETFROM:+0200
TZOFFSETTO:+0100
TZNAME:CET
DTSTART:20201025T010000
END:STANDARD
BEGIN:DAYLIGHT
TZOFFSETFROM:+0100
TZOFFSETTO:+0200
TZNAME:CEST
DTSTART:20210328T010000
END:DAYLIGHT
BEGIN:STANDARD
TZOFFSETFROM:+0200
TZOFFSETTO:+0100
TZNAME:CET
DTSTART:20211031T010000
END:STANDARD
BEGIN:DAYLIGHT
TZOFFSETFROM:+0100
TZOFFSETTO:+0200
TZNAME:CEST
DTSTART:20220327T010000
END:DAYLIGHT
BEGIN:STANDARD
TZOFFSETFROM:+0200
TZOFFSETTO:+0100
TZNAME:CET
DTSTART:20221030T010000
END:STANDARD
END:VTIMEZONE
BEGIN:VEVENT
DTSTART;TZID=Europe/Paris:20210820T210000
DTEND;TZID=Europe/Paris:20210820T230000
DTSTAMP:20260425T025859
CREATED:20210731T142525Z
LAST-MODIFIED:20210731T142525Z
UID:5746-1629493200-1629500400@www.lacasajeux.fr
SUMMARY:Rencontres & JDR
DESCRIPTION:Venez rencontrer d’autres joueurs de jeu de rôle\, et préparez/prévoyez les futures tables\, autour d’un café. \nCet évènement est gratuit\, et s’adresse autant aux débutants voulant découvrir ce qu’est le jeu de rôle (une partie de démo de Donjons et Dragons sera organisée par Christophe) qu’aux connaisseurs voulant rencontrer d’autres joueurs. \n 
URL:http://www.lacasajeux.fr/evenements/rencontres-jdr/
LOCATION:La Casa’Jeux\, 22 rue d'Estienne d'Orves\, Alès\, Gard\, 30100\, France
CATEGORIES:Démonstration
ATTACH;FMTTYPE=image/jpeg:http://www.lacasajeux.fr/wp-content/uploads/2021/07/20210820_rencontresetjdr.jpg
END:VEVENT
END:VCALENDAR