BEGIN:VCALENDAR
VERSION:2.0
PRODID:-//La Casa&#039;Jeux à Alès - ECPv6.15.20//NONSGML v1.0//EN
CALSCALE:GREGORIAN
METHOD:PUBLISH
X-WR-CALNAME:La Casa&#039;Jeux à Alès
X-ORIGINAL-URL:http://www.lacasajeux.fr
X-WR-CALDESC:Évènements pour La Casa&#039;Jeux à Alès
REFRESH-INTERVAL;VALUE=DURATION:PT1H
X-Robots-Tag:noindex
X-PUBLISHED-TTL:PT1H
BEGIN:VTIMEZONE
TZID:Europe/Paris
BEGIN:DAYLIGHT
TZOFFSETFROM:+0100
TZOFFSETTO:+0200
TZNAME:CEST
DTSTART:20230326T010000
END:DAYLIGHT
BEGIN:STANDARD
TZOFFSETFROM:+0200
TZOFFSETTO:+0100
TZNAME:CET
DTSTART:20231029T010000
END:STANDARD
BEGIN:DAYLIGHT
TZOFFSETFROM:+0100
TZOFFSETTO:+0200
TZNAME:CEST
DTSTART:20240331T010000
END:DAYLIGHT
BEGIN:STANDARD
TZOFFSETFROM:+0200
TZOFFSETTO:+0100
TZNAME:CET
DTSTART:20241027T010000
END:STANDARD
BEGIN:DAYLIGHT
TZOFFSETFROM:+0100
TZOFFSETTO:+0200
TZNAME:CEST
DTSTART:20250330T010000
END:DAYLIGHT
BEGIN:STANDARD
TZOFFSETFROM:+0200
TZOFFSETTO:+0100
TZNAME:CET
DTSTART:20251026T010000
END:STANDARD
END:VTIMEZONE
BEGIN:VEVENT
DTSTART;TZID=Europe/Paris:20241005T100000
DTEND;TZID=Europe/Paris:20241005T123000
DTSTAMP:20260419T231835
CREATED:20241003T123141Z
LAST-MODIFIED:20241003T123141Z
UID:8206-1728122400-1728131400@www.lacasajeux.fr
SUMMARY:Flesh & Blood : tournoi Commoner
DESCRIPTION:Nouveau tournoi commoner à la boutique ! \nLe commoner est un format ou vous pouvez jouer seulement des communes dans votre deck (vous trouverez toutes les règles ici : https://fabtcg.com/resources/gameplay-formats/commoner/).\nBref\, un deck est vite monté\, et ça permet de revenir aux fondamentaux.\nIci les joueurs l’apprécient\, alors on joue ! \nLe PAF sera de 6€\, et chaque joueur repartira avec un booster d’une extension au choix.\nDes cartes promos d’anciens packs seront aussi distribuées en fonction des disponibilités !
URL:http://www.lacasajeux.fr/evenements/flesh-blood-tournoi-commoner-8/
LOCATION:La Casa’Jeux\, 22 rue d'Estienne d'Orves\, Alès\, Gard\, 30100\, France
CATEGORIES:Tournois
ATTACH;FMTTYPE=image/jpeg:http://www.lacasajeux.fr/wp-content/uploads/2024/10/20241005_FaB_commoner.jpg
ORGANIZER;CN="La Casa'Jeux":MAILTO:contact@lacasajeux.fr
END:VEVENT
BEGIN:VEVENT
DTSTART;TZID=Europe/Paris:20241005T140000
DTEND;TZID=Europe/Paris:20241005T170000
DTSTAMP:20260419T231835
CREATED:20240911T130519Z
LAST-MODIFIED:20240911T130519Z
UID:8175-1728136800-1728147600@www.lacasajeux.fr
SUMMARY:Découverte d'Age of Sigmar (au format Fer-de-lance)
DESCRIPTION:Une nouvelle version d’Age of Sigmar\, le jeu de bataille fantastique dans un univers médiéval fantastique de Games Workshop\, est sortie cet été. \nC’est la bonne occasion de découvrir le jeu. D’autant qu’ils en ont profité pour proposer une variante\, Fer-de-lance\, prévue pour découvrir le jeu en douceur\, avec des listes fixées\, moins de règles\, plus rapide\, et donc idéale pour découvrir en douceur ! \nNous organiserons plusieurs démos dans l’après-midi pour tester ce format ! \nCe sera aussi l’occasion de rencontrer d’autres joueurs\, puis\, pour ceux qui le souhaitent\, de commencer un Choix des Armes : le propos est de découvrir ensemble\, progressivement\, le jeu Age of Sigmar\, et de monter en parallèle notre première (ou nouvelle) armée. Ce format favorise une émulation entre les différents participants\, et permet de lisser l’apprentissage ainsi que les dépenses inhérentes au montage d’une armée. Concrètement\, ça se passera sur une période de 6 mois\, avec chaque mois des objectifs en terme d’achat\, de montage\, de peinture\, et de jeu. \nN’hésitez pas à passer demander plus d’infos à la boutique ! 🙂
URL:http://www.lacasajeux.fr/evenements/decouverte-dage-of-sigmar-au-format-fer-de-lance/
LOCATION:La Casa’Jeux\, 22\, rue d'Estienne d'Orves\, Alès\, 30100\, France
CATEGORIES:Démonstration
ATTACH;FMTTYPE=image/jpeg:http://www.lacasajeux.fr/wp-content/uploads/2024/09/20241005_AoS.jpg
END:VEVENT
BEGIN:VEVENT
DTSTART;TZID=Europe/Paris:20241005T140000
DTEND;TZID=Europe/Paris:20241005T180000
DTSTAMP:20260419T231835
CREATED:20241003T125732Z
LAST-MODIFIED:20241003T125732Z
UID:8212-1728136800-1728151200@www.lacasajeux.fr
SUMMARY:Magic : la Commander party Mornebrune
DESCRIPTION:Nouvelle Commander party à la boutique ! \nÇa donnera une après-midi de commander multijoueur\, avec des tables tirées au hasard (en essayant au maximum d’avoir des tables de 4 joueurs)\, et on enchainera autant de rondes que le temps nous le permettra (jusqu’à un peu avant la fermeture hein ! ^^). \nDe plus\, des règles additionnelles seront proposées pour s’immerger dans l’univers de Mornebrune\, la maison des horreurs…\nAinsi\, au centre de la table se trouvera un deck représentant les différentes pièces de la maison. En rituel\, vous pourrez dépenser du mana pour explorer celle-ci\, et vous déplacer de pièce en pièce ! \nLe PAF sera de 10€\, avec 1 booster Mornebrune\, 1 booster promo et une consommation offert à l’inscription. De plus\, après chaque partie\, le vainqueur de la table gagnera un booster promo Foil.\nD’anciennes promos seront aussi offerte en réalisant des objectifs distribués en début de journée ! \nPensez à vous pré-inscrire\, les places seront limitées !
URL:http://www.lacasajeux.fr/evenements/magic-la-commander-party-mornebrune/
LOCATION:La Casa’Jeux\, 22 Rue Estienne d'Orves\, Alès\, Gard\, 30100\, France
CATEGORIES:Tournois
ATTACH;FMTTYPE=image/jpeg:http://www.lacasajeux.fr/wp-content/uploads/2024/10/202401005_MTG_dsk_commanderparty.jpg
ORGANIZER;CN="La Casa'Jeux":MAILTO:contact@lacasajeux.fr
END:VEVENT
END:VCALENDAR