BEGIN:VCALENDAR
VERSION:2.0
PRODID:-//La Casa&#039;Jeux à Alès - ECPv6.15.20//NONSGML v1.0//EN
CALSCALE:GREGORIAN
METHOD:PUBLISH
X-WR-CALNAME:La Casa&#039;Jeux à Alès
X-ORIGINAL-URL:http://www.lacasajeux.fr
X-WR-CALDESC:Évènements pour La Casa&#039;Jeux à Alès
REFRESH-INTERVAL;VALUE=DURATION:PT1H
X-Robots-Tag:noindex
X-PUBLISHED-TTL:PT1H
BEGIN:VTIMEZONE
TZID:Europe/Paris
BEGIN:DAYLIGHT
TZOFFSETFROM:+0100
TZOFFSETTO:+0200
TZNAME:CEST
DTSTART:20250330T010000
END:DAYLIGHT
BEGIN:STANDARD
TZOFFSETFROM:+0200
TZOFFSETTO:+0100
TZNAME:CET
DTSTART:20251026T010000
END:STANDARD
BEGIN:DAYLIGHT
TZOFFSETFROM:+0100
TZOFFSETTO:+0200
TZNAME:CEST
DTSTART:20260329T010000
END:DAYLIGHT
BEGIN:STANDARD
TZOFFSETFROM:+0200
TZOFFSETTO:+0100
TZNAME:CET
DTSTART:20261025T010000
END:STANDARD
BEGIN:DAYLIGHT
TZOFFSETFROM:+0100
TZOFFSETTO:+0200
TZNAME:CEST
DTSTART:20270328T010000
END:DAYLIGHT
BEGIN:STANDARD
TZOFFSETFROM:+0200
TZOFFSETTO:+0100
TZNAME:CET
DTSTART:20271031T010000
END:STANDARD
END:VTIMEZONE
BEGIN:VEVENT
DTSTART;TZID=Europe/Paris:20260214T100000
DTEND;TZID=Europe/Paris:20260214T170000
DTSTAMP:20260422T155431
CREATED:20260204T171032Z
LAST-MODIFIED:20260206T191010Z
UID:9476-1771063200-1771088400@www.lacasajeux.fr
SUMMARY:Tournoi de Blood-Bowl à 7
DESCRIPTION:Chers amis fans du ballon à pointe\, grande nouvelle ! Un tournoi amical de Blood bowl à 7 aura lieu à la Casa Jeux samedi 14 février ! Le tournoi sera au format résurrection\, en ronde suisses\, 4 rondes. Une victoire rapportera 3 points\, un nul 1 point\, et une défaite zéro point. Le PAF sera de 10€ avec en prime une conso et un croissant. Pensez à vous inscrire auprès de la Casa Jeux si vous voulez participer les places étant limitées. Le début est à 10h00 – Fin estimée 17h00 Une partie du PAF sera redistribué en bons d’achats entre le Top 4 du tournoi. \n\n\n\n\n\n\n\nBloodbowl à 7 Késakoicé? Il s’agit d’une mouture du jeu plus rapide\, nerveuse et chaotique de notre jeu favori! C’est une super occasion de faire découvrir Bloodbowl également! Les règles sont les mêmes que pour Bloodbowl a quelques exceptions près: -Les équipes sont constituées de 7 joueurs sur le terrain\, et jusqu’à un maximum de 4 remplaçants (soit 11 joueurs maximum dans l’équipe) -Le terrain est plus petit (20 x 11 cases)\, et dispose d’un champ central qui est une des grandes différences avec Bloodbowl à 11 -Les parties se jouent en 2 mi temps de 6 tours\, les relances sont elles aussi limitées a 6 (même si les relances c’est pas courant à 7) Les règles de création d’une équipe sont les suivantes: -Le budget est fixé à 600.000 PO pour embaucher minimum 7 joueurs et prendre des coups de pouces\, pas de star player. -Vous pouvez inclure maximum 4 positionnels (joueurs qui NE SONT PAS des Lineman) dans votre liste\, en plus de respecter les restrictions de nombre maximum de joueurs par poste fixé par le choix de votre équipe -Les relances coûtent le DOUBLE de leur valeur initiale\n\n\n\n\n\n\n\n\nUn résumé exhaustif des règles sont disponible ici: https://drive.google.com/file/d/16DICpBJi44Z2pFjlUIcpqqSh8zK_nynX/view?usp=drive_link et contient tout ce que vous avez besoin pour pouvoir jouer à Seven. Notez que cette version ne tiens pas encore compte du passage a BB2025\, aussi nous avons fait quelques ajustements pour s’harmoniser au maximum avec celle ci\, à savoir :Règle de temporisation : Les fans de Blood Bowl à 7 sont moins nombreux mais aussi moins patient. Si un joueur « temporise » (Cf règle temporisation BB2025) lancez 1D6 sur un 1 rien en se passe\, sur un 2+ le joueur reçoit un projectile du public il est immédiatement plaqué. \nTableau de coup d’envoi : On utilisera une version du jeu 2025 très légèrement modifié\, il sera fourni pendant l’évènement. \nL’ensemble du corpus de règle de BB2025 s’appliquera normalement. \nPetit Twist :  A la fin de chaque match\, un joueur de votre équipe sera tiré au hasard et recevra une compétence primaire de votre choix pour le reste du tournoi. Lien utile : https://bbroster.com/new-team Vous permettra de créer directement votre fiche d’équipe pour Seven (en sélectionnant l’option Match Exhbition et Seven)
URL:http://www.lacasajeux.fr/evenements/tournoi-de-blood-bowl-a-7/
LOCATION:La Casa’Jeux\, 22 rue d'Estienne d'Orves\, Alès\, Gard\, 30100\, France
CATEGORIES:Tournois
ATTACH;FMTTYPE=image/jpeg:http://www.lacasajeux.fr/wp-content/uploads/2026/02/20260214_BB.jpg
END:VEVENT
END:VCALENDAR