BEGIN:VCALENDAR
VERSION:2.0
PRODID:-//La Casa&#039;Jeux à Alès - ECPv6.15.20//NONSGML v1.0//EN
CALSCALE:GREGORIAN
METHOD:PUBLISH
X-WR-CALNAME:La Casa&#039;Jeux à Alès
X-ORIGINAL-URL:http://www.lacasajeux.fr
X-WR-CALDESC:Évènements pour La Casa&#039;Jeux à Alès
REFRESH-INTERVAL;VALUE=DURATION:PT1H
X-Robots-Tag:noindex
X-PUBLISHED-TTL:PT1H
BEGIN:VTIMEZONE
TZID:Europe/Paris
BEGIN:DAYLIGHT
TZOFFSETFROM:+0100
TZOFFSETTO:+0200
TZNAME:CEST
DTSTART:20240331T010000
END:DAYLIGHT
BEGIN:STANDARD
TZOFFSETFROM:+0200
TZOFFSETTO:+0100
TZNAME:CET
DTSTART:20241027T010000
END:STANDARD
BEGIN:DAYLIGHT
TZOFFSETFROM:+0100
TZOFFSETTO:+0200
TZNAME:CEST
DTSTART:20250330T010000
END:DAYLIGHT
BEGIN:STANDARD
TZOFFSETFROM:+0200
TZOFFSETTO:+0100
TZNAME:CET
DTSTART:20251026T010000
END:STANDARD
BEGIN:DAYLIGHT
TZOFFSETFROM:+0100
TZOFFSETTO:+0200
TZNAME:CEST
DTSTART:20260329T010000
END:DAYLIGHT
BEGIN:STANDARD
TZOFFSETFROM:+0200
TZOFFSETTO:+0100
TZNAME:CET
DTSTART:20261025T010000
END:STANDARD
END:VTIMEZONE
BEGIN:VEVENT
DTSTART;TZID=Europe/Paris:20251221T090000
DTEND;TZID=Europe/Paris:20251221T170000
DTSTAMP:20260422T202514
CREATED:20251127T142925Z
LAST-MODIFIED:20251203T160549Z
UID:9283-1766307600-1766336400@www.lacasajeux.fr
SUMMARY:Tournoi de Blood-Bowl ! (saison 3)
DESCRIPTION:On profite des ouvertures de Noël pour vous proposer un tournoi de figurines ! \nEt la saison 3 de Blood-Bowl venant de sortir\, c’est la bonne occasion. \nLe PAf sera de 10€\, chaque joueur aura à l’inscription un café-croissant pour aider à démarrer\, ainsi que quelques goodies (pièce NAF\, badges\,…).\nLe tournoi se fera sur 3 rondes\, avec une pause repas au milieu. \nEn fin de journée\, le top 4 premiers se partageront des lots (la moitié de la PAF en bons d’achats à la boutique\, ainsi qu’un terrain necromantic\, le partage sera précisé le matin\, fonction du nombre de participants). \nAttention\, il n’y aura que 16 places. Il est vivement conseillé de se pré-inscrire ! \n[edit :\nEt voici donc les règles complètes pour ce beau tournoi !\nLa CASA BOWL est un tournoi en format « résurrection » (chaque match est joué avec son équipe de départ\, sans les blessures subies\, sans SPP\, et les joueurs expulsés reviennent …). Il y aura 3 matchs en rondes suisse. \nSystème de points pour déterminer le classement:\nVictoire: 3000pts\nNul: 1000pts\nPetite défaite: 250pts (écart de 1TD)\nDéfaite: 0pt \n* Départage des égalités :\nPremier tie breaker : V/N/D\nDeuxième tie breaker : affrontement direct\nTroisième : points adversaires\nQuatrième : points \n  \nRuleset (on est resté très simples\, pour attirer les nouveaux joueurs !) :\nChaque coach a un budget selon le Tier\, avec lequel il doit acheter un minimum de 11 joueurs avant de prendre des coups de pouces. \nTiers 1 [1000 kPO] :\nAmazones\, Bas Fonds\, Elfes noirs\, Elfes sylvains\, Hommes Lézards\, Morts vivants\, Nordiques\, Skaven.\nTiers 2 [1010 kPO] :\nAlliance du vieux monde\, Bretoniens\, Humains\, Khemris\, Nains\, Nains du Chaos\, Nécromantiques\, Noblesse impériale\, Orcs\, Union elfiques\, Vampires.\nTiers 3 [1030 kPO] :\nChaos Renégats\, Elus du Chaos\, Khorne\, Nurgle\, Orcs noirs.\nTiers 4 [1050 kPO ] :\nGnomes\, Gobelins\, Halflings\, Ogres\, Snotlings. \nLes coups de pouces suivants sont disponibles :\n• 0-5 Cheerleader pour 5k chacune\, disponible pour toutes les équipes.\n• 0-5 Coach assistant pour 20k chacune\, disponible pour toutes les équipes.\n• 0-1 Mascotte d’équipe pour 25k\, disponible pour toutes les équipes.\n• 0-1 Mage météo pour 25k\, disponible pour toutes les équipes.\n• 0-2 fût de Blitz premium pour 50k chacun\, disponible pour toutes les équipes.\n• 0-3 Pôt de vin pour 100k chacune\, disponible pour toutes les équipes. Pour les équipes avec « Chantage et Corruption » de 0-6 à 50k chacune.\n• 0-1 « Assistant Funéraire » pour 100k\, disponible pour les équipes avec la règle spéciale « Maître de la non vie ».\n• 0-1 « Médecin de la peste » pour 100k\, disponible pour les équipes avec la règle spéciale « Favori de Nurgle ».\n• 0-1 « Josef Bugman » pour 100k\, disponible pour toutes les équipes.\n• 0-1 « Arbitre partial » pour 100k\, disponible pour toutes les équipes. Pour les équipes avec « Chantage et Corruption » à 80k .\n• 0-1 « Débutants déchaînés » pour 150k\, disponible pour les équipes avec la règle spéciale « Trois quart à Vil Prix ».\n• 0-1 Chef Cuistot Halfling pour 300k\, disponible pour toutes les équipes. Pour les équipes de Halfling à 100k.\nPAS DE CHAMPION NI DE MERCENAIRE\n]
URL:http://www.lacasajeux.fr/evenements/tournoi-de-blood-bowl-saison-3/
LOCATION:La Casa’Jeux\, 22\, rue d'Estienne d'Orves\, Alès\, 30100\, France
CATEGORIES:Tournois
ATTACH;FMTTYPE=image/jpeg:http://www.lacasajeux.fr/wp-content/uploads/2025/11/20251221_bloodbowl.jpg
ORGANIZER;CN="La Casa'Jeux":MAILTO:contact@lacasajeux.fr
END:VEVENT
END:VCALENDAR