BEGIN:VCALENDAR
VERSION:2.0
PRODID:-//La Casa&#039;Jeux à Alès - ECPv6.15.20//NONSGML v1.0//EN
CALSCALE:GREGORIAN
METHOD:PUBLISH
X-WR-CALNAME:La Casa&#039;Jeux à Alès
X-ORIGINAL-URL:http://www.lacasajeux.fr
X-WR-CALDESC:Évènements pour La Casa&#039;Jeux à Alès
REFRESH-INTERVAL;VALUE=DURATION:PT1H
X-Robots-Tag:noindex
X-PUBLISHED-TTL:PT1H
BEGIN:VTIMEZONE
TZID:Europe/Paris
BEGIN:DAYLIGHT
TZOFFSETFROM:+0100
TZOFFSETTO:+0200
TZNAME:CEST
DTSTART:20250330T010000
END:DAYLIGHT
BEGIN:STANDARD
TZOFFSETFROM:+0200
TZOFFSETTO:+0100
TZNAME:CET
DTSTART:20251026T010000
END:STANDARD
BEGIN:DAYLIGHT
TZOFFSETFROM:+0100
TZOFFSETTO:+0200
TZNAME:CEST
DTSTART:20260329T010000
END:DAYLIGHT
BEGIN:STANDARD
TZOFFSETFROM:+0200
TZOFFSETTO:+0100
TZNAME:CET
DTSTART:20261025T010000
END:STANDARD
BEGIN:DAYLIGHT
TZOFFSETFROM:+0100
TZOFFSETTO:+0200
TZNAME:CEST
DTSTART:20270328T010000
END:DAYLIGHT
BEGIN:STANDARD
TZOFFSETFROM:+0200
TZOFFSETTO:+0100
TZNAME:CET
DTSTART:20271031T010000
END:STANDARD
END:VTIMEZONE
BEGIN:VEVENT
DTSTART;TZID=Europe/Paris:20260123T200000
DTEND;TZID=Europe/Paris:20260123T230000
DTSTAMP:20260422T185824
CREATED:20251211T142323Z
LAST-MODIFIED:20251211T142323Z
UID:9374-1769198400-1769209200@www.lacasajeux.fr
SUMMARY:Soirée Ramèn'ta fig !
DESCRIPTION:Dans la veine des soirées « Rencontres & JDR »\, la Casa’Jeux vous propose une soirée\, ayant vocation à devenir régulière\, mettant à l’honneur les jeux de figurines. \nEncore une fois\, ce créneau est libre\, et ouvert à tous.\nDes tables seront à disposition pour jouer (il faut ramener vos figs quand même hein !)\, pour peindre. \nVenez nous faire découvrir votre jeu fétiche\, partager vos talents\, commenter les parties en cours\, découvrir ce milieu\, que ce soit pour le jeu ou le modélisme\,…\nBref\, venez ! Vous verrez\, c’est chouette et les joueurs ne mordent pas ! (pas tous ^^) \nEt pour ceux qui veulent savoir les jeux qui seront joués\, on viendra mettre ce poste à jour quand les joueurs se seront annoncés et que le programme se précisera 😉
URL:http://www.lacasajeux.fr/evenements/soiree-ramenta-fig-3/
LOCATION:La Casa’Jeux\, 22\, rue d'Estienne d'Orves\, Alès\, 30100\, France
CATEGORIES:Démonstration
ATTACH;FMTTYPE=image/jpeg:http://www.lacasajeux.fr/wp-content/uploads/2025/12/20260123_ramentafig.jpg
END:VEVENT
END:VCALENDAR