BEGIN:VCALENDAR
VERSION:2.0
PRODID:-//La Casa&#039;Jeux à Alès - ECPv6.15.20//NONSGML v1.0//EN
CALSCALE:GREGORIAN
METHOD:PUBLISH
X-ORIGINAL-URL:http://www.lacasajeux.fr
X-WR-CALDESC:Évènements pour La Casa&#039;Jeux à Alès
REFRESH-INTERVAL;VALUE=DURATION:PT1H
X-Robots-Tag:noindex
X-PUBLISHED-TTL:PT1H
BEGIN:VTIMEZONE
TZID:Europe/Paris
BEGIN:DAYLIGHT
TZOFFSETFROM:+0100
TZOFFSETTO:+0200
TZNAME:CEST
DTSTART:20150329T010000
END:DAYLIGHT
BEGIN:STANDARD
TZOFFSETFROM:+0200
TZOFFSETTO:+0100
TZNAME:CET
DTSTART:20151025T010000
END:STANDARD
BEGIN:DAYLIGHT
TZOFFSETFROM:+0100
TZOFFSETTO:+0200
TZNAME:CEST
DTSTART:20160327T010000
END:DAYLIGHT
BEGIN:STANDARD
TZOFFSETFROM:+0200
TZOFFSETTO:+0100
TZNAME:CET
DTSTART:20161030T010000
END:STANDARD
BEGIN:DAYLIGHT
TZOFFSETFROM:+0100
TZOFFSETTO:+0200
TZNAME:CEST
DTSTART:20170326T010000
END:DAYLIGHT
BEGIN:STANDARD
TZOFFSETFROM:+0200
TZOFFSETTO:+0100
TZNAME:CET
DTSTART:20171029T010000
END:STANDARD
BEGIN:DAYLIGHT
TZOFFSETFROM:+0100
TZOFFSETTO:+0200
TZNAME:CEST
DTSTART:20180325T010000
END:DAYLIGHT
BEGIN:STANDARD
TZOFFSETFROM:+0200
TZOFFSETTO:+0100
TZNAME:CET
DTSTART:20181028T010000
END:STANDARD
BEGIN:DAYLIGHT
TZOFFSETFROM:+0100
TZOFFSETTO:+0200
TZNAME:CEST
DTSTART:20190331T010000
END:DAYLIGHT
BEGIN:STANDARD
TZOFFSETFROM:+0200
TZOFFSETTO:+0100
TZNAME:CET
DTSTART:20191027T010000
END:STANDARD
BEGIN:DAYLIGHT
TZOFFSETFROM:+0100
TZOFFSETTO:+0200
TZNAME:CEST
DTSTART:20200329T010000
END:DAYLIGHT
BEGIN:STANDARD
TZOFFSETFROM:+0200
TZOFFSETTO:+0100
TZNAME:CET
DTSTART:20201025T010000
END:STANDARD
BEGIN:DAYLIGHT
TZOFFSETFROM:+0100
TZOFFSETTO:+0200
TZNAME:CEST
DTSTART:20210328T010000
END:DAYLIGHT
BEGIN:STANDARD
TZOFFSETFROM:+0200
TZOFFSETTO:+0100
TZNAME:CET
DTSTART:20211031T010000
END:STANDARD
BEGIN:DAYLIGHT
TZOFFSETFROM:+0100
TZOFFSETTO:+0200
TZNAME:CEST
DTSTART:20220327T010000
END:DAYLIGHT
BEGIN:STANDARD
TZOFFSETFROM:+0200
TZOFFSETTO:+0100
TZNAME:CET
DTSTART:20221030T010000
END:STANDARD
END:VTIMEZONE
BEGIN:VEVENT
DTSTART;TZID=Europe/Paris:20210609T160000
DTEND;TZID=Europe/Paris:20210609T223000
DTSTAMP:20260420T073153
CREATED:20210530T182605Z
LAST-MODIFIED:20210530T182605Z
UID:5590-1623254400-1623277800@www.lacasajeux.fr
SUMMARY:Commander Night : Strixhaven
DESCRIPTION:C’est le retour des Commander Nights ! \nAprès une longue pause\, on peut remettre ça : tous les 15 jours\, une soirée commander en multijoueur détendue vous est proposée. \nAu menu des parties chacun pour sa peau\, des objectifs à accomplir\, des récompenses pour le beau jeu\, le fair-play et l’originalité… \nEt en fin de soirée\, des lots seront distribués à tous les joueurs 🙂 \n2 sessions sont prévues pour le moment :\n_ le mercredi 9 Juin\n_ le mercredi 23 Juin \nLa période étant ce qu’elle est\, on commencera plus tôt qu’avant\, afin que tout le monde puisse être rentré pour le couvre-feu. \nAinsi la première partie aura lieu à 16h\, et après une courte pause repas (organisez-vous au mieux\, prévoyez\, pour que celle-ci ne soit pas trop longue ;))\, on enchainera avec la seconde.\nL’idée étant de finir à 22h30\, pour que tout le monde puisse rentrer en temps et en heure 🙂 \nUne participation aux lots de 5€ est demandé. \nPensez à vous pré-inscrire\, les places seront limitées 😉
URL:http://www.lacasajeux.fr/evenements/commander-night-strixhaven/
LOCATION:La Casa’Jeux\, 22 rue d'Estienne d'Orves\, Alès\, Gard\, 30100\, France
CATEGORIES:Tournois
ATTACH;FMTTYPE=image/jpeg:http://www.lacasajeux.fr/wp-content/uploads/2021/05/202106_commandersnight.jpg
END:VEVENT
BEGIN:VEVENT
DTSTART;TZID=Europe/Paris:20201007T190000
DTEND;TZID=Europe/Paris:20201007T230000
DTSTAMP:20260420T073153
CREATED:20200825T131815Z
LAST-MODIFIED:20200825T131815Z
UID:5151-1602097200-1602111600@www.lacasajeux.fr
SUMMARY:commander's Night : renaissance de Zendikar
DESCRIPTION:Après le succès des commander’s night de cet été\, on renouvelle avec renaissance de Zendikar.\n\n\n \n\n\nTous les 15 jours\, une soirée commander en multijoueur détendue vous est proposée.\n\n\n \n\n\nAu menu des parties chacun pour sa peau\, des objectifs à accomplir\, des récompenses pour le beau jeu\, le fair-play et l’originalité…\n\n\n \n\n\nEt en fin de soirée\, des lots seront distribués à tous les joueurs 🙂\n\n\n \n\n\n5 sessions sont prévues pour la saison Zendikar : \n\n\n_ le mercredi 23 Septembre\n\n\n_ le mercredi 7 Octobre\n\n\n_ le mercredi 21 Octobre\n\n\n_ le mercredi 4 Novembre\n\n\n_ le mercredi 18 Novembre\n\n\n \n\n\nOn enchaine à 19h\, à la fermeture du magasin.\n\n\n \n\n\nPensez à vous pré-inscrire\, les places seront limitées 😉
URL:http://www.lacasajeux.fr/evenements/commanders-night-renaissance-de-zendikar-2/
LOCATION:La Casa’Jeux\, 22\, rue d'Estienne d'Orves\, Alès\, 30100\, France
CATEGORIES:Tournois
ATTACH;FMTTYPE=image/jpeg:http://www.lacasajeux.fr/wp-content/uploads/2020/08/202009_commandersnight.jpg
END:VEVENT
BEGIN:VEVENT
DTSTART;TZID=Europe/Paris:20200923T190000
DTEND;TZID=Europe/Paris:20200923T230000
DTSTAMP:20260420T073153
CREATED:20200825T130213Z
LAST-MODIFIED:20200825T130213Z
UID:5148-1600887600-1600902000@www.lacasajeux.fr
SUMMARY:Commander's Night : renaissance de Zendikar
DESCRIPTION:Après le succès des commander’s night de cet été\, on renouvelle avec renaissance de Zendikar.\n\n\n \n\n\nTous les 15 jours\, une soirée commander en multijoueur détendue vous est proposée.\n\n\n \n\n\nAu menu des parties chacun pour sa peau\, des objectifs à accomplir\, des récompenses pour le beau jeu\, le fair-play et l’originalité…\n\n\n \n\n\nEt en fin de soirée\, des lots seront distribués à tous les joueurs 🙂\n\n\n \n\n\n5 sessions sont prévues pour la saison Zendikar : \n\n\n_ le mercredi 23 Septembre\n\n\n_ le mercredi 7 Octobre\n\n\n_ le mercredi 21 Octobre\n\n\n_ le mercredi 4 Novembre\n\n\n_ le mercredi 18 Novembre\n\n\n \n\n\nOn enchaine à 19h\, à la fermeture du magasin.\n\n\n \n\n\nPensez à vous pré-inscrire\, les places seront limitées 😉
URL:http://www.lacasajeux.fr/evenements/commanders-night-renaissance-de-zendikar/
LOCATION:La Casa’Jeux\, 22\, rue d'Estienne d'Orves\, Alès\, 30100\, France
CATEGORIES:Tournois
ATTACH;FMTTYPE=image/jpeg:http://www.lacasajeux.fr/wp-content/uploads/2020/08/202009_commandersnight.jpg
END:VEVENT
BEGIN:VEVENT
DTSTART;TZID=Europe/Paris:20200826T190000
DTEND;TZID=Europe/Paris:20200826T230000
DTSTAMP:20260420T073153
CREATED:20200702T155223Z
LAST-MODIFIED:20200702T162929Z
UID:5056-1598468400-1598482800@www.lacasajeux.fr
SUMMARY:Les commander's Night de l'été
DESCRIPTION:Cette année sera celle du commander\, a annoncé wizards.\n\n\n \n\n\nEn tout cas\, ils nous donnent pleins de belles choses à tester.\n\n\n \n\n\nEt pour le tester\, quoi de mieux qu’une soirée\, avec des copains\, à 4 ou 5 autour d’une table ?\n\n\n \n\n\nPour pimenter le tout\, des feuilles d’objectifs seront distribuées à chaque joueur\, avec des objectifs à remplir très diverses\, pour repartir avec des promos en plus 😉\n\n\n \n\n\n4 sessions sont prévues : \n\n\n_ le mercredi 8 Juillet\n\n\n_ le mercredi 22 Juillet\n\n\n_ le mercredi 5 Août\n\n\n_ le mercredi 26 Août\n\n\n \n\n\nOn enchaine à 19h\, à la fermeture du magasin.\n\n\n \n\n\nPensez à vous pré-inscrire\, les places seront limitées 😉
URL:http://www.lacasajeux.fr/evenements/les-commanders-night-de-lete-4/
LOCATION:La Casa’Jeux\, 22\, rue d'Estienne d'Orves\, Alès\, 30100\, France
CATEGORIES:Divers
ATTACH;FMTTYPE=image/jpeg:http://www.lacasajeux.fr/wp-content/uploads/2020/07/202007_commandersnight_magic.jpg
END:VEVENT
BEGIN:VEVENT
DTSTART;TZID=Europe/Paris:20200805T190000
DTEND;TZID=Europe/Paris:20200805T230000
DTSTAMP:20260420T073153
CREATED:20200702T155057Z
LAST-MODIFIED:20200702T162909Z
UID:5054-1596654000-1596668400@www.lacasajeux.fr
SUMMARY:Les commander's Night de l'été
DESCRIPTION:Cette année sera celle du commander\, a annoncé wizards.\n\n\n \n\n\nEn tout cas\, ils nous donnent pleins de belles choses à tester.\n\n\n \n\n\nEt pour le tester\, quoi de mieux qu’une soirée\, avec des copains\, à 4 ou 5 autour d’une table ?\n\n\n \n\n\nPour pimenter le tout\, des feuilles d’objectifs seront distribuées à chaque joueur\, avec des objectifs à remplir très diverses\, pour repartir avec des promos en plus 😉\n\n\n \n\n\n4 sessions sont prévues : \n\n\n_ le mercredi 8 Juillet\n\n\n_ le mercredi 22 Juillet\n\n\n_ le mercredi 5 Août\n\n\n_ le mercredi 26 Août\n\n\n \n\n\nOn enchaine à 19h\, à la fermeture du magasin.\n\n\n \n\n\nPensez à vous pré-inscrire\, les places seront limitées 😉
URL:http://www.lacasajeux.fr/evenements/les-commanders-night-de-lete-3/
LOCATION:La Casa’Jeux\, 22 Rue Estienne d'Orves\, Alès\, Gard\, 30100\, France
CATEGORIES:Divers
ATTACH;FMTTYPE=image/jpeg:http://www.lacasajeux.fr/wp-content/uploads/2020/07/202007_commandersnight_magic.jpg
END:VEVENT
BEGIN:VEVENT
DTSTART;TZID=Europe/Paris:20200724T210000
DTEND;TZID=Europe/Paris:20200724T233000
DTSTAMP:20260420T073153
CREATED:20200702T124940Z
LAST-MODIFIED:20200702T124940Z
UID:5030-1595624400-1595633400@www.lacasajeux.fr
SUMMARY:FNM : Duel Commander
DESCRIPTION:Retour du format Duel Commander pendant les FNM !\n\n\n \n\n\nVenez affronter les autres joueurs dans ce format apprécié par la communauté !\n\n\n \n\n\nle PAF sera de 5€\, et chaque joueur repartira avec des lots !
URL:http://www.lacasajeux.fr/evenements/fnm-duel-commander-3/
LOCATION:La Casa’Jeux\, 22\, rue d'Estienne d'Orves\, Alès\, 30100\, France
CATEGORIES:Tournois
ATTACH;FMTTYPE=image/jpeg:http://www.lacasajeux.fr/wp-content/uploads/2020/07/20200724_FNM_duelco_magic.jpg
END:VEVENT
BEGIN:VEVENT
DTSTART;TZID=Europe/Paris:20200722T190000
DTEND;TZID=Europe/Paris:20200722T230000
DTSTAMP:20260420T073153
CREATED:20200702T154931Z
LAST-MODIFIED:20200702T162847Z
UID:5052-1595444400-1595458800@www.lacasajeux.fr
SUMMARY:Les commander's Night de l'été
DESCRIPTION:Cette année sera celle du commander\, a annoncé wizards.\n\n\n \n\n\nEn tout cas\, ils nous donnent pleins de belles choses à tester.\n\n\n \n\n\nEt pour le tester\, quoi de mieux qu’une soirée\, avec des copains\, à 4 ou 5 autour d’une table ?\n\n\n \n\n\nPour pimenter le tout\, des feuilles d’objectifs seront distribuées à chaque joueur\, avec des objectifs à remplir très diverses\, pour repartir avec des promos en plus 😉\n\n\n \n\n\n4 sessions sont prévues : \n\n\n_ le mercredi 8 Juillet\n\n\n_ le mercredi 22 Juillet\n\n\n_ le mercredi 5 Août\n\n\n_ le mercredi 26 Août\n\n\n \n\n\nOn enchaine à 19h\, à la fermeture du magasin.\n\n\n \n\n\nPensez à vous pré-inscrire\, les places seront limitées 😉
URL:http://www.lacasajeux.fr/evenements/les-commanders-night-de-lete-2/
LOCATION:La Casa’Jeux\, 22\, rue d'Estienne d'Orves\, Alès\, 30100\, France
CATEGORIES:Divers
ATTACH;FMTTYPE=image/jpeg:http://www.lacasajeux.fr/wp-content/uploads/2020/07/202007_commandersnight_magic.jpg
END:VEVENT
BEGIN:VEVENT
DTSTART;TZID=Europe/Paris:20200708T190000
DTEND;TZID=Europe/Paris:20200708T230000
DTSTAMP:20260420T073153
CREATED:20200702T154757Z
LAST-MODIFIED:20200702T162750Z
UID:5049-1594234800-1594249200@www.lacasajeux.fr
SUMMARY:Les commander's Night de l'été
DESCRIPTION:Cette année sera celle du commander\, a annoncé wizards.\n\n\n \n\n\nEn tout cas\, ils nous donnent pleins de belles choses à tester.\n\n\n \n\n\nEt pour le tester\, quoi de mieux qu’une soirée\, avec des copains\, à 4 ou 5 autour d’une table ?\n\n\n \n\n\nPour pimenter le tout\, des feuilles d’objectifs seront distribuées à chaque joueur\, avec des objectifs à remplir très diverses\, pour repartir avec des promos en plus 😉\n\n\n \n\n\n4 sessions sont prévues : \n\n\n_ le mercredi 8 Juillet\n\n\n_ le mercredi 22 Juillet\n\n\n_ le mercredi 5 Août\n\n\n_ le mercredi 26 Août\n\n\n \n\n\nOn enchaine à 19h\, à la fermeture du magasin.\n\n\n \n\n\nPensez à vous pré-inscrire\, les places seront limitées 😉
URL:http://www.lacasajeux.fr/evenements/les-commanders-night-de-lete/
LOCATION:La Casa’Jeux\, 22\, rue d'Estienne d'Orves\, Alès\, 30100\, France
CATEGORIES:Démonstration
ATTACH;FMTTYPE=image/jpeg:http://www.lacasajeux.fr/wp-content/uploads/2020/07/202007_commandersnight_magic.jpg
ORGANIZER;CN="La Casa'Jeux":MAILTO:contact@lacasajeux.fr
END:VEVENT
BEGIN:VEVENT
DTSTART;TZID=Europe/Paris:20200207T210000
DTEND;TZID=Europe/Paris:20200207T233000
DTSTAMP:20260420T073153
CREATED:20200128T170342Z
LAST-MODIFIED:20200128T170342Z
UID:4734-1581109200-1581118200@www.lacasajeux.fr
SUMMARY:FNM : Duel Commander
DESCRIPTION:Retour du format Duel Commander pendant les FNM !\n\n\n \n\n\nVenez affronter les autres joueurs dans ce format apprécié par la communauté !\n\n\n \n\n\nle PAF sera de 10€\, et chaque joueur repartira avec des lots !
URL:http://www.lacasajeux.fr/evenements/fnm-duel-commander/
LOCATION:La Casa’Jeux\, 22 rue d'Estienne d'Orves\, Alès\, Gard\, 30100\, France
CATEGORIES:Tournois
ATTACH;FMTTYPE=image/jpeg:http://www.lacasajeux.fr/wp-content/uploads/2020/01/20200207_FNM_EDH.jpg
ORGANIZER;CN="La Casa'Jeux":MAILTO:contact@lacasajeux.fr
END:VEVENT
BEGIN:VEVENT
DTSTART;TZID=Europe/Paris:20200111T140000
DTEND;TZID=Europe/Paris:20200111T180000
DTSTAMP:20260420T073153
CREATED:20191229T160738Z
LAST-MODIFIED:20191229T160738Z
UID:4676-1578751200-1578765600@www.lacasajeux.fr
SUMMARY:Magic : tournoi au format Brawl !
DESCRIPTION:Le Brawl est un nouveau format\, à mi-chemin entre le standard et le commander.\n\n\n \n\n\nMontez votre deck et venez affronter les autres joueurs !\n\n\n \n\n\nLe PAF sera de 5€\, et chaque joueur repartira avec des lots (promos\, boosters\,…).\n\n\n \n\n\nN’hésitez pas à venir chercher des informations à la boutique !
URL:http://www.lacasajeux.fr/evenements/magic-tournoi-au-format-brawl-3/
LOCATION:La Casa’Jeux\, 22\, rue d'Estienne d'Orves\, Alès\, 30100\, France
CATEGORIES:Tournois
ATTACH;FMTTYPE=image/jpeg:http://www.lacasajeux.fr/wp-content/uploads/2019/12/Magic_Brawl_202011.jpg
END:VEVENT
BEGIN:VEVENT
DTSTART;TZID=Europe/Paris:20191214T140000
DTEND;TZID=Europe/Paris:20191214T180000
DTSTAMP:20260420T073153
CREATED:20191128T220752Z
LAST-MODIFIED:20191128T220752Z
UID:4638-1576332000-1576346400@www.lacasajeux.fr
SUMMARY:Magic : tournoi au format Brawl !
DESCRIPTION:Le Brawl est un nouveau format\, à mi-chemin entre le standard et le commander.\n\n\n \n\n\nMontez votre deck et venez affronter les autres joueurs !\n\n\n \n\n\nLe PAF sera de 5€\, et chaque joueur repartira avec des lots (promos\, boosters\,…).\n\n\n \n\n\nN’hésitez pas à venir chercher des informations à la boutique !
URL:http://www.lacasajeux.fr/evenements/magic-tournoi-au-format-brawl-2/
LOCATION:La Casa’Jeux\, 22\, rue d'Estienne d'Orves\, Alès\, 30100\, France
CATEGORIES:Tournois
ATTACH;FMTTYPE=image/jpeg:http://www.lacasajeux.fr/wp-content/uploads/2019/11/Magic_Brawl_20191214.jpg
END:VEVENT
BEGIN:VEVENT
DTSTART;TZID=Europe/Paris:20190608T140000
DTEND;TZID=Europe/Paris:20190608T180000
DTSTAMP:20260420T073153
CREATED:20190522T211721Z
LAST-MODIFIED:20190522T211721Z
UID:4257-1560002400-1560016800@www.lacasajeux.fr
SUMMARY:Avant-Première Magic : Horizons du Modern
DESCRIPTION:Une nouvelle extension Magic\, désignée spécialement pour les joueurs connaisseurs\, joueurs de formats bodybuildés tel que le Modern (en tête)\, mais aussi l’EDH ou encore le legacy\, arrive…\n\n\n \n\n\nVenez drafter celle-ci une semaine avant sa sortie officielle à la Casa’Jeux !\n\n\n \n\n\nLe PAF est de 25€ par joueur\, chaque joueur repartira avec les cartes qu’il aura pické\, une promo exclusive à l’évènement\, et le gagnant repartira avec un booster supplémentaire (plus selon le nombre de participants…).
URL:http://www.lacasajeux.fr/evenements/avant-premiere-magic-horizons-du-modern/
LOCATION:La Casa’Jeux\, 22\, rue d'Estienne d'Orves\, Alès\, 30100\, France
CATEGORIES:Tournois
ATTACH;FMTTYPE=image/jpeg:http://www.lacasajeux.fr/wp-content/uploads/2019/05/AP-Modern-Horizons.jpg
END:VEVENT
BEGIN:VEVENT
DTSTART;TZID=Europe/Paris:20180811T140000
DTEND;TZID=Europe/Paris:20180811T180000
DTSTAMP:20260420T073153
CREATED:20180731T142802Z
LAST-MODIFIED:20180731T142802Z
UID:3638-1533996000-1534010400@www.lacasajeux.fr
SUMMARY:Lancement des packs commander 2018
DESCRIPTION:Les nouveaux packs commander pour Magic sont disponibles depuis hier.\n\n\n \n\n\nPrenez celui de votre choix\, affrontez les autres joueurs\, et repartez avec des promos !\n\n\n \n\n\nPassez en boutique demander toutes les infos ! 😉
URL:http://www.lacasajeux.fr/evenements/lancement-des-packs-commander-2018/
LOCATION:La Casa’Jeux\, 22 rue d'Estienne d'Orves\, Alès\, Gard\, 30100\, France
CATEGORIES:Tournois
ATTACH;FMTTYPE=image/jpeg:http://www.lacasajeux.fr/wp-content/uploads/2018/07/mtg-commander-2018.jpg
END:VEVENT
BEGIN:VEVENT
DTSTART;TZID=Europe/Paris:20171104T140000
DTEND;TZID=Europe/Paris:20171104T180000
DTSTAMP:20260420T073153
CREATED:20171026T132531Z
LAST-MODIFIED:20171026T132531Z
UID:3048-1509804000-1509818400@www.lacasajeux.fr
SUMMARY:Tournoi Magic Commander 1V1
DESCRIPTION:Suite à la pression des joueurs\, un nouveau tournoi commander individuel aura lieu ce samedi à la boutique.\n\n\n \n\n\nLe format se jouera cette fois-ci en 30PV\, avec la banlist en vigueur sur Magic online : https://magic.wizards.com/en/game-info/gameplay/rules-and-formats/banned-restricted/magic-online-commander\n\n\n \n\n\nLe PAF sera de 5€\, avec boosters et promos pour tous les joueurs.\n\n\n \n\n\nVenez affronter les généraux adverses\, et voir qui ressortira vainqueur de l’arène !
URL:http://www.lacasajeux.fr/evenements/tournoi-magic-commander-1v1/
LOCATION:La Casa’Jeux\, 22 rue d'Estienne d'Orves\, Alès\, Gard\, 30100\, France
CATEGORIES:Tournois
ATTACH;FMTTYPE=image/jpeg:http://www.lacasajeux.fr/wp-content/uploads/2017/09/magic_commander.jpg
END:VEVENT
BEGIN:VEVENT
DTSTART;TZID=Europe/Paris:20161119T140000
DTEND;TZID=Europe/Paris:20161119T180000
DTSTAMP:20260420T073153
CREATED:20161026T093548Z
LAST-MODIFIED:20161026T154148Z
UID:2519-1479564000-1479578400@www.lacasajeux.fr
SUMMARY:Tournoi Magic l'assemblée : Format EDH
DESCRIPTION:Avec la sortie des nouveaux decks commander\, c’est le bon moment de remettre un petit focus sur le format EDH !\n\n\n \n\n\nQuoi qu’est-ce que ce format ? \n\n\nTout est expliqué la : https://www.youtube.com/watch?v=wOfDspnR5o4\n\n\n \n\n\nLe format il y a quelques années\, et a su trouvé son plublic.\n\n\n \n\n\nMontez votre deck ou prenez-en un pré-construit à la boutique\, puis affrontez les autres joueurs !\n\n\n \n\n\nL’inscription à l’évènement est de 5€\, et tous les joueurs repartiront avec des lots !
URL:http://www.lacasajeux.fr/evenements/standard-magic-lassemblee-amenton-deck/
LOCATION:La Casa’Jeux\, 22\, rue d'Estienne d'Orves\, Alès\, 30100\, France
CATEGORIES:Tournois
ATTACH;FMTTYPE=image/jpeg:http://www.lacasajeux.fr/wp-content/uploads/2016/09/Kaladesh_twitter_1024x512.jpg
END:VEVENT
END:VCALENDAR