BEGIN:VCALENDAR
VERSION:2.0
PRODID:-//La Casa&#039;Jeux à Alès - ECPv6.15.20//NONSGML v1.0//EN
CALSCALE:GREGORIAN
METHOD:PUBLISH
X-ORIGINAL-URL:http://www.lacasajeux.fr
X-WR-CALDESC:Évènements pour La Casa&#039;Jeux à Alès
REFRESH-INTERVAL;VALUE=DURATION:PT1H
X-Robots-Tag:noindex
X-PUBLISHED-TTL:PT1H
BEGIN:VTIMEZONE
TZID:Europe/Paris
BEGIN:DAYLIGHT
TZOFFSETFROM:+0100
TZOFFSETTO:+0200
TZNAME:CEST
DTSTART:20240331T010000
END:DAYLIGHT
BEGIN:STANDARD
TZOFFSETFROM:+0200
TZOFFSETTO:+0100
TZNAME:CET
DTSTART:20241027T010000
END:STANDARD
BEGIN:DAYLIGHT
TZOFFSETFROM:+0100
TZOFFSETTO:+0200
TZNAME:CEST
DTSTART:20250330T010000
END:DAYLIGHT
BEGIN:STANDARD
TZOFFSETFROM:+0200
TZOFFSETTO:+0100
TZNAME:CET
DTSTART:20251026T010000
END:STANDARD
BEGIN:DAYLIGHT
TZOFFSETFROM:+0100
TZOFFSETTO:+0200
TZNAME:CEST
DTSTART:20260329T010000
END:DAYLIGHT
BEGIN:STANDARD
TZOFFSETFROM:+0200
TZOFFSETTO:+0100
TZNAME:CET
DTSTART:20261025T010000
END:STANDARD
END:VTIMEZONE
BEGIN:VEVENT
DTSTART;TZID=Europe/Paris:20250808T190000
DTEND;TZID=Europe/Paris:20250808T230000
DTSTAMP:20260419T165124
CREATED:20250717T110640Z
LAST-MODIFIED:20250717T110640Z
UID:8914-1754679600-1754694000@www.lacasajeux.fr
SUMMARY:Flesh & Blood : Evènement de lancement du Mastery pack Gardien !
DESCRIPTION:Pour fêter la sortie du mastery pack guardian\, on vous propose de tester un peu le format crack\, shuffle & play.\nChaque joueur aura 3 boosters\, les ouvrira\, enlèvera les tokens\, et jouera avec ça (chaque joueur aura Valda comme héros). \nLe tournoi se fera en rondes suisses\, et si on a un peu de temps à la fin\, on fera une mélée finale pour voir qui reste debout ! 🙂 \nLe PAF sera de 15€ (le prix des boosters)\, le gagnant de la partie 1v1 et de la partie multi auront un GEM booster\, et 3 autres GEM boosters seront distribués au hasard dans la soirée. \nOn distribuera aussi d’anciennes promos à tous les participants ! \nPrêts pour le retour triomphale des gardiens ?? ^^
URL:http://www.lacasajeux.fr/evenements/flesh-blood-evenement-de-lancement-du-mastery-pack-gardien/
LOCATION:La Casa’Jeux\, 22 Rue Estienne d'Orves\, Alès\, Gard\, 30100\, France
CATEGORIES:Tournois
ATTACH;FMTTYPE=image/jpeg:http://www.lacasajeux.fr/wp-content/uploads/2025/07/20250808_FaB_3pack.jpg
ORGANIZER;CN="La Casa'Jeux":MAILTO:contact@lacasajeux.fr
END:VEVENT
END:VCALENDAR