BEGIN:VCALENDAR
VERSION:2.0
PRODID:-//La Casa&#039;Jeux à Alès - ECPv6.15.20//NONSGML v1.0//EN
CALSCALE:GREGORIAN
METHOD:PUBLISH
X-ORIGINAL-URL:http://www.lacasajeux.fr
X-WR-CALDESC:Évènements pour La Casa&#039;Jeux à Alès
REFRESH-INTERVAL;VALUE=DURATION:PT1H
X-Robots-Tag:noindex
X-PUBLISHED-TTL:PT1H
BEGIN:VTIMEZONE
TZID:Europe/Paris
BEGIN:DAYLIGHT
TZOFFSETFROM:+0100
TZOFFSETTO:+0200
TZNAME:CEST
DTSTART:20170326T010000
END:DAYLIGHT
BEGIN:STANDARD
TZOFFSETFROM:+0200
TZOFFSETTO:+0100
TZNAME:CET
DTSTART:20171029T010000
END:STANDARD
BEGIN:DAYLIGHT
TZOFFSETFROM:+0100
TZOFFSETTO:+0200
TZNAME:CEST
DTSTART:20180325T010000
END:DAYLIGHT
BEGIN:STANDARD
TZOFFSETFROM:+0200
TZOFFSETTO:+0100
TZNAME:CET
DTSTART:20181028T010000
END:STANDARD
BEGIN:DAYLIGHT
TZOFFSETFROM:+0100
TZOFFSETTO:+0200
TZNAME:CEST
DTSTART:20190331T010000
END:DAYLIGHT
BEGIN:STANDARD
TZOFFSETFROM:+0200
TZOFFSETTO:+0100
TZNAME:CET
DTSTART:20191027T010000
END:STANDARD
END:VTIMEZONE
BEGIN:VEVENT
DTSTART;TZID=Europe/Paris:20181103T140000
DTEND;TZID=Europe/Paris:20181103T170000
DTSTAMP:20260424T020344
CREATED:20180926T110506Z
LAST-MODIFIED:20180926T110506Z
UID:3708-1541253600-1541264400@www.lacasajeux.fr
SUMMARY:Standard showdown Guildes de Ravnica
DESCRIPTION:Les tournois standard showdown recommencent ! \nVenez avec votre deck\, affrontez les autres joueurs\, et repartez avec boosters standard showdowns exclusifs (fonction du nombre de joueur\, je complèterais avec des promos si je n’ai pas assez de booster ;)). \nEt c’est gratuit !! 😉
URL:http://www.lacasajeux.fr/evenements/standard-showdown-guildes-de-ravnica-3/
LOCATION:La Casa’Jeux\, 22\, rue d'Estienne d'Orves\, Alès\, 30100\, France
CATEGORIES:Tournois
ATTACH;FMTTYPE=image/jpeg:http://www.lacasajeux.fr/wp-content/uploads/2018/08/ravnica.jpg
END:VEVENT
BEGIN:VEVENT
DTSTART;TZID=Europe/Paris:20181020T140000
DTEND;TZID=Europe/Paris:20181020T170000
DTSTAMP:20260424T020344
CREATED:20180926T105722Z
LAST-MODIFIED:20180926T105722Z
UID:3704-1540044000-1540054800@www.lacasajeux.fr
SUMMARY:Standard showdown Guildes de Ravnica
DESCRIPTION:Les tournois standard showdown recommencent ! \nVenez avec votre deck\, affrontez les autres joueurs\, et repartez avec boosters standard showdowns exclusifs (fonction du nombre de joueur\, je complèterais avec des promos si je n’ai pas assez de booster ;)). \nEt c’est gratuit !! 😉
URL:http://www.lacasajeux.fr/evenements/standard-showdown-guildes-de-ravnica/
LOCATION:La Casa’Jeux\, 22\, rue d'Estienne d'Orves\, Alès\, 30100\, France
CATEGORIES:Tournois
ATTACH;FMTTYPE=image/jpeg:http://www.lacasajeux.fr/wp-content/uploads/2018/08/ravnica.jpg
ORGANIZER;CN="La Casa'Jeux":MAILTO:contact@lacasajeux.fr
END:VEVENT
BEGIN:VEVENT
DTSTART;TZID=Europe/Paris:20181009T140000
DTEND;TZID=Europe/Paris:20181009T190000
DTSTAMP:20260424T020344
CREATED:20180926T112924Z
LAST-MODIFIED:20180926T112924Z
UID:3728-1539093600-1539111600@www.lacasajeux.fr
SUMMARY:Lancement de la ligue Magic : Guildes de Ravnica
DESCRIPTION:Vous venez d’apprendre Magic\, et/ou voulez ouvrir des boosters doucement\, en profitant des cartes que vous trouvez ?\n\n\n \n\n\nBienvenue dans la ligue Guildes de Ravnica !\n\n\n \n\n\n \n\n\nChaque joueur commencera avec 3 boosters\, et fera un deck avec. Ensuite\, vous pourrez ajouter 1 booster par semaine pour améliorer celui-ci.\n\n\n \n\n\nUn bon moyen de commencer doucement sa collection de cartes 🙂\n\n\n \n\n\nToutes les infos en boutique !
URL:http://www.lacasajeux.fr/evenements/lancement-de-la-ligue-magic-guildes-de-ravnica/
LOCATION:La Casa’Jeux\, 22\, rue d'Estienne d'Orves\, Alès\, 30100\, France
CATEGORIES:Tournois
ATTACH;FMTTYPE=image/jpeg:http://www.lacasajeux.fr/wp-content/uploads/2018/08/ravnica.jpg
END:VEVENT
BEGIN:VEVENT
DTSTART;TZID=Europe/Paris:20181006T140000
DTEND;TZID=Europe/Paris:20181006T180000
DTSTAMP:20260424T020344
CREATED:20180926T131058Z
LAST-MODIFIED:20180926T131058Z
UID:3747-1538834400-1538848800@www.lacasajeux.fr
SUMMARY:Guildes de Ravnica Draft week-end
DESCRIPTION:Sortie de la nouvelle extension !…\n\n\nEt donc\, première occasion de la drafter.\n\n\n \n\n\nUn draft sera donc organisé ce samedi 14h\, pour tester l’extension.\n\n\n \n\n\nLe PAF sera comme d’habitude de 12.5€\, avec redistribution des rares la fin\, et des boosters pour les derniers.\n\n\nChaque joueur repartira aussi une carte foil exclusive au draft week-end !\n\n\n \n\n\nPensez que l’extension sort vendredi\, et que vous pouvez profiter des FNM pour drafter aussi\, et repartir avec les promos FNM exclusives 😉
URL:http://www.lacasajeux.fr/evenements/guildes-de-ravnica-draft-week-end/
LOCATION:La Casa’Jeux\, 22\, rue d'Estienne d'Orves\, Alès\, 30100\, France
CATEGORIES:Tournois
ATTACH;FMTTYPE=image/jpeg:http://www.lacasajeux.fr/wp-content/uploads/2018/08/ravnica.jpg
ORGANIZER;CN="La Casa'Jeux":MAILTO:contact@lacasajeux.fr
END:VEVENT
BEGIN:VEVENT
DTSTART;TZID=Europe/Paris:20180929T090000
DTEND;TZID=Europe/Paris:20180929T190000
DTSTAMP:20260424T020344
CREATED:20180814T132744Z
LAST-MODIFIED:20180814T132744Z
UID:3674-1538211600-1538247600@www.lacasajeux.fr
SUMMARY:Avant-premières et Pre-release party Magic Guildes de Ravnica
DESCRIPTION:Après avoir découvert Magic lors de l’open house\, venez récupérer en avant-premières vos premières cartes de la nouvelle extension : Guildes de Ravnica.\n\n\n \n\n\nL’extension est très attendue\, et vous aurez 2 occasions d’en profiter\, une semaine avant sa sortie : \n\n\n_ La première aura lieu à 9h\, et se fera en 3 ou 4 rondes selon le nombre de participants.\n\n\n_ La seconde se fera dans la foulée à 14h..\n\n\n \n\n\nLe prix d’inscription pour chaque avant-première sera de 25€\, chaque participant repartira avec 2 boosters supplémentaires en lots\, ainsi que des cartes promos. Les joueurs faisant les 2 avant-premières se verront offrir leur sandwich le midi 😉\n\n\n \n\n\nLe nombre de places étant limitées\, pensez à vous pré-inscrire ! 😉\n\n\n \n\n\nN’hésitez pas à demander plus d’infos en boutique 😉\n\n\n \n\n\n \n\n\n \n\n\nPour les joueurs ayant moins de temps\, vous aurez toujours la possibilité de participer à la pre-release party : vous prenez votre pack d’avant-première\, vous faites votre deck\, et vous jouez contre un joueur de votre choix. Pas plus d’obligation\, vous venez quand vous le voulez\, vous jouez contre qui vous voulez\, et vous partez quand vous le voulez !\n\n\n \n\n\n \n\n\nEt pensez aussi que pour ceux ayant précommandé des displays\, vous pourrez les récupérer dès ce week-end 😉
URL:http://www.lacasajeux.fr/evenements/avant-premieres-et-pre-release-party-magic-guildes-de-ravnica/
LOCATION:La Casa’Jeux\, 22 Rue Estienne d'Orves\, Alès\, Gard\, 30100\, France
CATEGORIES:Tournois
ATTACH;FMTTYPE=image/jpeg:http://www.lacasajeux.fr/wp-content/uploads/2018/08/ravnica.jpg
END:VEVENT
BEGIN:VEVENT
DTSTART;TZID=Europe/Paris:20180922T140000
DTEND;TZID=Europe/Paris:20180922T170000
DTSTAMP:20260424T020344
CREATED:20180814T131750Z
LAST-MODIFIED:20180814T132354Z
UID:3670-1537624800-1537635600@www.lacasajeux.fr
SUMMARY:Magic open house Guildes de Ravnica
DESCRIPTION:Venez découvrir Magic\, et repartez avec votre deck de démo GRATUIT\, et avec une carte promotionnelle exclusive !\n\n\n\n\n\nPlus d’infos en magasin !
URL:http://www.lacasajeux.fr/evenements/magic-open-house-core-2019-2/
LOCATION:La Casa’Jeux\, 22 rue d'Estienne d'Orves\, Alès\, Gard\, 30100\, France
CATEGORIES:Démonstration
ATTACH;FMTTYPE=image/jpeg:http://www.lacasajeux.fr/wp-content/uploads/2018/08/DSCF0139.jpg
END:VEVENT
END:VCALENDAR