BEGIN:VCALENDAR
VERSION:2.0
PRODID:-//La Casa&#039;Jeux à Alès - ECPv6.15.20//NONSGML v1.0//EN
CALSCALE:GREGORIAN
METHOD:PUBLISH
X-ORIGINAL-URL:http://www.lacasajeux.fr
X-WR-CALDESC:Évènements pour La Casa&#039;Jeux à Alès
REFRESH-INTERVAL;VALUE=DURATION:PT1H
X-Robots-Tag:noindex
X-PUBLISHED-TTL:PT1H
BEGIN:VTIMEZONE
TZID:Europe/Paris
BEGIN:DAYLIGHT
TZOFFSETFROM:+0100
TZOFFSETTO:+0200
TZNAME:CEST
DTSTART:20240331T010000
END:DAYLIGHT
BEGIN:STANDARD
TZOFFSETFROM:+0200
TZOFFSETTO:+0100
TZNAME:CET
DTSTART:20241027T010000
END:STANDARD
BEGIN:DAYLIGHT
TZOFFSETFROM:+0100
TZOFFSETTO:+0200
TZNAME:CEST
DTSTART:20250330T010000
END:DAYLIGHT
BEGIN:STANDARD
TZOFFSETFROM:+0200
TZOFFSETTO:+0100
TZNAME:CET
DTSTART:20251026T010000
END:STANDARD
BEGIN:DAYLIGHT
TZOFFSETFROM:+0100
TZOFFSETTO:+0200
TZNAME:CEST
DTSTART:20260329T010000
END:DAYLIGHT
BEGIN:STANDARD
TZOFFSETFROM:+0200
TZOFFSETTO:+0100
TZNAME:CET
DTSTART:20261025T010000
END:STANDARD
END:VTIMEZONE
BEGIN:VEVENT
DTSTART;TZID=Europe/Paris:20250103T203000
DTEND;TZID=Europe/Paris:20250103T233000
DTSTAMP:20260419T191321
CREATED:20241229T124505Z
LAST-MODIFIED:20241229T152429Z
UID:8434-1735936200-1735947000@www.lacasajeux.fr
SUMMARY:Magic : tournoi Duel Commander\, viens battre notre champion !
DESCRIPTION:Nouvelle FNM en Duel Commander à la boutique ! \nViens affronter notre champion : Kevin ! Invaincu au précédent tournoi\, saurez-vous arrêter sa série ?! \nLe PAF est de 10€\, et le tournoi durera 3 rondes\, quel que soit le nombre de joueurs.\nA l’inscription\, sera remis à chaque joueur un booster de jeu de la dernière extension du standard\, un booster promo Wizards\, ainsi qu’une consommation (boisson ou snack). \nAprès chaque victoire\, vous gagnerez un booster promo\, et ceux de la dernière ronde pour les joueurs invaincus seront foils. \nDe plus\, des objectifs supplémentaires vous seront proposés pour remporter d’anciennes promos :\n_ si vous battez le gagnant du tournoi précédent (chaque partie remportée)\n_ si vous êtes le gagnant du tournoi précédent et finissez une soirée invaincu\, vous repartirez avec les promos mises en jeu contre vous !\n_ si vous finissez dernier du tournoi\n_ si vous êtes le joueur le plus jeune du tournoi \n( cette liste est sujette à évoluer et changer au fur et à mesure des tournois\, et de mes et de vos idées !)
URL:http://www.lacasajeux.fr/evenements/magic-tournoi-duel-commander-viens-battre-notre-champion/
LOCATION:La Casa’Jeux\, 22\, rue d'Estienne d'Orves\, Alès\, 30100\, France
CATEGORIES:Tournois
ATTACH;FMTTYPE=image/jpeg:http://www.lacasajeux.fr/wp-content/uploads/2024/12/20250103_MTG_DuelCommander-copie-1.jpg
ORGANIZER;CN="La Casa'Jeux":MAILTO:contact@lacasajeux.fr
END:VEVENT
BEGIN:VEVENT
DTSTART;TZID=Europe/Paris:20250111T140000
DTEND;TZID=Europe/Paris:20250111T180000
DTSTAMP:20260419T191321
CREATED:20241229T143104Z
LAST-MODIFIED:20241229T143104Z
UID:8459-1736604000-1736618400@www.lacasajeux.fr
SUMMARY:Magic : Draft Fondations
DESCRIPTION:Nouveau draft Magic à la boutique ! \nOn passait un peu à côté des évènements limités depuis quelques temps\, alors qu’il y a des amateurs… \nAlors voici donc un draft de la dernière extension sortie ! \nLe PAF sera de 20€.\nChaque joueur aura à l’inscription ses 3 boosters\, ainsi qu’un booster promo.\nDe plus\, pendant le tournoi\, chaque joueur gagnera un booster promo après chaque victoire. \nChaque joueur repartira ensuite avec ce qu’il a pické.
URL:http://www.lacasajeux.fr/evenements/magic-draft-fondations/
LOCATION:La Casa’Jeux\, 22 rue d'Estienne d'Orves\, Alès\, Gard\, 30100\, France
CATEGORIES:Tournois
ATTACH;FMTTYPE=image/jpeg:http://www.lacasajeux.fr/wp-content/uploads/2024/12/20250110_MTG_draft.jpg
ORGANIZER;CN="La Casa'Jeux":MAILTO:contact@lacasajeux.fr
END:VEVENT
BEGIN:VEVENT
DTSTART;TZID=Europe/Paris:20250118T100000
DTEND;TZID=Europe/Paris:20250118T130000
DTSTAMP:20260419T191321
CREATED:20241229T144858Z
LAST-MODIFIED:20241229T144858Z
UID:8468-1737194400-1737205200@www.lacasajeux.fr
SUMMARY:Magic : tournoi Pauper
DESCRIPTION:Nouveau tournoi Pauper à la boutique ! \nLa nouvelle formule se teste aussi aux tournois Pauper. \nLe PAF sera donc 10€\, et le tournoi durera 3 rondes\, quel que soit le nombre de joueurs.\nA l’inscription\, sera remis à chaque joueur un booster de jeu de la dernière extension du standard\, un booster promo\, ainsi qu’une consommation (boisson ou snack). \nAprès chaque victoire\, vous gagnerez un booster promo\, et ceux de la dernière ronde pour les joueurs invaincus seront foils. \nDe plus\, des objectifs supplémentaires vous seront proposés pour remporter d’anciennes promos :\n_ si vous battez le gagnant du tournoi précédent\n_ si vous êtes le gagnant du tournoi précédent et finissez une soirée invaincu\n_ si vous finissez dernier du tournoi\n_ si vous êtes le joueur le plus jeune du tournoi \n( cette liste est sujette à évoluer et changer au fur et à mesure des tournois\, et de mes et de vos idées !)
URL:http://www.lacasajeux.fr/evenements/magic-tournoi-pauper-13/
LOCATION:La Casa’Jeux\, 22\, rue d'Estienne d'Orves\, Alès\, 30100\, France
CATEGORIES:Tournois
ATTACH;FMTTYPE=image/jpeg:http://www.lacasajeux.fr/wp-content/uploads/2024/12/20250118_MTG_pauper.jpg
ORGANIZER;CN="La Casa'Jeux":MAILTO:contact@lacasajeux.fr
END:VEVENT
BEGIN:VEVENT
DTSTART;TZID=Europe/Paris:20250118T140000
DTEND;TZID=Europe/Paris:20250118T180000
DTSTAMP:20260419T191321
CREATED:20241229T145151Z
LAST-MODIFIED:20241229T145151Z
UID:8471-1737208800-1737223200@www.lacasajeux.fr
SUMMARY:Magic : nouvel évènement en commander multijoueur !
DESCRIPTION:Nouvel évènement commander à la boutique ! \nÇa donnera une après-midi de commander multijoueur\, avec des tables tirées au hasard (en essayant au maximum d’avoir des tables de 4 joueurs)\, et on enchainera autant de rondes que le temps nous le permettra (jusqu’à un peu avant la fermeture hein ! ^^). \nLe PAF sera de 10€\, avec 1 booster Fondation\, et une consommation offert à l’inscription. De plus\, après chaque partie\, chaque joueur aura un booster promo\, le vainqueur de la table gagnera un booster promo Foil.\nD’anciennes promos seront aussi offerte en réalisant des objectifs distribués en début de journée ! \nPensez à vous pré-inscrire\, les places seront limitées !
URL:http://www.lacasajeux.fr/evenements/magic-nouvel-evenement-en-commander-multijoueur-2/
LOCATION:La Casa’Jeux\, 22 rue d'Estienne d'Orves\, Alès\, 30100\, France
CATEGORIES:Tournois
ATTACH;FMTTYPE=image/jpeg:http://www.lacasajeux.fr/wp-content/uploads/2024/12/20250118_MTG_multi.jpg
END:VEVENT
END:VCALENDAR