BEGIN:VCALENDAR
VERSION:2.0
PRODID:-//La Casa&#039;Jeux à Alès - ECPv6.15.20//NONSGML v1.0//EN
CALSCALE:GREGORIAN
METHOD:PUBLISH
X-ORIGINAL-URL:http://www.lacasajeux.fr
X-WR-CALDESC:Évènements pour La Casa&#039;Jeux à Alès
REFRESH-INTERVAL;VALUE=DURATION:PT1H
X-Robots-Tag:noindex
X-PUBLISHED-TTL:PT1H
BEGIN:VTIMEZONE
TZID:Europe/Paris
BEGIN:DAYLIGHT
TZOFFSETFROM:+0100
TZOFFSETTO:+0200
TZNAME:CEST
DTSTART:20240331T010000
END:DAYLIGHT
BEGIN:STANDARD
TZOFFSETFROM:+0200
TZOFFSETTO:+0100
TZNAME:CET
DTSTART:20241027T010000
END:STANDARD
BEGIN:DAYLIGHT
TZOFFSETFROM:+0100
TZOFFSETTO:+0200
TZNAME:CEST
DTSTART:20250330T010000
END:DAYLIGHT
BEGIN:STANDARD
TZOFFSETFROM:+0200
TZOFFSETTO:+0100
TZNAME:CET
DTSTART:20251026T010000
END:STANDARD
BEGIN:DAYLIGHT
TZOFFSETFROM:+0100
TZOFFSETTO:+0200
TZNAME:CEST
DTSTART:20260329T010000
END:DAYLIGHT
BEGIN:STANDARD
TZOFFSETFROM:+0200
TZOFFSETTO:+0100
TZNAME:CET
DTSTART:20261025T010000
END:STANDARD
END:VTIMEZONE
BEGIN:VEVENT
DTSTART;TZID=Europe/Paris:20250207T190000
DTEND;TZID=Europe/Paris:20250207T233000
DTSTAMP:20260419T173912
CREATED:20250129T220720Z
LAST-MODIFIED:20250129T220720Z
UID:8517-1738954800-1738971000@www.lacasajeux.fr
SUMMARY:Magic : Avant-première Aetherdrift
DESCRIPTION:Venez découvrir la nouvelle extension Magic ! \nCette fois-ci\, nous allons suivre une course à travers plusieurs plans (un mix entre les fous du volant\, et Magic !). \nPour découvrir l’extension en avance : venez participer aux avant-première en scellé. Prenez votre pack de 6 boosters\, avec lesquels composer votre deck. Un format idéal pour découvrir l’extension dans un environnement détendu\, mais aussi rencontrer la communauté ! 🙂 \nLe PAF sera de 37€\, et chaque participant repartira avec 2 boosters de dotation supplémentaires\, ainsi qu’un booster promo par victoire. \nVous aurez 2 occasion de découvrir ça :\n_ une première le vendredi soir à 19h\, pendant la nocturne\n_ une seconde le samedi à 14h\, en troll à 2 têtes (ça fait longtemps qu’on n’avait pas fait de tournoi par équipe\, alors on r’met ça ! Et n’hésitez pas à venir seul\, on vous trouvera une seconde tête ! ;))
URL:http://www.lacasajeux.fr/evenements/magic-avant-premiere-aetherdrift/
LOCATION:La Casa’Jeux\, 22\, rue d'Estienne d'Orves\, Alès\, 30100\, France
CATEGORIES:Tournois
ATTACH;FMTTYPE=image/jpeg:http://www.lacasajeux.fr/wp-content/uploads/2025/01/202502_MTG_aetherdrift_AP.jpg
END:VEVENT
BEGIN:VEVENT
DTSTART;TZID=Europe/Paris:20250208T140000
DTEND;TZID=Europe/Paris:20250208T180000
DTSTAMP:20260419T173912
CREATED:20250129T220941Z
LAST-MODIFIED:20250129T220941Z
UID:8520-1739023200-1739037600@www.lacasajeux.fr
SUMMARY:Magic : Avant-première Aetherdrift (en troll à 2 têtes !)
DESCRIPTION:Venez découvrir la nouvelle extension Magic ! \nCette fois-ci\, nous allons suivre une course à travers plusieurs plans (un mix entre les fous du volant\, et Magic !). \nPour découvrir l’extension en avance : venez participer aux avant-première en scellé. Prenez votre pack de 6 boosters\, avec lesquels composer votre deck. Un format idéal pour découvrir l’extension dans un environnement détendu\, mais aussi rencontrer la communauté ! 🙂 \nLe PAF sera de 37€\, et chaque participant repartira avec 2 boosters de dotation supplémentaires\, ainsi qu’un booster promo par victoire. \nVous aurez 2 occasion de découvrir ça :\n_ une première le vendredi soir à 19h\, pendant la nocturne\n_ une seconde le samedi à 14h\, en troll à 2 têtes (ça fait longtemps qu’on n’avait pas fait de tournoi par équipe\, alors on r’met ça ! Et n’hésitez pas à venir seul\, on vous trouvera une seconde tête ! ;))
URL:http://www.lacasajeux.fr/evenements/magic-avant-premiere-aetherdrift-en-troll-a-2-tetes/
LOCATION:La Casa’Jeux\, 22\, rue d'Estienne d'Orves\, Alès\, 30100\, France
CATEGORIES:Tournois
ATTACH;FMTTYPE=image/jpeg:http://www.lacasajeux.fr/wp-content/uploads/2025/01/202502_MTG_aetherdrift_AP.jpg
END:VEVENT
BEGIN:VEVENT
DTSTART;TZID=Europe/Paris:20250214T190000
DTEND;TZID=Europe/Paris:20250214T233000
DTSTAMP:20260419T173912
CREATED:20250129T222145Z
LAST-MODIFIED:20250129T222145Z
UID:8528-1739559600-1739575800@www.lacasajeux.fr
SUMMARY:Magic : Draft Aetherdrift\, le retour de la FNM !
DESCRIPTION:Nouveau draft Magic à la boutique ! \nOn passait un peu à côté des évènements limités depuis quelques temps\, alors qu’il y a des amateurs…\nEt on passait un peu à côté des FNM alors qu’il y a des amateurs… \nEt PAF ! Voici donc un draft de la dernière extension sortie\, un vendredi soir\, dans la foulée de la fermeture\, à 19h pour pas finir trop tard ! (y’en a qui bossent demain ! ^^) \nLe PAF sera de 20€.\nChaque joueur aura à l’inscription ses 3 boosters\, ainsi qu’un booster promo.\nDe plus\, pendant le tournoi\, chaque joueur gagnera un booster promo après chaque victoire. \nChaque joueur repartira ensuite avec ce qu’il a pické.
URL:http://www.lacasajeux.fr/evenements/magic-draft-aetherdrift-le-retour-de-la-fnm/
LOCATION:La Casa’Jeux\, 22\, rue d'Estienne d'Orves\, Alès\, 30100\, France
CATEGORIES:Tournois
ATTACH;FMTTYPE=image/jpeg:http://www.lacasajeux.fr/wp-content/uploads/2025/01/20250214_MTG_draft.jpg
ORGANIZER;CN="La Casa'Jeux":MAILTO:contact@lacasajeux.fr
END:VEVENT
BEGIN:VEVENT
DTSTART;TZID=Europe/Paris:20250222T150000
DTEND;TZID=Europe/Paris:20250222T190000
DTSTAMP:20260419T173912
CREATED:20250129T224559Z
LAST-MODIFIED:20250129T224559Z
UID:8543-1740236400-1740250800@www.lacasajeux.fr
SUMMARY:Magic : la Commander party !
DESCRIPTION:Nouvelle Commander party à la boutique ! \nÇa donnera une après-midi de commander multijoueur\, avec des tables tirées au hasard (en essayant au maximum d’avoir des tables de 4 joueurs)\, et on enchainera autant de rondes que le temps nous le permettra (jusqu’à un peu avant la fermeture hein ! ^^). \nDe plus\, Wizards nous propose une variante simulant la course\, thématique d’Aetherdrift\, qui parait très sympa\, et j’ai hâte de voir ça ! \nLe PAF sera de 10€\, avec 1 booster Aetherdrift\, 1 booster promo et une consommation offert à l’inscription. De plus\, après chaque partie\, le vainqueur de la table gagnera un booster promo Foil.\nD’anciennes promos seront aussi offerte en réalisant des objectifs distribués en début de journée ! \nPensez à vous pré-inscrire\, les places seront limitées !
URL:http://www.lacasajeux.fr/evenements/magic-la-commander-party/
LOCATION:La Casa’Jeux\, 22\, rue d'Estienne d'Orves\, Alès\, 30100\, France
CATEGORIES:Tournois
ATTACH;FMTTYPE=image/jpeg:http://www.lacasajeux.fr/wp-content/uploads/2025/01/20250222_MTG_commanderparty.jpg
ORGANIZER;CN="La Casa'Jeux":MAILTO:contact@lacasajeux.fr
END:VEVENT
END:VCALENDAR