BEGIN:VCALENDAR
VERSION:2.0
PRODID:-//La Casa&#039;Jeux à Alès - ECPv6.15.20//NONSGML v1.0//EN
CALSCALE:GREGORIAN
METHOD:PUBLISH
X-WR-CALNAME:La Casa&#039;Jeux à Alès
X-ORIGINAL-URL:http://www.lacasajeux.fr
X-WR-CALDESC:Évènements pour La Casa&#039;Jeux à Alès
REFRESH-INTERVAL;VALUE=DURATION:PT1H
X-Robots-Tag:noindex
X-PUBLISHED-TTL:PT1H
BEGIN:VTIMEZONE
TZID:Europe/Paris
BEGIN:DAYLIGHT
TZOFFSETFROM:+0100
TZOFFSETTO:+0200
TZNAME:CEST
DTSTART:20230326T010000
END:DAYLIGHT
BEGIN:STANDARD
TZOFFSETFROM:+0200
TZOFFSETTO:+0100
TZNAME:CET
DTSTART:20231029T010000
END:STANDARD
BEGIN:DAYLIGHT
TZOFFSETFROM:+0100
TZOFFSETTO:+0200
TZNAME:CEST
DTSTART:20240331T010000
END:DAYLIGHT
BEGIN:STANDARD
TZOFFSETFROM:+0200
TZOFFSETTO:+0100
TZNAME:CET
DTSTART:20241027T010000
END:STANDARD
BEGIN:DAYLIGHT
TZOFFSETFROM:+0100
TZOFFSETTO:+0200
TZNAME:CEST
DTSTART:20250330T010000
END:DAYLIGHT
BEGIN:STANDARD
TZOFFSETFROM:+0200
TZOFFSETTO:+0100
TZNAME:CET
DTSTART:20251026T010000
END:STANDARD
END:VTIMEZONE
BEGIN:VEVENT
DTSTART;TZID=Europe/Paris:20241228T100000
DTEND;TZID=Europe/Paris:20241228T130000
DTSTAMP:20260419T234843
CREATED:20241126T215148Z
LAST-MODIFIED:20241126T215148Z
UID:8391-1735380000-1735390800@www.lacasajeux.fr
SUMMARY:Magic : Le championnat du magasin Fondations (en standard)
DESCRIPTION:Moment fort de la saison de Magic\, entre 2 extensions\, voici venir le championnat du magasin ! \nLe tournoi se fera au format standard Fondations ! Peu de joueurs font du standard à la boutique\, alors profitez-en pour venir avec votre deck test/concept ! 😉 \nLe PAF sera de 10€\, et chaque joueur aura à l’inscription un booster\, une conso (boisson ou snack) \, et gagnera un booster promo après chaque victoire\, la 3ème en octroyant un FOIL (le tournoi durera 3 rondes). \nDes promos exclusives à l’évènement seront distribuées aussi ! \n 
URL:http://www.lacasajeux.fr/evenements/magic-le-championnat-du-magasin-fondations-en-standard/
LOCATION:La Casa’Jeux\, 22\, rue d'Estienne d'Orves\, Alès\, 30100\, France
CATEGORIES:Tournois
ATTACH;FMTTYPE=image/jpeg:http://www.lacasajeux.fr/wp-content/uploads/2024/11/20241228_MTG_fondations_storechampionship.jpg
ORGANIZER;CN="La Casa'Jeux":MAILTO:contact@lacasajeux.fr
END:VEVENT
BEGIN:VEVENT
DTSTART;TZID=Europe/Paris:20241228T140000
DTEND;TZID=Europe/Paris:20241228T170000
DTSTAMP:20260419T234843
CREATED:20241126T214721Z
LAST-MODIFIED:20241126T214721Z
UID:8388-1735394400-1735405200@www.lacasajeux.fr
SUMMARY:Magic : tournoi Pauper
DESCRIPTION:Nouveau tournoi Pauper à la boutique ! \nLa nouvelle formule se teste aussi aux tournois Pauper. \nLe PAF sera donc 10€\, et le tournoi durera 3 rondes\, quel que soit le nombre de joueurs.\nA l’inscription\, sera remis à chaque joueur un booster de jeu de la dernière extension du standard\, ainsi qu’une consommation (boisson ou snack). \nAprès chaque victoire\, vous gagnerez un booster promo\, et ceux de la dernière ronde pour les joueurs invaincus seront foils. \nDe plus\, des objectifs supplémentaires vous seront proposés pour remporter d’anciennes promos :\n_ si vous battez le gagnant du tournoi précédent\n_ si vous êtes le gagnant du tournoi précédent et finissez une soirée invaincu\n_ si vous finissez dernier du tournoi\n_ si vous êtes le joueur le plus jeune du tournoi \n( cette liste est sujette à évoluer et changer au fur et à mesure des tournois\, et de mes et de vos idées !)
URL:http://www.lacasajeux.fr/evenements/magic-tournoi-pauper-12/
LOCATION:La Casa’Jeux\, 22\, rue d'Estienne d'Orves\, Alès\, 30100\, France
CATEGORIES:Tournois
ATTACH;FMTTYPE=image/jpeg:http://www.lacasajeux.fr/wp-content/uploads/2024/11/20241228_MTG_pauper.jpg
ORGANIZER;CN="La Casa'Jeux":MAILTO:contact@lacasajeux.fr
END:VEVENT
END:VCALENDAR