BEGIN:VCALENDAR
VERSION:2.0
PRODID:-//La Casa&#039;Jeux à Alès - ECPv6.15.20//NONSGML v1.0//EN
CALSCALE:GREGORIAN
METHOD:PUBLISH
X-ORIGINAL-URL:http://www.lacasajeux.fr
X-WR-CALDESC:Évènements pour La Casa&#039;Jeux à Alès
REFRESH-INTERVAL;VALUE=DURATION:PT1H
X-Robots-Tag:noindex
X-PUBLISHED-TTL:PT1H
BEGIN:VTIMEZONE
TZID:Europe/Paris
BEGIN:DAYLIGHT
TZOFFSETFROM:+0100
TZOFFSETTO:+0200
TZNAME:CEST
DTSTART:20240331T010000
END:DAYLIGHT
BEGIN:STANDARD
TZOFFSETFROM:+0200
TZOFFSETTO:+0100
TZNAME:CET
DTSTART:20241027T010000
END:STANDARD
BEGIN:DAYLIGHT
TZOFFSETFROM:+0100
TZOFFSETTO:+0200
TZNAME:CEST
DTSTART:20250330T010000
END:DAYLIGHT
BEGIN:STANDARD
TZOFFSETFROM:+0200
TZOFFSETTO:+0100
TZNAME:CET
DTSTART:20251026T010000
END:STANDARD
BEGIN:DAYLIGHT
TZOFFSETFROM:+0100
TZOFFSETTO:+0200
TZNAME:CEST
DTSTART:20260329T010000
END:DAYLIGHT
BEGIN:STANDARD
TZOFFSETFROM:+0200
TZOFFSETTO:+0100
TZNAME:CET
DTSTART:20261025T010000
END:STANDARD
END:VTIMEZONE
BEGIN:VEVENT
DTSTART;TZID=Europe/Paris:20250104T110000
DTEND;TZID=Europe/Paris:20250104T123000
DTSTAMP:20260424T053425
CREATED:20241229T134458Z
LAST-MODIFIED:20241229T134458Z
UID:8437-1735988400-1735993800@www.lacasajeux.fr
SUMMARY:Lorcana : venez tester le format rush pack
DESCRIPTION:Lorcana a crée un nouveau format\, idéal pour jouer sur le pouce\, découvrir ce nouveau jeu de cartes et passer un petit moment sympa à la boutique ! \nOn met un tout petit PAF pour ne pas freiner les bonnes volontés\, et pour 2€\, vous aurez chacun 2 boosters : on enlève les 2 cartes d’illustration qu’on mettra en jeu comme lore\, on mélange tout le reste\, et c’est parti !\nAu fur et à mesure des parties\, des promos seront offertes à tous les participants\, ainsi que des deckboxs pour ranger vos cartes. \nToutes les règles du Rush pack sont ici :\nhttps://files.disneylorcana.com/OPPack_Rush_QuickRules_FR.pdf \nL’évènement est totalement ouvert aux grands débutants\, qui veulent découvrir le jeu\, à ceux qui jouent régulièrement\, bref\, à tout le monde ! 😉
URL:http://www.lacasajeux.fr/evenements/lorcana-venez-tester-le-format-rush-pack/
LOCATION:La Casa’Jeux\, 22 rue d'Estienne d'Orves\, Alès\, 30100\, France
CATEGORIES:Démonstration
ATTACH;FMTTYPE=image/jpeg:http://www.lacasajeux.fr/wp-content/uploads/2024/12/20250104_lorcana_rush.jpg
ORGANIZER;CN="La Casa'Jeux":MAILTO:contact@lacasajeux.fr
END:VEVENT
END:VCALENDAR