BEGIN:VCALENDAR
VERSION:2.0
PRODID:-//La Casa&#039;Jeux à Alès - ECPv6.15.20//NONSGML v1.0//EN
CALSCALE:GREGORIAN
METHOD:PUBLISH
X-ORIGINAL-URL:http://www.lacasajeux.fr
X-WR-CALDESC:Évènements pour La Casa&#039;Jeux à Alès
REFRESH-INTERVAL;VALUE=DURATION:PT1H
X-Robots-Tag:noindex
X-PUBLISHED-TTL:PT1H
BEGIN:VTIMEZONE
TZID:Europe/Paris
BEGIN:DAYLIGHT
TZOFFSETFROM:+0100
TZOFFSETTO:+0200
TZNAME:CEST
DTSTART:20240331T010000
END:DAYLIGHT
BEGIN:STANDARD
TZOFFSETFROM:+0200
TZOFFSETTO:+0100
TZNAME:CET
DTSTART:20241027T010000
END:STANDARD
BEGIN:DAYLIGHT
TZOFFSETFROM:+0100
TZOFFSETTO:+0200
TZNAME:CEST
DTSTART:20250330T010000
END:DAYLIGHT
BEGIN:STANDARD
TZOFFSETFROM:+0200
TZOFFSETTO:+0100
TZNAME:CET
DTSTART:20251026T010000
END:STANDARD
BEGIN:DAYLIGHT
TZOFFSETFROM:+0100
TZOFFSETTO:+0200
TZNAME:CEST
DTSTART:20260329T010000
END:DAYLIGHT
BEGIN:STANDARD
TZOFFSETFROM:+0200
TZOFFSETTO:+0100
TZNAME:CET
DTSTART:20261025T010000
END:STANDARD
END:VTIMEZONE
BEGIN:VEVENT
DTSTART;TZID=Europe/Paris:20250816T130000
DTEND;TZID=Europe/Paris:20250816T180000
DTSTAMP:20260423T060312
CREATED:20250717T114546Z
LAST-MODIFIED:20250717T114546Z
UID:8917-1755349200-1755367200@www.lacasajeux.fr
SUMMARY:Flesh & Blood : tournoi skirmish (crack\, shuffle & play)
DESCRIPTION:La nouvelle saison des Skirmish commence ! \nComme l’extension spécial gardiens vient de sortir\, on est encore dans la hype\, et c’est la bonne occasion de faire du crack-shuffle & play ! \nEt ça tombe bien\, c’est un des formats proposés pour l’occasion ! \nLe PAF sera de 20€\, et à l’inscription\, chaque joueur aura 3 boosters ainsi qu’une boisson. \nVous vous affronterez ensuite avec ce que vous avez eu dans vos 3 boosters\, et une Valda (jeune) comme héros. \nOn fera 3 ou 4 rondes\, selon le nombre de participants\, puis un top4 \nEt à l’issue\, les lots officiels seront distribués : \n– Vainqueur : 1x Scurv\, Stowaway (Cold Foil)\n– Top 4: 1x Processeur de cervelet (Cold Foil)\n– Tous les participants: 1x Voler haut (Rainbow Foil Micro Text Box)\, ainsi qu’un GEM booster saison 1\n– Et 1 Tapis de jeu sera distribué aléatoirement
URL:http://www.lacasajeux.fr/evenements/flesh-blood-tournoi-skirmish-crack-shuffle-play/
LOCATION:La Casa’Jeux\, 22 Rue Estienne d'Orves\, Alès\, Gard\, 30100\, France
CATEGORIES:Tournois
ATTACH;FMTTYPE=image/jpeg:http://www.lacasajeux.fr/wp-content/uploads/2025/07/20250816_FaB_skirmish.jpg
ORGANIZER;CN="La Casa'Jeux":MAILTO:contact@lacasajeux.fr
END:VEVENT
BEGIN:VEVENT
DTSTART;TZID=Europe/Paris:20250829T190000
DTEND;TZID=Europe/Paris:20250829T223000
DTSTAMP:20260423T060312
CREATED:20250717T120550Z
LAST-MODIFIED:20250717T120550Z
UID:8920-1756494000-1756506600@www.lacasajeux.fr
SUMMARY:Flesh & Blood : évènement de lancement de smash palace !
DESCRIPTION:C’est parti pour un nouvel évènement multijoueur en boutique ! \nÇa coïncide avec la sortie du Smash Palace !\nAlors\, on va ouvrir des coffrets\, et se faire des crack\, shuffle & play pour tester tout ça ! \nChaque joueur aura donc un deck composé du contenu de ses 3 boosters\, et choisira un héros parmi ceux du coffret smash palace.\nOn jouera avec les évènements du coffret\, en se répartissant en une ou 2 tables\, selon le nombre de participants\, et les envies de tous ! \nLe PAF sera de 15€\, les héros seront redistribués \, et 3 GEM boosters seront distribués aléatoirement !
URL:http://www.lacasajeux.fr/evenements/flesh-blood-evenement-de-lancement-de-smash-palace/
LOCATION:La Casa’Jeux\, 22 rue d'Estienne d'Orves\, Alès\, Gard\, 30100\, France
CATEGORIES:Tournois
ATTACH;FMTTYPE=image/jpeg:http://www.lacasajeux.fr/wp-content/uploads/2025/07/20250829_FaB_smashpalace.jpg
ORGANIZER;CN="La Casa'Jeux":MAILTO:contact@lacasajeux.fr
END:VEVENT
END:VCALENDAR