BEGIN:VCALENDAR
VERSION:2.0
PRODID:-//La Casa&#039;Jeux à Alès - ECPv6.15.20//NONSGML v1.0//EN
CALSCALE:GREGORIAN
METHOD:PUBLISH
X-ORIGINAL-URL:http://www.lacasajeux.fr
X-WR-CALDESC:Évènements pour La Casa&#039;Jeux à Alès
REFRESH-INTERVAL;VALUE=DURATION:PT1H
X-Robots-Tag:noindex
X-PUBLISHED-TTL:PT1H
BEGIN:VTIMEZONE
TZID:Europe/Paris
BEGIN:DAYLIGHT
TZOFFSETFROM:+0100
TZOFFSETTO:+0200
TZNAME:CEST
DTSTART:20230326T010000
END:DAYLIGHT
BEGIN:STANDARD
TZOFFSETFROM:+0200
TZOFFSETTO:+0100
TZNAME:CET
DTSTART:20231029T010000
END:STANDARD
BEGIN:DAYLIGHT
TZOFFSETFROM:+0100
TZOFFSETTO:+0200
TZNAME:CEST
DTSTART:20240331T010000
END:DAYLIGHT
BEGIN:STANDARD
TZOFFSETFROM:+0200
TZOFFSETTO:+0100
TZNAME:CET
DTSTART:20241027T010000
END:STANDARD
BEGIN:DAYLIGHT
TZOFFSETFROM:+0100
TZOFFSETTO:+0200
TZNAME:CEST
DTSTART:20250330T010000
END:DAYLIGHT
BEGIN:STANDARD
TZOFFSETFROM:+0200
TZOFFSETTO:+0100
TZNAME:CET
DTSTART:20251026T010000
END:STANDARD
END:VTIMEZONE
BEGIN:VEVENT
DTSTART;TZID=Europe/Paris:20240525T100000
DTEND;TZID=Europe/Paris:20240525T130000
DTSTAMP:20260425T153318
CREATED:20240502T144418Z
LAST-MODIFIED:20240502T144418Z
UID:7871-1716631200-1716642000@www.lacasajeux.fr
SUMMARY:Tournoi standard showdown Magic
DESCRIPTION:Wizards propose de relancer le standard à la boutique. \nIl y a des joueurs qui sont restés à 60 cartes\, et ça reste un super format pour démarrer.\nEt comme on en fait peu ici\, il n’y a aucun stress quand au deck à avoir\, venez avec votre test ou début de deck\, ça fera l’affaire\, le but c’est de remettre le pied à l’étrier ! 😉 \nLe PAF sera de 5€\, et chaque joueur repartira avec un terrain de base exclusif (dans la limite des stocks disponibles)\, ainsi qu’un pack promo\,. De plus\, les 4 premiers en auront un second (celui du premier sera foil).\nEt aussi\, un booster d’extension sera ajouté tous les 2 joueurs inscrits. La moitié sera distribué aux premiers joueurs\, et l’autre moitié le sera au hasard parmi les joueurs restants. \nEt n’oubliez pas\, vous pouvez aussi gagner des pépites en battant le gagnant du store championship ! 😉
URL:http://www.lacasajeux.fr/evenements/tournoi-standard-showdown-magic-2/
LOCATION:La Casa’Jeux\, 22 rue d'Estienne d'Orves\, Alès\, Gard\, 30100\, France
CATEGORIES:Tournois
ATTACH;FMTTYPE=image/jpeg:http://www.lacasajeux.fr/wp-content/uploads/2024/05/202405_standardshowdown.jpg
END:VEVENT
BEGIN:VEVENT
DTSTART;TZID=Europe/Paris:20240601T100000
DTEND;TZID=Europe/Paris:20240601T130000
DTSTAMP:20260425T153318
CREATED:20240502T144726Z
LAST-MODIFIED:20240502T144726Z
UID:7874-1717236000-1717246800@www.lacasajeux.fr
SUMMARY:Tournoi standard showdown Magic
DESCRIPTION:Wizards propose de relancer le standard à la boutique. \nIl y a des joueurs qui sont restés à 60 cartes\, et ça reste un super format pour démarrer.\nEt comme on en fait peu ici\, il n’y a aucun stress quand au deck à avoir\, venez avec votre test ou début de deck\, ça fera l’affaire\, le but c’est de remettre le pied à l’étrier ! 😉 \nLe PAF sera de 5€\, et chaque joueur repartira avec un terrain de base exclusif (dans la limite des stocks disponibles)\, ainsi qu’un pack promo\,. De plus\, les 4 premiers en auront un second (celui du premier sera foil).\nEt aussi\, un booster d’extension sera ajouté tous les 2 joueurs inscrits. La moitié sera distribué aux premiers joueurs\, et l’autre moitié le sera au hasard parmi les joueurs restants. \nEt n’oubliez pas\, vous pouvez aussi gagner des pépites en battant le gagnant du store championship ! 😉
URL:http://www.lacasajeux.fr/evenements/tournoi-standard-showdown-magic-3/
LOCATION:La Casa’Jeux\, 22 rue d'Estienne d'Orves\, Alès\, Gard\, 30100\, France
CATEGORIES:Tournois
ATTACH;FMTTYPE=image/jpeg:http://www.lacasajeux.fr/wp-content/uploads/2024/05/202405_standardshowdown.jpg
END:VEVENT
END:VCALENDAR