BEGIN:VCALENDAR
VERSION:2.0
PRODID:-//La Casa&#039;Jeux à Alès - ECPv6.15.20//NONSGML v1.0//EN
CALSCALE:GREGORIAN
METHOD:PUBLISH
X-ORIGINAL-URL:http://www.lacasajeux.fr
X-WR-CALDESC:Évènements pour La Casa&#039;Jeux à Alès
REFRESH-INTERVAL;VALUE=DURATION:PT1H
X-Robots-Tag:noindex
X-PUBLISHED-TTL:PT1H
BEGIN:VTIMEZONE
TZID:Europe/Paris
BEGIN:DAYLIGHT
TZOFFSETFROM:+0100
TZOFFSETTO:+0200
TZNAME:CEST
DTSTART:20220327T010000
END:DAYLIGHT
BEGIN:STANDARD
TZOFFSETFROM:+0200
TZOFFSETTO:+0100
TZNAME:CET
DTSTART:20221030T010000
END:STANDARD
BEGIN:DAYLIGHT
TZOFFSETFROM:+0100
TZOFFSETTO:+0200
TZNAME:CEST
DTSTART:20230326T010000
END:DAYLIGHT
BEGIN:STANDARD
TZOFFSETFROM:+0200
TZOFFSETTO:+0100
TZNAME:CET
DTSTART:20231029T010000
END:STANDARD
BEGIN:DAYLIGHT
TZOFFSETFROM:+0100
TZOFFSETTO:+0200
TZNAME:CEST
DTSTART:20240331T010000
END:DAYLIGHT
BEGIN:STANDARD
TZOFFSETFROM:+0200
TZOFFSETTO:+0100
TZNAME:CET
DTSTART:20241027T010000
END:STANDARD
END:VTIMEZONE
BEGIN:VEVENT
DTSTART;TZID=Europe/Paris:20230331T203000
DTEND;TZID=Europe/Paris:20230331T233000
DTSTAMP:20260421T222205
CREATED:20230223T150902Z
LAST-MODIFIED:20230223T150902Z
UID:6891-1680294600-1680305400@www.lacasajeux.fr
SUMMARY:Rencontres & JDR\, et Tiffany vient nous faire tester les jeux Ludistri !
DESCRIPTION:On continue avec la double nocturne pour clôturer le mois !\nCette fois-ci\, on vous propose :\n_ la soirée rencontres & JDR\, venez rencontrer d’autres joueurs de jeu de rôle\, et préparez/prévoyez les futures tables\, ou profitez de votre première démo…\n_ une soirée spéciale\, pour découvrir les dernières nouveautés de chez Ludistri ! Tiffany se déplacer\, et viendra nous les faire tester 😉
URL:http://www.lacasajeux.fr/evenements/rencontres-jdr-et-tiffany-vient-nous-faire-tester-les-jeux-ludistri/
LOCATION:La Casa’Jeux\, 22\, rue d'Estienne d'Orves\, Alès\, 30100\, France
CATEGORIES:Démonstration
ATTACH;FMTTYPE=image/jpeg:http://www.lacasajeux.fr/wp-content/uploads/2023/02/20230331_ludistri_etjdr.jpg
END:VEVENT
END:VCALENDAR