BEGIN:VCALENDAR
VERSION:2.0
PRODID:-//La Casa&#039;Jeux à Alès - ECPv6.15.20//NONSGML v1.0//EN
CALSCALE:GREGORIAN
METHOD:PUBLISH
X-ORIGINAL-URL:http://www.lacasajeux.fr
X-WR-CALDESC:Évènements pour La Casa&#039;Jeux à Alès
REFRESH-INTERVAL;VALUE=DURATION:PT1H
X-Robots-Tag:noindex
X-PUBLISHED-TTL:PT1H
BEGIN:VTIMEZONE
TZID:Europe/Paris
BEGIN:DAYLIGHT
TZOFFSETFROM:+0100
TZOFFSETTO:+0200
TZNAME:CEST
DTSTART:20190331T010000
END:DAYLIGHT
BEGIN:STANDARD
TZOFFSETFROM:+0200
TZOFFSETTO:+0100
TZNAME:CET
DTSTART:20191027T010000
END:STANDARD
BEGIN:DAYLIGHT
TZOFFSETFROM:+0100
TZOFFSETTO:+0200
TZNAME:CEST
DTSTART:20200329T010000
END:DAYLIGHT
BEGIN:STANDARD
TZOFFSETFROM:+0200
TZOFFSETTO:+0100
TZNAME:CET
DTSTART:20201025T010000
END:STANDARD
BEGIN:DAYLIGHT
TZOFFSETFROM:+0100
TZOFFSETTO:+0200
TZNAME:CEST
DTSTART:20210328T010000
END:DAYLIGHT
BEGIN:STANDARD
TZOFFSETFROM:+0200
TZOFFSETTO:+0100
TZNAME:CET
DTSTART:20211031T010000
END:STANDARD
END:VTIMEZONE
BEGIN:VEVENT
DTSTART;TZID=Europe/Paris:20201002T210000
DTEND;TZID=Europe/Paris:20201002T233000
DTSTAMP:20260424T174721
CREATED:20200929T163703Z
LAST-MODIFIED:20200929T163703Z
UID:5256-1601672400-1601681400@www.lacasajeux.fr
SUMMARY:Vampire le jeu de cartes : soirée découverte
DESCRIPTION:Vampire est un jeu de cartes multijoueurs\, ou vous contrôlerez des vampires (oui surprenant au vu du titre du jeu)\, et devrez venir à bout de ceux des adversaires…\nPour ça\, politique\, trahison et combats musclés seront au rendez-vous\, chacun sa stratégie. \nCe jeu est connu pour avoir été conçu dès le début en prévoyant sa dimension multi-joueurs. \nUne table sera réservée pendant la nocturne pour venir tester/découvrir\, ou simplement jouer à ce jeu\, qui est arrivé cette année\, pour la première fois\, en VF
URL:http://www.lacasajeux.fr/evenements/vampire-le-jeu-de-cartes-soiree-decouverte/
LOCATION:La Casa’Jeux\, 22\, rue d'Estienne d'Orves\, Alès\, 30100\, France
CATEGORIES:Démonstration
ATTACH;FMTTYPE=image/jpeg:http://www.lacasajeux.fr/wp-content/uploads/2020/09/20201002_vtes.jpg
END:VEVENT
BEGIN:VEVENT
DTSTART;TZID=Europe/Paris:20201003T100000
DTEND;TZID=Europe/Paris:20201003T120000
DTSTAMP:20260424T174721
CREATED:20200929T164018Z
LAST-MODIFIED:20200929T164018Z
UID:5259-1601719200-1601726400@www.lacasajeux.fr
SUMMARY:Morning Magic : ramèn'ton pote
DESCRIPTION:Viens découvrir Magic avec un (ou une) pote\, ou ramène un (ou une ^^) pote pour lui faire découvrir Magic ! \nAutour de croissants et d’un café\, la team Casa’Jeux vous fera découvrir le jeu avec des decks de démo prévus pour tester le jeu. \nTu repars avec une promo\, et ton pote avec un booster spécial pour débutant 😉
URL:http://www.lacasajeux.fr/evenements/morning-magic-ramenton-pote-2/
LOCATION:La Casa’Jeux\, 22\, rue d'Estienne d'Orves\, Alès\, 30100\, France
CATEGORIES:Démonstration
ATTACH;FMTTYPE=image/jpeg:http://www.lacasajeux.fr/wp-content/uploads/2020/09/20201003_morningmagic.jpg
END:VEVENT
BEGIN:VEVENT
DTSTART;TZID=Europe/Paris:20201003T140000
DTEND;TZID=Europe/Paris:20201003T170000
DTSTAMP:20260424T174721
CREATED:20200929T164246Z
LAST-MODIFIED:20200929T164246Z
UID:5262-1601733600-1601744400@www.lacasajeux.fr
SUMMARY:Dragon Ball super : avant-première BT11
DESCRIPTION:Découvrez en avant-première la nouvelle extension pour le jeu Dragon Ball super. \nChaque joueur partira avec 6 boosters\, et devra composer son deck\, avec lequel il fera le tournoi. Pour l’évènement\, vous pourrez aussi ignorer les couleurs pour payer les coûts de vos cartes. \nL’inscription sera de 35€. \nIl y aura aussi pour chaque participant des promos de tournois\, ainsi que\, en fonction de votre classement des boites de rangement.
URL:http://www.lacasajeux.fr/evenements/dragon-ball-super-avant-premiere-bt11/
LOCATION:La Casa’Jeux\, 22\, rue d'Estienne d'Orves\, Alès\, 30100\, France
CATEGORIES:Tournois
ATTACH;FMTTYPE=image/jpeg:http://www.lacasajeux.fr/wp-content/uploads/2020/09/20201003_DBS_APBT11.jpg
ORGANIZER;CN="La Casa'Jeux":MAILTO:contact@lacasajeux.fr
END:VEVENT
BEGIN:VEVENT
DTSTART;TZID=Europe/Paris:20201007T190000
DTEND;TZID=Europe/Paris:20201007T230000
DTSTAMP:20260424T174721
CREATED:20200825T131815Z
LAST-MODIFIED:20200825T131815Z
UID:5151-1602097200-1602111600@www.lacasajeux.fr
SUMMARY:commander's Night : renaissance de Zendikar
DESCRIPTION:Après le succès des commander’s night de cet été\, on renouvelle avec renaissance de Zendikar.\n\n\n \n\n\nTous les 15 jours\, une soirée commander en multijoueur détendue vous est proposée.\n\n\n \n\n\nAu menu des parties chacun pour sa peau\, des objectifs à accomplir\, des récompenses pour le beau jeu\, le fair-play et l’originalité…\n\n\n \n\n\nEt en fin de soirée\, des lots seront distribués à tous les joueurs 🙂\n\n\n \n\n\n5 sessions sont prévues pour la saison Zendikar : \n\n\n_ le mercredi 23 Septembre\n\n\n_ le mercredi 7 Octobre\n\n\n_ le mercredi 21 Octobre\n\n\n_ le mercredi 4 Novembre\n\n\n_ le mercredi 18 Novembre\n\n\n \n\n\nOn enchaine à 19h\, à la fermeture du magasin.\n\n\n \n\n\nPensez à vous pré-inscrire\, les places seront limitées 😉
URL:http://www.lacasajeux.fr/evenements/commanders-night-renaissance-de-zendikar-2/
LOCATION:La Casa’Jeux\, 22\, rue d'Estienne d'Orves\, Alès\, 30100\, France
CATEGORIES:Tournois
ATTACH;FMTTYPE=image/jpeg:http://www.lacasajeux.fr/wp-content/uploads/2020/08/202009_commandersnight.jpg
END:VEVENT
BEGIN:VEVENT
DTSTART;TZID=Europe/Paris:20201009T210000
DTEND;TZID=Europe/Paris:20201009T233000
DTSTAMP:20260424T174721
CREATED:20200929T170307Z
LAST-MODIFIED:20200929T170307Z
UID:5269-1602277200-1602286200@www.lacasajeux.fr
SUMMARY:FNM : mini-scellé
DESCRIPTION:La classique FNM limitée du mois ! \nCette fois-ci\, nous ferons un mini-scellé : faites votre deck de 30 cartes avec 4 boosters\, puis affrontez les autres joueurs \nle PAF sera de 20€\, et chaque joueur repartira avec 2 boosters supplémentaires\, ainsi que des promos !
URL:http://www.lacasajeux.fr/evenements/fnm-mini-scelle/
LOCATION:La Casa’Jeux\, 22 rue d'Estienne d'Orves\, Alès\, Gard\, 30100\, France
CATEGORIES:Tournois
ATTACH;FMTTYPE=image/jpeg:http://www.lacasajeux.fr/wp-content/uploads/2020/09/20201009_FNM_miniscelle.jpg
ORGANIZER;CN="La Casa'Jeux":MAILTO:contact@lacasajeux.fr
END:VEVENT
BEGIN:VEVENT
DTSTART;TZID=Europe/Paris:20201010T100000
DTEND;TZID=Europe/Paris:20201010T170000
DTSTAMP:20260424T174721
CREATED:20200929T164903Z
LAST-MODIFIED:20200929T164903Z
UID:5265-1602324000-1602349200@www.lacasajeux.fr
SUMMARY:Tournoi Aristeia
DESCRIPTION:Second tournoi Aristeia à la boutique ! \nPour ça\, nous commencerons le tournoi à 10h\, et ferons 3 rondes.\nChaque ronde durera 2 heures. \nLes règles utilisées seront celles de l’AGL (en tournoi standard\, sélection d’équipe standard\, sans sponsors\, et en utilisant le scénario « terre brulée » du livre de base) : https://assets.aristeiathegame.net/downloads/aristeia_agl_rules/fr/v1.0/aristeia_agl_rules.pdf \nLe gagnant (ou les 2 premiers selon le nombre de participants) repartira avec une boite d’extension. \nN’hésitez pas à demander plus de renseignements à la boutique ou ici ! 😉
URL:http://www.lacasajeux.fr/evenements/tournoi-aristeia-3/
LOCATION:La Casa’Jeux\, 22 rue d'Estienne d'Orves\, Alès\, Gard\, 30100\, France
CATEGORIES:Tournois
ATTACH;FMTTYPE=image/jpeg:http://www.lacasajeux.fr/wp-content/uploads/2020/09/20201010_aristeia.jpg
END:VEVENT
BEGIN:VEVENT
DTSTART;TZID=Europe/Paris:20201010T140000
DTEND;TZID=Europe/Paris:20201010T170000
DTSTAMP:20260424T174721
CREATED:20200930T153809Z
LAST-MODIFIED:20200930T153809Z
UID:5274-1602338400-1602349200@www.lacasajeux.fr
SUMMARY:Tournoi standard Magic
DESCRIPTION:Nouveau tournoi standard à la boutique ! \nVenez tester votre deck standard\, lors de ce tournoi gratuit\, ouvert à tous les niveaux ! \nDes boosters standard showdown exclusifs\, ainsi que des promos seront distribués pour l’occasion. \nIl y aura des lots pour chaque joueur ! 🙂
URL:http://www.lacasajeux.fr/evenements/tournoi-standard-magic-14/
LOCATION:La Casa’Jeux\, 22 rue d'Estienne d'Orves\, Alès\, Gard\, 30100\, France
CATEGORIES:Tournois
ATTACH;FMTTYPE=image/jpeg:http://www.lacasajeux.fr/wp-content/uploads/2020/09/20201010_magic_standard.jpg
ORGANIZER;CN="La Casa'Jeux":MAILTO:contact@lacasajeux.fr
END:VEVENT
BEGIN:VEVENT
DTSTART;TZID=Europe/Paris:20201014T140000
DTEND;TZID=Europe/Paris:20201014T160000
DTSTAMP:20260424T174721
CREATED:20200930T154246Z
LAST-MODIFIED:20200930T154246Z
UID:5280-1602684000-1602691200@www.lacasajeux.fr
SUMMARY:Dragon Ball Super : Tournois Vermilion bloodline
DESCRIPTION:Nouveau tournoi construit de DBS à la boutique. \nPAF de 5€\, et des lots pour tous !
URL:http://www.lacasajeux.fr/evenements/dragon-ball-super-tournois-vermilion-bloodline/
LOCATION:La Casa’Jeux\, 22\, rue d'Estienne d'Orves\, Alès\, 30100\, France
CATEGORIES:Tournois
ATTACH;FMTTYPE=image/jpeg:http://www.lacasajeux.fr/wp-content/uploads/2020/09/20201014_DBS.jpg
END:VEVENT
BEGIN:VEVENT
DTSTART;TZID=Europe/Paris:20201016T210000
DTEND;TZID=Europe/Paris:20201016T233000
DTSTAMP:20260424T174721
CREATED:20200930T155335Z
LAST-MODIFIED:20200930T155335Z
UID:5289-1602882000-1602891000@www.lacasajeux.fr
SUMMARY:FNM : Duel Commander
DESCRIPTION:Retour du format Duel Commander pendant les FNM ! \nVenez affronter les autres joueurs dans ce format apprécié par la communauté ! \nle PAF sera de 5€\, et chaque joueur repartira avec des lots !
URL:http://www.lacasajeux.fr/evenements/fnm-duel-commander-6/
LOCATION:La Casa’Jeux\, 22\, rue d'Estienne d'Orves\, Alès\, 30100\, France
CATEGORIES:Tournois
ATTACH;FMTTYPE=image/jpeg:http://www.lacasajeux.fr/wp-content/uploads/2020/09/20201016_FNM_duelco.jpg
END:VEVENT
BEGIN:VEVENT
DTSTART;TZID=Europe/Paris:20201021T190000
DTEND;TZID=Europe/Paris:20201021T230000
DTSTAMP:20260424T174721
CREATED:20200825T131937Z
LAST-MODIFIED:20200825T131937Z
UID:5153-1603306800-1603321200@www.lacasajeux.fr
SUMMARY:commander's Night : renaissance de Zendikar
DESCRIPTION:Après le succès des commander’s night de cet été\, on renouvelle avec renaissance de Zendikar.\n\n\n \n\n\nTous les 15 jours\, une soirée commander en multijoueur détendue vous est proposée.\n\n\n \n\n\nAu menu des parties chacun pour sa peau\, des objectifs à accomplir\, des récompenses pour le beau jeu\, le fair-play et l’originalité…\n\n\n \n\n\nEt en fin de soirée\, des lots seront distribués à tous les joueurs 🙂\n\n\n \n\n\n5 sessions sont prévues pour la saison Zendikar : \n\n\n_ le mercredi 23 Septembre\n\n\n_ le mercredi 7 Octobre\n\n\n_ le mercredi 21 Octobre\n\n\n_ le mercredi 4 Novembre\n\n\n_ le mercredi 18 Novembre\n\n\n \n\n\nOn enchaine à 19h\, à la fermeture du magasin.\n\n\n \n\n\nPensez à vous pré-inscrire\, les places seront limitées 😉
URL:http://www.lacasajeux.fr/evenements/commanders-night-renaissance-de-zendikar-3/
LOCATION:La Casa’Jeux\, 22\, rue d'Estienne d'Orves\, Alès\, 30100\, France
CATEGORIES:Tournois
ATTACH;FMTTYPE=image/jpeg:http://www.lacasajeux.fr/wp-content/uploads/2020/08/202009_commandersnight.jpg
END:VEVENT
BEGIN:VEVENT
DTSTART;TZID=Europe/Paris:20201023T210000
DTEND;TZID=Europe/Paris:20201023T233000
DTSTAMP:20260424T174721
CREATED:20200930T155654Z
LAST-MODIFIED:20200930T155654Z
UID:5292-1603486800-1603495800@www.lacasajeux.fr
SUMMARY:FNM : finale de la ligue Zendikar rising !
DESCRIPTION:La ligue Zendikar rising arrive à son terme ! \nChaque joueur aura une dernière occasion d’acheter 3 boosters pour modifier son deck\, puis un tournoi viendra clôturer celle-ci et couronner le champion ! \nChaque joueur repartira avec des lots (boosters M21\, boosters et cartes promos\,…)
URL:http://www.lacasajeux.fr/evenements/fnm-finale-de-la-ligue-zendikar-rising/
LOCATION:La Casa’Jeux\, 22 Rue Estienne d'Orves\, Alès\, Gard\, 30100\, France
CATEGORIES:Tournois
ATTACH;FMTTYPE=image/jpeg:http://www.lacasajeux.fr/wp-content/uploads/2020/09/20201023_FNM_ligue.jpg
ORGANIZER;CN="La Casa'Jeux":MAILTO:contact@lacasajeux.fr
END:VEVENT
BEGIN:VEVENT
DTSTART;TZID=Europe/Paris:20201024T100000
DTEND;TZID=Europe/Paris:20201024T123000
DTSTAMP:20260424T174721
CREATED:20200930T154514Z
LAST-MODIFIED:20200930T154514Z
UID:5283-1603533600-1603542600@www.lacasajeux.fr
SUMMARY:Dragon Ball Super : Tournois Vermilion bloodline
DESCRIPTION:Nouveau tournoi construit de DBS à la boutique. \nPAF de 5€\, et des lots pour tous !
URL:http://www.lacasajeux.fr/evenements/dragon-ball-super-tournois-vermilion-bloodline-2/
LOCATION:La Casa’Jeux\, 22\, rue d'Estienne d'Orves\, Alès\, 30100\, France
CATEGORIES:Tournois
ATTACH;FMTTYPE=image/jpeg:http://www.lacasajeux.fr/wp-content/uploads/2020/09/20201024_DBS.jpg
END:VEVENT
BEGIN:VEVENT
DTSTART;TZID=Europe/Paris:20201024T140000
DTEND;TZID=Europe/Paris:20201024T180000
DTSTAMP:20260424T174721
CREATED:20200930T160320Z
LAST-MODIFIED:20200930T160320Z
UID:5295-1603548000-1603562400@www.lacasajeux.fr
SUMMARY:Yu-Gi-Oh speed duel : Open duelling trials of the pharaoh
DESCRIPTION:Retour de Yu-Gi-Oh à la boutique ! \nVenez découvrir le format speed duel\, lors d’un évènement en open duelling (on joue contre qui on veut\, on fait autant de parties qu’on veut\, librement). \nLe PAF sera de 5€\, et une liste d’objectifs à réaliser vous sera distribuée en début d’évènement. \nDes lots seront distribués en fonction des objectifs réalisés :\n_ 1 boites de rangement : Obtenue par les 8 premiers joueurs ayant réussi à compléter 1 feuille de défis de son choix\n_ 1 cartes promotionnelles « Jinzo » : pour les 4 premiers ayant réussi à compléter 2 feuilles de défis au choix\n_1 T-shirts : pour les 2 premiers joueurs ayant réussi à compléter leurs 4 feuilles de défis !! \nMais aussi des OTS pour tous\, avec quelques bonus en fonction du nombre de parties jouées. \nPour ceux voulant finir leurs fiches\, vous pourrez ensuite repasser en boutique plus tard pour finir de les compléter 😉 \nUn second tournoi est prévu en Octobre ! \nPensez à vous préinscrire\, les places seront limitées !
URL:http://www.lacasajeux.fr/evenements/yu-gi-oh-speed-duel-open-duelling-trials-of-the-pharaoh-2/
LOCATION:La Casa’Jeux\, 22 Rue Estienne d'Orves\, Alès\, Gard\, 30100\, France
CATEGORIES:Démonstration
ATTACH;FMTTYPE=image/jpeg:http://www.lacasajeux.fr/wp-content/uploads/2020/09/20201024_yugi_speedduel.jpg
ORGANIZER;CN="La Casa'Jeux":MAILTO:contact@lacasajeux.fr
END:VEVENT
BEGIN:VEVENT
DTSTART;TZID=Europe/Paris:20201031T100000
DTEND;TZID=Europe/Paris:20201031T123000
DTSTAMP:20260424T174721
CREATED:20200930T154712Z
LAST-MODIFIED:20200930T154712Z
UID:5286-1604138400-1604147400@www.lacasajeux.fr
SUMMARY:Dragon Ball Super : Tournois Vermilion bloodline
DESCRIPTION:Nouveau tournoi construit de DBS à la boutique. \nPAF de 5€\, et des lots pour tous !
URL:http://www.lacasajeux.fr/evenements/dragon-ball-super-tournois-vermilion-bloodline-3/
LOCATION:La Casa’Jeux\, 22 rue d'Estienne d'Orves\, Alès\, Gard\, 30100\, France
CATEGORIES:Tournois
ATTACH;FMTTYPE=image/jpeg:http://www.lacasajeux.fr/wp-content/uploads/2020/09/20201031_DBS.jpg
ORGANIZER;CN="La Casa'Jeux":MAILTO:contact@lacasajeux.fr
END:VEVENT
BEGIN:VEVENT
DTSTART;TZID=Europe/Paris:20201031T140000
DTEND;TZID=Europe/Paris:20201031T170000
DTSTAMP:20260424T174721
CREATED:20200930T154001Z
LAST-MODIFIED:20200930T154001Z
UID:5277-1604152800-1604163600@www.lacasajeux.fr
SUMMARY:Tournoi standard Magic
DESCRIPTION:Nouveau tournoi standard à la boutique ! \nVenez tester votre deck standard\, lors de ce tournoi gratuit\, ouvert à tous les niveaux ! \nDes boosters standard showdown exclusifs\, ainsi que des promos seront distribués pour l’occasion. \nIl y aura des lots pour chaque joueur ! 🙂
URL:http://www.lacasajeux.fr/evenements/tournoi-standard-magic-15/
LOCATION:La Casa’Jeux\, 22\, rue d'Estienne d'Orves\, Alès\, 30100\, France
CATEGORIES:Tournois
ATTACH;FMTTYPE=image/jpeg:http://www.lacasajeux.fr/wp-content/uploads/2020/09/20201031_magic_standard.jpg
END:VEVENT
END:VCALENDAR