BEGIN:VCALENDAR
VERSION:2.0
PRODID:-//La Casa&#039;Jeux à Alès - ECPv6.15.20//NONSGML v1.0//EN
CALSCALE:GREGORIAN
METHOD:PUBLISH
X-ORIGINAL-URL:https://www.lacasajeux.fr
X-WR-CALDESC:Évènements pour La Casa&#039;Jeux à Alès
REFRESH-INTERVAL;VALUE=DURATION:PT1H
X-Robots-Tag:noindex
X-PUBLISHED-TTL:PT1H
BEGIN:VTIMEZONE
TZID:Europe/Paris
BEGIN:DAYLIGHT
TZOFFSETFROM:+0100
TZOFFSETTO:+0200
TZNAME:CEST
DTSTART:20110327T010000
END:DAYLIGHT
BEGIN:STANDARD
TZOFFSETFROM:+0200
TZOFFSETTO:+0100
TZNAME:CET
DTSTART:20111030T010000
END:STANDARD
BEGIN:DAYLIGHT
TZOFFSETFROM:+0100
TZOFFSETTO:+0200
TZNAME:CEST
DTSTART:20120325T010000
END:DAYLIGHT
BEGIN:STANDARD
TZOFFSETFROM:+0200
TZOFFSETTO:+0100
TZNAME:CET
DTSTART:20121028T010000
END:STANDARD
BEGIN:DAYLIGHT
TZOFFSETFROM:+0100
TZOFFSETTO:+0200
TZNAME:CEST
DTSTART:20130331T010000
END:DAYLIGHT
BEGIN:STANDARD
TZOFFSETFROM:+0200
TZOFFSETTO:+0100
TZNAME:CET
DTSTART:20131027T010000
END:STANDARD
BEGIN:DAYLIGHT
TZOFFSETFROM:+0100
TZOFFSETTO:+0200
TZNAME:CEST
DTSTART:20140330T010000
END:DAYLIGHT
BEGIN:STANDARD
TZOFFSETFROM:+0200
TZOFFSETTO:+0100
TZNAME:CET
DTSTART:20141026T010000
END:STANDARD
BEGIN:DAYLIGHT
TZOFFSETFROM:+0100
TZOFFSETTO:+0200
TZNAME:CEST
DTSTART:20150329T010000
END:DAYLIGHT
BEGIN:STANDARD
TZOFFSETFROM:+0200
TZOFFSETTO:+0100
TZNAME:CET
DTSTART:20151025T010000
END:STANDARD
BEGIN:DAYLIGHT
TZOFFSETFROM:+0100
TZOFFSETTO:+0200
TZNAME:CEST
DTSTART:20160327T010000
END:DAYLIGHT
BEGIN:STANDARD
TZOFFSETFROM:+0200
TZOFFSETTO:+0100
TZNAME:CET
DTSTART:20161030T010000
END:STANDARD
END:VTIMEZONE
BEGIN:VEVENT
DTSTART;TZID=Europe/Paris:20150911T203000
DTEND;TZID=Europe/Paris:20150911T233000
DTSTAMP:20260425T134100
CREATED:20150826T212456Z
LAST-MODIFIED:20150826T212456Z
UID:2119-1442003400-1442014200@www.lacasajeux.fr
SUMMARY:Draft Magic Origines
DESCRIPTION:Venez tester la dernière extension Magic ! \nPour les débutants\, c’est un bon moyen de découvrir ses mécaniques.\nPour les spécialistes\, c’est une bonne occasion de voir ce que celle-ci a dans le ventre 😉 \nLe draft se fera avec 3 boosters de Magic Origins. \nComme d’habitude\, le PAF sera de 12.5€\, avec redistribution des rares à la fin\, et des boosters pour les derniers.\nComme ça\, tout le monde peut gagner des trucs cools 😉
URL:https://www.lacasajeux.fr/evenements/draft-magic-origines/
LOCATION:La Casa’Jeux\, 22\, rue d'Estienne d'Orves\, Alès\, 30100\, France
CATEGORIES:Tournois
ATTACH;FMTTYPE=image/jpeg:https://www.lacasajeux.fr/wp-content/uploads/2015/08/magic_origins.jpg
END:VEVENT
BEGIN:VEVENT
DTSTART;TZID=Europe/Paris:20150909T140000
DTEND;TZID=Europe/Paris:20150909T170000
DTSTAMP:20260425T134100
CREATED:20150826T211939Z
LAST-MODIFIED:20150826T211939Z
UID:2117-1441807200-1441818000@www.lacasajeux.fr
SUMMARY:Après-midi découverte MAgic l'assemblée
DESCRIPTION:Vous en avez certainement déja entendu parler\, mais vous n’avez peut-être jamais osé franchir le pas\, ou vous y avez déja joué mais vous êtes un peu rouillé. \nCet après-midi est fait pour vous ! \nAmenez vos vieilles cartes\, ou n’en amenez pas\, on vous en prêtera. \nVenez tester l’un des jeux de cartes à collectionner les plus populaire. \nAprès quelques initiations\, vous pourrez vous essayer à des parties funs multijoueurs ou vous affronterez à plusieurs des hordes barbares ou une hydre. \nChaque joueur pourra repartir avec son deck de démo.
URL:https://www.lacasajeux.fr/evenements/apres-midi-decouverte-magic-lassemblee/
LOCATION:La Casa’Jeux\, 22\, rue d'Estienne d'Orves\, Alès\, 30100\, France
CATEGORIES:Démonstration
ATTACH;FMTTYPE=image/jpeg:https://www.lacasajeux.fr/wp-content/uploads/2015/08/logo_magic_the_gathering.jpg
END:VEVENT
BEGIN:VEVENT
DTSTART;TZID=Europe/Paris:20130222T190000
DTEND;TZID=Europe/Paris:20130222T230000
DTSTAMP:20260425T134100
CREATED:20130124T024847Z
LAST-MODIFIED:20150730T144257Z
UID:910-1361559600-1361574000@www.lacasajeux.fr
SUMMARY:Démonstrations de jeux de plateau au café des familles
DESCRIPTION:Ce vendredi\, je me déplace\, et vais au café des familles (5 rue Jules Cazot) pour faire des démos des jeux.\nAu programme\, du familial\, de 2 à 11 ans. Du simple\, mais pas simpliste\, que même les parents ne s’ennuient pas… \nVenez découvrir ces jeux avec nous !
URL:https://www.lacasajeux.fr/evenements/demonstrations-de-jeux-de-plateau-au-cafe-des-familles/
LOCATION:La Casa’Jeux\, 22 rue d'Estienne d'Orves\, Alès\, 30100\, France
CATEGORIES:Démonstration
ATTACH;FMTTYPE=image/jpeg:https://www.lacasajeux.fr/wp-content/uploads/2013/01/facebook_event_225365650934294.jpg
END:VEVENT
BEGIN:VEVENT
DTSTART;TZID=Europe/Paris:20130208T203000
DTEND;TZID=Europe/Paris:20130208T203000
DTSTAMP:20260425T134100
CREATED:20130124T024744Z
LAST-MODIFIED:20150730T143226Z
UID:896-1360355400-1360355400@www.lacasajeux.fr
SUMMARY:Soirée-jeux
DESCRIPTION:Une nouvelle soirée-jeux à La Casa’Jeux. \nVenez tester notre séléction de jeux\, et rencontrer d’autres passionnés ! \nN’hésitez pas à me faire part de votre présence !
URL:https://www.lacasajeux.fr/evenements/soiree-jeux/
LOCATION:La Casa’Jeux\, 22 rue d'Estienne d'Orves\, Alès\, 30100\, France
CATEGORIES:Démonstration
ATTACH;FMTTYPE=image/jpeg:https://www.lacasajeux.fr/wp-content/uploads/2013/01/facebook_event_274472339348602.jpg
END:VEVENT
BEGIN:VEVENT
DTSTART;TZID=Europe/Paris:20121228T203000
DTEND;TZID=Europe/Paris:20121228T203000
DTSTAMP:20260425T134100
CREATED:20121116T025918Z
LAST-MODIFIED:20150730T141628Z
UID:680-1356726600-1356726600@www.lacasajeux.fr
SUMMARY:Soirée plateaux
DESCRIPTION:Une soirée jeux de plateau\, sans plus de programme que ça\, parce qu’on sera déja tous tellement content de tester les jeux qu’on aura reçu à Noël\, on ne va pas en rajouter 😉
URL:https://www.lacasajeux.fr/evenements/soiree-plateaux-2/
LOCATION:La Casa’Jeux\, 22 rue d'Estienne d'Orves\, Alès\, 30100\, France
CATEGORIES:Démonstration
ATTACH;FMTTYPE=image/jpeg:https://www.lacasajeux.fr/wp-content/uploads/2012/11/facebook_event_281161125319648.jpg
END:VEVENT
BEGIN:VEVENT
DTSTART;TZID=Europe/Paris:20121124T140000
DTEND;TZID=Europe/Paris:20121124T180000
DTSTAMP:20260425T134100
CREATED:20121109T024143Z
LAST-MODIFIED:20150730T140458Z
UID:661-1353765600-1353780000@www.lacasajeux.fr
SUMMARY:Atelier modélisme
DESCRIPTION:Pour vous aider à monter/peindre/convertir/socler vos figurines ou vos décors\, nos plus grands spécialistes viendront l’après-midi vous donner leurs tuyaux.\nSi vous avez du matériel\, pensez à l’amener\, et à prendre votre (vos) figurine(s).
URL:https://www.lacasajeux.fr/evenements/atelier-modelisme/
LOCATION:La Casa’Jeux\, 22 rue d'Estienne d'Orves\, Alès\, 30100\, France
CATEGORIES:Démonstration
END:VEVENT
BEGIN:VEVENT
DTSTART;TZID=Europe/Paris:20121116T203000
DTEND;TZID=Europe/Paris:20121116T203000
DTSTAMP:20260425T134100
CREATED:20121109T024123Z
LAST-MODIFIED:20150730T140308Z
UID:659-1353097800-1353097800@www.lacasajeux.fr
SUMMARY:Soirée "Après ça\, j'enchaine par du Magic... ou l'inverse"
DESCRIPTION:Une ch’tite soirée pour (re-)découvrir les plaisirs de deckbuild ou de combo\, comme on peut en avoir à Magic.\nBref\, au menu :\nSummoner Wars\, Gosu Tactics\, Seasons et Nightfall.\nPensez à vous pré-inscrire ! 🙂
URL:https://www.lacasajeux.fr/evenements/soiree-apres-ca-jenchaine-par-du-magic-ou-linverse/
LOCATION:La Casa’Jeux\, 22 rue d'Estienne d'Orves\, Alès\, 30100\, France
CATEGORIES:Démonstration
ATTACH;FMTTYPE=image/jpeg:https://www.lacasajeux.fr/wp-content/uploads/2012/11/facebook_event_382655468480075.jpg
END:VEVENT
BEGIN:VEVENT
DTSTART;TZID=Europe/Paris:20121110T150000
DTEND;TZID=Europe/Paris:20121110T180000
DTSTAMP:20260425T134100
CREATED:20121026T055920Z
LAST-MODIFIED:20150730T140224Z
UID:483-1352559600-1352570400@www.lacasajeux.fr
SUMMARY:Démos et dédicace de Cubulus
DESCRIPTION:Sylvain Ménager\, créateur de jeux Alèsiens\, viendra au magasin de 15h à 18h pour vous faire découvrir Cubulus.\nCe jeu malin est une espèce de puissance 4 en 3D\, jouable à 2 ou 3.\nVenez le rencontrer\, discuter\, et faire dédicacer votre jeu !
URL:https://www.lacasajeux.fr/evenements/demos-et-dedicace-de-cubulus-3/
LOCATION:La Casa’Jeux\, 22 rue d'Estienne d'Orves\, Alès\, 30100\, France
CATEGORIES:Démonstration
ATTACH;FMTTYPE=image/jpeg:https://www.lacasajeux.fr/wp-content/uploads/2012/10/facebook_event_296623840450859.jpg
END:VEVENT
END:VCALENDAR