BEGIN:VCALENDAR
VERSION:2.0
PRODID:-//La Casa&#039;Jeux à Alès - ECPv6.15.20//NONSGML v1.0//EN
CALSCALE:GREGORIAN
METHOD:PUBLISH
X-ORIGINAL-URL:https://www.lacasajeux.fr
X-WR-CALDESC:Évènements pour La Casa&#039;Jeux à Alès
REFRESH-INTERVAL;VALUE=DURATION:PT1H
X-Robots-Tag:noindex
X-PUBLISHED-TTL:PT1H
BEGIN:VTIMEZONE
TZID:Europe/Paris
BEGIN:DAYLIGHT
TZOFFSETFROM:+0100
TZOFFSETTO:+0200
TZNAME:CEST
DTSTART:20170326T010000
END:DAYLIGHT
BEGIN:STANDARD
TZOFFSETFROM:+0200
TZOFFSETTO:+0100
TZNAME:CET
DTSTART:20171029T010000
END:STANDARD
BEGIN:DAYLIGHT
TZOFFSETFROM:+0100
TZOFFSETTO:+0200
TZNAME:CEST
DTSTART:20180325T010000
END:DAYLIGHT
BEGIN:STANDARD
TZOFFSETFROM:+0200
TZOFFSETTO:+0100
TZNAME:CET
DTSTART:20181028T010000
END:STANDARD
BEGIN:DAYLIGHT
TZOFFSETFROM:+0100
TZOFFSETTO:+0200
TZNAME:CEST
DTSTART:20190331T010000
END:DAYLIGHT
BEGIN:STANDARD
TZOFFSETFROM:+0200
TZOFFSETTO:+0100
TZNAME:CET
DTSTART:20191027T010000
END:STANDARD
END:VTIMEZONE
BEGIN:VEVENT
DTSTART;TZID=Europe/Paris:20180421T090000
DTEND;TZID=Europe/Paris:20180421T190000
DTSTAMP:20260421T134226
CREATED:20180323T120259Z
LAST-MODIFIED:20180323T120259Z
UID:3327-1524301200-1524337200@www.lacasajeux.fr
SUMMARY:Avant-premières et Pre-release party Magic Dominaria
DESCRIPTION:Retour sur Dominaria ! \n\n\n \n\n\nDès son annonce\, la prochaine extension de Magic avait fait parler d’elle. Une semaine avant sa sortie\, la Casa’Jeux organisera 2 avant-premières : vous pourrez tenter de vous faire un deck avec 6 boosters\, pour affronter vos adversaires.\n\n\n \n\n\nLa première aura lieu à 9h\, et se fera en 3 ou 4 rondes selon le nombre de participants.\n\n\nLa seconde se fera dans la foulée à 14h..\n\n\n \n\n\nAttention\, les timings étant serrés\, les tournois commenceront à l’heure indiquée ! Si vous arrivez en retard\, vous pouvez encore vous greffer\, mais vous aurez un bye pour la première ronde\, ou simplement moins de temps pour faire votre deck.\n\n\n \n\n\nPour les joueurs ayant moins de temps\, vous aurez toujours la possibilité de participer à la pre-release party : vous prenez votre pack d’avant-première\, vous faites votre deck\, et vous jouez contre un joueur de votre choix. Pas plus d’obligation\, vous venez quand vous le voulez\, vous jouez contre qui vous voulez\, et vous partez quand vous le voulez !\n\n\n \n\n\nLe prix d’inscription pour chaque avant-première sera de 25€\, chaque participant repartira avec 2 boosters supplémentaires en lots\, ainsi que des cartes promos. Les joueurs faisant les 2 avant-premières se verront offrir leur sandwich le midi 😉\n\n\n \n\n\nLe nombre de places étant limitées\, pensez à vous pré-inscrire ! 😉\n\n\n \n\n\n(pour cela\, rien de plus simple\, il suffit de passer en boutique pour me le signaler)\n\n\n \n\n\n \n\n\nEt pensez aussi que pour ceux ayant précommandé des displays\, vous pourrez les récupérer dès ce week-end 😉
URL:https://www.lacasajeux.fr/evenements/avant-premieres-et-pre-release-party-magic-dominaria/
LOCATION:La Casa’Jeux\, 22 Rue Estienne d'Orves\, Alès\, Gard\, 30100\, France
CATEGORIES:Tournois
ATTACH;FMTTYPE=image/jpeg:https://www.lacasajeux.fr/wp-content/uploads/2018/03/magic_dominaria.jpg
END:VEVENT
END:VCALENDAR