BEGIN:VCALENDAR
VERSION:2.0
PRODID:-//La Casa&#039;Jeux à Alès - ECPv6.15.20//NONSGML v1.0//EN
CALSCALE:GREGORIAN
METHOD:PUBLISH
X-ORIGINAL-URL:https://www.lacasajeux.fr
X-WR-CALDESC:Évènements pour La Casa&#039;Jeux à Alès
REFRESH-INTERVAL;VALUE=DURATION:PT1H
X-Robots-Tag:noindex
X-PUBLISHED-TTL:PT1H
BEGIN:VTIMEZONE
TZID:Europe/Paris
BEGIN:DAYLIGHT
TZOFFSETFROM:+0100
TZOFFSETTO:+0200
TZNAME:CEST
DTSTART:20170326T010000
END:DAYLIGHT
BEGIN:STANDARD
TZOFFSETFROM:+0200
TZOFFSETTO:+0100
TZNAME:CET
DTSTART:20171029T010000
END:STANDARD
BEGIN:DAYLIGHT
TZOFFSETFROM:+0100
TZOFFSETTO:+0200
TZNAME:CEST
DTSTART:20180325T010000
END:DAYLIGHT
BEGIN:STANDARD
TZOFFSETFROM:+0200
TZOFFSETTO:+0100
TZNAME:CET
DTSTART:20181028T010000
END:STANDARD
BEGIN:DAYLIGHT
TZOFFSETFROM:+0100
TZOFFSETTO:+0200
TZNAME:CEST
DTSTART:20190331T010000
END:DAYLIGHT
BEGIN:STANDARD
TZOFFSETFROM:+0200
TZOFFSETTO:+0100
TZNAME:CET
DTSTART:20191027T010000
END:STANDARD
END:VTIMEZONE
BEGIN:VEVENT
DTSTART;TZID=Europe/Paris:20180428T140000
DTEND;TZID=Europe/Paris:20180428T180000
DTSTAMP:20260421T134226
CREATED:20180323T121857Z
LAST-MODIFIED:20180323T121857Z
UID:3329-1524924000-1524938400@www.lacasajeux.fr
SUMMARY:Combattants Dominaria week-end
DESCRIPTION:Sortie de la nouvelle extension !…\n\n\nEt pour ceux qui n’ont pas précommandé leurs displays\, première occasion de la drafter.\n\n\n \n\n\nUn draft sera donc organisé ce samedi 14h\, pour tester l’extension.\n\n\n \n\n\nLe PAF sera comme d’habitude de 12.5€\, avec redistribution des rares la fin\, et des boosters pour les derniers.\n\n\nChaque joueur repartira aussi une carte foil exclusive au draft week-end !\n\n\n \n\n\nPensez que l’extension sort vendredi\, et que vous pouvez profiter des FNM pour drafter aussi\, et repartir avec les promos FNM exclusives 😉
URL:https://www.lacasajeux.fr/evenements/combattants-dominaria-week-end/
LOCATION:La Casa’Jeux\, 22 rue d'Estienne d'Orves\, Alès\, Gard\, 30100\, France
CATEGORIES:Tournois
ATTACH;FMTTYPE=image/jpeg:https://www.lacasajeux.fr/wp-content/uploads/2018/03/magic_dominaria-1.jpg
END:VEVENT
END:VCALENDAR