BEGIN:VCALENDAR
VERSION:2.0
PRODID:-//La Casa&#039;Jeux à Alès - ECPv6.15.20//NONSGML v1.0//EN
CALSCALE:GREGORIAN
METHOD:PUBLISH
X-WR-CALNAME:La Casa&#039;Jeux à Alès
X-ORIGINAL-URL:https://www.lacasajeux.fr
X-WR-CALDESC:Évènements pour La Casa&#039;Jeux à Alès
REFRESH-INTERVAL;VALUE=DURATION:PT1H
X-Robots-Tag:noindex
X-PUBLISHED-TTL:PT1H
BEGIN:VTIMEZONE
TZID:Europe/Paris
BEGIN:DAYLIGHT
TZOFFSETFROM:+0100
TZOFFSETTO:+0200
TZNAME:CEST
DTSTART:20200329T010000
END:DAYLIGHT
BEGIN:STANDARD
TZOFFSETFROM:+0200
TZOFFSETTO:+0100
TZNAME:CET
DTSTART:20201025T010000
END:STANDARD
BEGIN:DAYLIGHT
TZOFFSETFROM:+0100
TZOFFSETTO:+0200
TZNAME:CEST
DTSTART:20210328T010000
END:DAYLIGHT
BEGIN:STANDARD
TZOFFSETFROM:+0200
TZOFFSETTO:+0100
TZNAME:CET
DTSTART:20211031T010000
END:STANDARD
BEGIN:DAYLIGHT
TZOFFSETFROM:+0100
TZOFFSETTO:+0200
TZNAME:CEST
DTSTART:20220327T010000
END:DAYLIGHT
BEGIN:STANDARD
TZOFFSETFROM:+0200
TZOFFSETTO:+0100
TZNAME:CET
DTSTART:20221030T010000
END:STANDARD
END:VTIMEZONE
BEGIN:VEVENT
DTSTART;TZID=Europe/Paris:20211219T100000
DTEND;TZID=Europe/Paris:20211219T180000
DTSTAMP:20260421T050514
CREATED:20211129T101948Z
LAST-MODIFIED:20211129T101948Z
UID:6020-1639908000-1639936800@www.lacasajeux.fr
SUMMARY:Tournoi Vampire jeu de cartes (VTES)
DESCRIPTION:Pour les derniers qui ont raté l’info\, le jeu Vampire est enfin traduit en français ! \nEt début Novembre sont sortis une nouvelle fournée de starters préconstruits (avec enfin les Brujah et les Gangrel !! ^^). \nPour fêter ça\, et intégrer de nouveaux joueurs\, nous vous proposons un nouveau tournoi VTES. Venez avec votre deck (pré-construit ou pas)\, et affrontez les autres joueurs ! \nLe PAF sera de 5€\, et il y aura des cartes promos à gagner pour tous !
URL:https://www.lacasajeux.fr/evenements/tournoi-vampire-jeu-de-cartes-vtes/
LOCATION:La Casa’Jeux\, 22 rue d'Estienne d'Orves\, Alès\, Gard\, 30100\, France
CATEGORIES:Tournois
ATTACH;FMTTYPE=image/jpeg:https://www.lacasajeux.fr/wp-content/uploads/2021/11/20211219_vtes.jpg
END:VEVENT
BEGIN:VEVENT
DTSTART;TZID=Europe/Paris:20211218T140000
DTEND;TZID=Europe/Paris:20211218T180000
DTSTAMP:20260421T050514
CREATED:20211129T100216Z
LAST-MODIFIED:20211129T100216Z
UID:6013-1639836000-1639850400@www.lacasajeux.fr
SUMMARY:Magic : tournoi Trisk3le !
DESCRIPTION:Nouveau tournoi de Trisk3le\, le format exclusif de la boutique ! \nVenez vous confronter aux autres joueurs\, et voir si vous avez bien analysé les bons decks du format. \nLe PAF sera de 5€\, et chaque joueur repartira avec des lots. \nN’hésitez pas à passer en boutique avant si vous voulez des infos sur ce format !
URL:https://www.lacasajeux.fr/evenements/magic-tournoi-trisk3le-6/
LOCATION:La Casa’Jeux\, 22 rue d'Estienne d'Orves\, Alès\, 30100\, France
CATEGORIES:Tournois
ATTACH;FMTTYPE=image/jpeg:https://www.lacasajeux.fr/wp-content/uploads/2021/11/20211218_magic_triskele.jpg
END:VEVENT
BEGIN:VEVENT
DTSTART;TZID=Europe/Paris:20211212T090000
DTEND;TZID=Europe/Paris:20211212T180000
DTSTAMP:20260421T050514
CREATED:20211129T102618Z
LAST-MODIFIED:20211129T102618Z
UID:6023-1639299600-1639332000@www.lacasajeux.fr
SUMMARY:Tournoi WH40K
DESCRIPTION:On profite des ouvertures le dimanche en Décembre pour faire un tournoi de figurines ! \nIl y aura 8 places pour ce tournoi WH40K en 2000 points. \nLe PAF sera de 10€\, et chaque joueur repartira avec une boite de figurines destockées. \nLe reste des infos arrive bientôt. Pensez à vous pré-inscrire\, ce sera plein rapidement ! 😉
URL:https://www.lacasajeux.fr/evenements/tournoi-wh40k-2/
LOCATION:La Casa’Jeux\, 22 rue d'Estienne d'Orves\, Alès\, Gard\, 30100\, France
CATEGORIES:Tournois
ATTACH;FMTTYPE=image/jpeg:https://www.lacasajeux.fr/wp-content/uploads/2021/11/20211212_wh40k.jpg
END:VEVENT
BEGIN:VEVENT
DTSTART;TZID=Europe/Paris:20211204T140000
DTEND;TZID=Europe/Paris:20211204T183000
DTSTAMP:20260421T050514
CREATED:20211112T162741Z
LAST-MODIFIED:20211112T162741Z
UID:5970-1638626400-1638642600@www.lacasajeux.fr
SUMMARY:Tournoi 7 Fallen : enfin le clash des 7 factions !
DESCRIPTION:7 Fallen\, le jcc français continue son petit bonhomme de chemin\, et les 7 factions sont enfin toutes la. \nVoici donc le premier tournoi avec le casting au complet à la boutique ! \nVenez rencontrer la communauté\, affronter les autres joueurs\, et repartez avec des promos exclusives !
URL:https://www.lacasajeux.fr/evenements/tournoi-7-fallen-enfin-le-clash-des-7-factions/
LOCATION:La Casa’Jeux\, 22\, rue d'Estienne d'Orves\, Alès\, 30100\, France
CATEGORIES:Tournois
ATTACH;FMTTYPE=image/jpeg:https://www.lacasajeux.fr/wp-content/uploads/2021/11/20211204_7fallen.jpg
END:VEVENT
BEGIN:VEVENT
DTSTART;TZID=Europe/Paris:20211127T140000
DTEND;TZID=Europe/Paris:20211127T170000
DTSTAMP:20260421T050514
CREATED:20211022T164320Z
LAST-MODIFIED:20211022T164320Z
UID:5951-1638021600-1638032400@www.lacasajeux.fr
SUMMARY:Tournoi standard Magic
DESCRIPTION:Nouveau tournoi standard à la boutique ! \nVenez tester votre deck standard\, lors de ce tournoi gratuit\, ouvert à tous les niveaux ! \nDes boosters standard showdown exclusifs\, ainsi que des promos seront distribués pour l’occasion. \nIl y aura des lots pour chaque joueur ! 🙂
URL:https://www.lacasajeux.fr/evenements/tournoi-standard-magic-24/
LOCATION:La Casa’Jeux\, 22\, rue d'Estienne d'Orves\, Alès\, 30100\, France
CATEGORIES:Tournois
ATTACH;FMTTYPE=image/jpeg:https://www.lacasajeux.fr/wp-content/uploads/2021/10/20211127_magic_standard.jpg
END:VEVENT
BEGIN:VEVENT
DTSTART;TZID=Europe/Paris:20211126T203000
DTEND;TZID=Europe/Paris:20211126T233000
DTSTAMP:20260421T050514
CREATED:20211022T163829Z
LAST-MODIFIED:20211022T163829Z
UID:5945-1637958600-1637969400@www.lacasajeux.fr
SUMMARY:Magic : tournoi Trisk3le !
DESCRIPTION:Nouveau tournoi de Trisk3le\, le format exclusif de la boutique ! \nVenez vous confronter aux autres joueurs\, et voir si vous avez bien analysé les bons decks du format. \nLe PAF sera de 5€\, et chaque joueur repartira avec des lots. \nN’hésitez pas à passer en boutique avant si vous voulez des infos sur ce format !
URL:https://www.lacasajeux.fr/evenements/magic-tournoi-trisk3le-5/
LOCATION:La Casa’Jeux\, 22\, rue d'Estienne d'Orves\, Alès\, 30100\, France
CATEGORIES:Tournois
ATTACH;FMTTYPE=image/jpeg:https://www.lacasajeux.fr/wp-content/uploads/2021/10/20211126_magic_triskele.jpg
END:VEVENT
BEGIN:VEVENT
DTSTART;TZID=Europe/Paris:20211120T100000
DTEND;TZID=Europe/Paris:20211120T180000
DTSTAMP:20260421T050514
CREATED:20211022T163031Z
LAST-MODIFIED:20211022T163044Z
UID:5941-1637402400-1637431200@www.lacasajeux.fr
SUMMARY:Tournoi scellé Vampire jeu de cartes (VTES)
DESCRIPTION:Pour les derniers qui ont raté l’info\, le jeu Vampire est enfin traduit en français ! \nEt début Novembre doit sortir une nouvelle fournée de starters préconstruits (avec enfin les Brujah et les Gangrel !! ^^). \nPourfêter ça\, et intégrer de nouveaux joueurs\, nous vous proposons un tournoi scellé. \nChaque joueur devra jouer un des préconstruits non-modifié. \nLe PAF sera de 5€\, et il y aura des cartes promos à gagner pour tous !
URL:https://www.lacasajeux.fr/evenements/tournoi-scelle-vampies-jeu-de-cartes-vtes/
LOCATION:La Casa’Jeux\, 22\, rue d'Estienne d'Orves\, Alès\, 30100\, France
CATEGORIES:Tournois
ATTACH;FMTTYPE=image/jpeg:https://www.lacasajeux.fr/wp-content/uploads/2021/10/20211120_vtes.jpg
END:VEVENT
BEGIN:VEVENT
DTSTART;TZID=Europe/Paris:20211119T203000
DTEND;TZID=Europe/Paris:20211119T233000
DTSTAMP:20260421T050514
CREATED:20211022T162338Z
LAST-MODIFIED:20211022T162338Z
UID:5938-1637353800-1637364600@www.lacasajeux.fr
SUMMARY:Magic : tournoi commander en troll à 2 têtes
DESCRIPTION:Nouvelle proposition pour nos joueurs d’EDH.\nVenez participer à un tournoi en troll à 2 têtes ! \nAu début du tournoi\, un coéquipier vous sera attribué au hasard parmi les présents…. \nAffrontez les autres équipes hasardeuses improvisées pour cette soirée 😉 \nLe PAF sera de 5€ par joueur\, avec des lots pour tous !
URL:https://www.lacasajeux.fr/evenements/magic-tournoi-commander-en-troll-a-2-tetes/
LOCATION:La Casa’Jeux\, 22\, rue d'Estienne d'Orves\, Alès\, 30100\, France
CATEGORIES:Tournois
ATTACH;FMTTYPE=image/jpeg:https://www.lacasajeux.fr/wp-content/uploads/2021/10/20211119_magic_trolla2tetes.jpg
END:VEVENT
BEGIN:VEVENT
DTSTART;TZID=Europe/Paris:20211105T210000
DTEND;TZID=Europe/Paris:20211105T233000
DTSTAMP:20260421T050514
CREATED:20211022T154051Z
LAST-MODIFIED:20211022T154051Z
UID:5918-1636146000-1636155000@www.lacasajeux.fr
SUMMARY:FNM : Duel Commander
DESCRIPTION:Retour du format Duel Commander pendant les FNM ! \nVenez affronter les autres joueurs dans ce format apprécié par la communauté ! \nle PAF sera de 5€\, et chaque joueur repartira avec des lots !
URL:https://www.lacasajeux.fr/evenements/fnm-duel-commander-11/
LOCATION:La Casa’Jeux\, 22 rue d'Estienne d'Orves\, Alès\, 30100\, France
CATEGORIES:Tournois
ATTACH;FMTTYPE=image/jpeg:https://www.lacasajeux.fr/wp-content/uploads/2021/10/20211105_magic_duelco.jpg
END:VEVENT
BEGIN:VEVENT
DTSTART;TZID=Europe/Paris:20211030T140000
DTEND;TZID=Europe/Paris:20211030T170000
DTSTAMP:20260421T050514
CREATED:20210930T130248Z
LAST-MODIFIED:20210930T130248Z
UID:5849-1635602400-1635613200@www.lacasajeux.fr
SUMMARY:Tournoi standard Magic
DESCRIPTION:Nouveau tournoi standard à la boutique ! \nVenez tester votre deck standard\, lors de ce tournoi gratuit\, ouvert à tous les niveaux ! \nDes boosters standard showdown exclusifs\, ainsi que des promos seront distribués pour l’occasion. \nIl y aura des lots pour chaque joueur ! 🙂
URL:https://www.lacasajeux.fr/evenements/tournoi-standard-magic-23/
LOCATION:La Casa’Jeux\, 22 rue d'Estienne d'Orves\, Alès\, Gard\, 30100\, France
CATEGORIES:Tournois
ATTACH;FMTTYPE=image/jpeg:https://www.lacasajeux.fr/wp-content/uploads/2021/09/20211030_magic_standard.jpg
END:VEVENT
BEGIN:VEVENT
DTSTART;TZID=Europe/Paris:20211022T203000
DTEND;TZID=Europe/Paris:20211022T233000
DTSTAMP:20260421T050514
CREATED:20210930T132801Z
LAST-MODIFIED:20210930T132801Z
UID:5866-1634934600-1634945400@www.lacasajeux.fr
SUMMARY:Magic : tournoi Trisk3le !
DESCRIPTION:Voici venir un nouveau tournoi de Trisk3le\, le format exclusif de la boutique ! \nVenez vous confronter aux autres joueurs\, et voir si vous avez bien analysé les bons decks du format. \nLe PAF sera de 5€\, et chaque joueur repartira avec des lots. \nN’hésitez pas à passer en boutique avant si vous voulez des infos sur ce format !
URL:https://www.lacasajeux.fr/evenements/magic-tournoi-trisk3le-4/
LOCATION:La Casa’Jeux\, 22\, rue d'Estienne d'Orves\, Alès\, 30100\, France
CATEGORIES:Tournois
ATTACH;FMTTYPE=image/jpeg:https://www.lacasajeux.fr/wp-content/uploads/2021/09/20211022_magic_triskele.jpg
END:VEVENT
BEGIN:VEVENT
DTSTART;TZID=Europe/Paris:20211016T140000
DTEND;TZID=Europe/Paris:20211016T180000
DTSTAMP:20260421T050514
CREATED:20211008T150330Z
LAST-MODIFIED:20211008T150330Z
UID:5892-1634392800-1634407200@www.lacasajeux.fr
SUMMARY:Pokémon : tournoi de découverte
DESCRIPTION:Premier tournoi construit Pokémon à la boutique ! \nComme c’est le premier\, on va faire simple\, et ne pas imposer de format. Venez avec le deck que vous avez\, starter peine modifié\, deck d’avant-première\, vieux deck construit\, tas de cartes\,…\nOn essaiera de structurer tout ça\, le but étant de jouer\, de parler justement des différents formats proposés par le jeu\, du pourquoi de ces formats\, et de faire un premier petit tournoi. \nLe PAF sera de 5€\, et chaque participant repartira avec un booster ! 🙂
URL:https://www.lacasajeux.fr/evenements/pokemon-tournoi-de-decouverte/
LOCATION:La Casa’Jeux\, 22 rue d'Estienne d'Orves\, Alès\, Gard\, 30100\, France
CATEGORIES:Tournois
ATTACH;FMTTYPE=image/jpeg:https://www.lacasajeux.fr/wp-content/uploads/2021/10/20211016_pokemon.jpg
END:VEVENT
BEGIN:VEVENT
DTSTART;TZID=Europe/Paris:20211009T140000
DTEND;TZID=Europe/Paris:20211009T180000
DTSTAMP:20260421T050514
CREATED:20210930T132438Z
LAST-MODIFIED:20210930T132438Z
UID:5863-1633788000-1633802400@www.lacasajeux.fr
SUMMARY:Tournoi mini-scellé Magic : Innistrad midnight hunt
DESCRIPTION:3 semaines après la sortie de l’extension\, venez tester le format limité de celle-ci ! \nFaites votre deck de 30 cartes avec 4 boosters\, et affrontez vos adversaires avec ! \nLe PAF est de 20€\, et il y aura des lots pour tout le monde.
URL:https://www.lacasajeux.fr/evenements/tournoi-mini-scelle-magic-innistrad-midnight-hunt/
LOCATION:La Casa’Jeux\, 22 rue d'Estienne d'Orves\, Alès\, Gard\, 30100\, France
CATEGORIES:Tournois
ATTACH;FMTTYPE=image/jpeg:https://www.lacasajeux.fr/wp-content/uploads/2021/09/20211009_magic_miniscelle.jpg
ORGANIZER;CN="La Casa'Jeux":MAILTO:contact@lacasajeux.fr
END:VEVENT
BEGIN:VEVENT
DTSTART;TZID=Europe/Paris:20211008T210000
DTEND;TZID=Europe/Paris:20211008T233000
DTSTAMP:20260421T050514
CREATED:20210930T131501Z
LAST-MODIFIED:20210930T131501Z
UID:5857-1633726800-1633735800@www.lacasajeux.fr
SUMMARY:FNM : Duel Commander
DESCRIPTION:Retour du format Duel Commander pendant les FNM ! \nVenez affronter les autres joueurs dans ce format apprécié par la communauté ! \nle PAF sera de 5€\, et chaque joueur repartira avec des lots !
URL:https://www.lacasajeux.fr/evenements/fnm-duel-commander-10/
LOCATION:La Casa’Jeux\, 22 rue d'Estienne d'Orves\, Alès\, Gard\, 30100\, France
CATEGORIES:Tournois
ATTACH;FMTTYPE=image/jpeg:https://www.lacasajeux.fr/wp-content/uploads/2021/09/20211008_magic_duelco.jpg
ORGANIZER;CN="La Casa'Jeux":MAILTO:contact@lacasajeux.fr
END:VEVENT
BEGIN:VEVENT
DTSTART;TZID=Europe/Paris:20211002T140000
DTEND;TZID=Europe/Paris:20211002T170000
DTSTAMP:20260421T050514
CREATED:20210930T130057Z
LAST-MODIFIED:20210930T130057Z
UID:5846-1633183200-1633194000@www.lacasajeux.fr
SUMMARY:Tournoi standard Magic
DESCRIPTION:Nouveau tournoi standard à la boutique ! \nVenez tester votre deck standard\, lors de ce tournoi gratuit\, ouvert à tous les niveaux ! \nDes boosters standard showdown exclusifs\, ainsi que des promos seront distribués pour l’occasion. \nIl y aura des lots pour chaque joueur ! 🙂
URL:https://www.lacasajeux.fr/evenements/tournoi-standard-magic-22/
LOCATION:La Casa’Jeux\, 22 rue d'Estienne d'Orves\, Alès\, Gard\, 30100\, France
CATEGORIES:Tournois
ATTACH;FMTTYPE=image/jpeg:https://www.lacasajeux.fr/wp-content/uploads/2021/09/20211002_magic_standard.jpg
END:VEVENT
BEGIN:VEVENT
DTSTART;TZID=Europe/Paris:20210924T203000
DTEND;TZID=Europe/Paris:20210924T233000
DTSTAMP:20260421T050514
CREATED:20210828T104641Z
LAST-MODIFIED:20210828T104641Z
UID:5804-1632515400-1632526200@www.lacasajeux.fr
SUMMARY:Magic : tournoi Trisk3le !
DESCRIPTION:Nouveau tournoi de Trisk3le\, le format exclusif de la boutique ! \nVenez vous confronter aux autres joueurs\, et voir si vous avez bien analysé les bons decks du format. \nLe PAF sera de 5€\, et chaque joueur repartira avec des lots. \nN’hésitez pas à passer en boutique avant si vous voulez des infos sur ce format !
URL:https://www.lacasajeux.fr/evenements/magic-tournoi-trisk3le-3/
LOCATION:La Casa’Jeux\, 22 rue d'Estienne d'Orves\, Alès\, Gard\, 30100\, France
CATEGORIES:Tournois
ATTACH;FMTTYPE=image/jpeg:https://www.lacasajeux.fr/wp-content/uploads/2021/08/20210924_magic_triskele.jpg
END:VEVENT
BEGIN:VEVENT
DTSTART;TZID=Europe/Paris:20210904T140000
DTEND;TZID=Europe/Paris:20210904T170000
DTSTAMP:20260421T050514
CREATED:20210828T095501Z
LAST-MODIFIED:20210828T095501Z
UID:5772-1630764000-1630774800@www.lacasajeux.fr
SUMMARY:Tournoi standard Magic
DESCRIPTION:Nouveau tournoi standard à la boutique ! \nVenez tester votre deck standard\, lors de ce tournoi gratuit\, ouvert à tous les niveaux ! \nDes boosters standard showdown exclusifs\, ainsi que des promos seront distribués pour l’occasion. \nIl y aura des lots pour chaque joueur ! 🙂
URL:https://www.lacasajeux.fr/evenements/tournoi-standard-magic-20/
LOCATION:La Casa’Jeux\, 22\, rue d'Estienne d'Orves\, Alès\, 30100\, France
CATEGORIES:Tournois
ATTACH;FMTTYPE=image/jpeg:https://www.lacasajeux.fr/wp-content/uploads/2021/08/20210904_magic_standard.jpg
ORGANIZER;CN="La Casa'Jeux":MAILTO:contact@lacasajeux.fr
END:VEVENT
BEGIN:VEVENT
DTSTART;TZID=Europe/Paris:20210903T203000
DTEND;TZID=Europe/Paris:20210903T233000
DTSTAMP:20260421T050514
CREATED:20210828T095841Z
LAST-MODIFIED:20210828T095841Z
UID:5775-1630701000-1630711800@www.lacasajeux.fr
SUMMARY:FNM : Duel Commander
DESCRIPTION:Retour du format Duel Commander pendant les FNM ! \nVenez affronter les autres joueurs dans ce format apprécié par la communauté ! \nle PAF sera de 5€\, et chaque joueur repartira avec des lots !
URL:https://www.lacasajeux.fr/evenements/fnm-duel-commander-9/
LOCATION:La Casa’Jeux\, 22\, rue d'Estienne d'Orves\, Alès\, 30100\, France
CATEGORIES:Tournois
ATTACH;FMTTYPE=image/jpeg:https://www.lacasajeux.fr/wp-content/uploads/2021/08/20210903_magic_duelco.jpg
ORGANIZER;CN="La Casa'Jeux":MAILTO:contact@lacasajeux.fr
END:VEVENT
BEGIN:VEVENT
DTSTART;TZID=Europe/Paris:20210828T100000
DTEND;TZID=Europe/Paris:20210828T180000
DTSTAMP:20260421T050514
CREATED:20210731T143845Z
LAST-MODIFIED:20210731T143845Z
UID:5752-1630144800-1630173600@www.lacasajeux.fr
SUMMARY:Tournoi VTES
DESCRIPTION:Nouveau tournoi Vampire à la boutique ! \nEn attendant la sortie des prochaines decks en Octobre\, affutez vos canines\, et venez affronter les autres joueurs… \nLe PAF sera de 5€\, et des lots sont prévus ! 😉
URL:https://www.lacasajeux.fr/evenements/tournoi-vtes/
LOCATION:La Casa’Jeux\, 22\, rue d'Estienne d'Orves\, Alès\, 30100\, France
CATEGORIES:Tournois
ATTACH;FMTTYPE=image/jpeg:https://www.lacasajeux.fr/wp-content/uploads/2021/07/20210828_vtes.jpg
ORGANIZER;CN="La Casa'Jeux":MAILTO:contact@lacasajeux.fr
END:VEVENT
BEGIN:VEVENT
DTSTART;TZID=Europe/Paris:20210827T203000
DTEND;TZID=Europe/Paris:20210827T233000
DTSTAMP:20260421T050514
CREATED:20210731T143419Z
LAST-MODIFIED:20210731T143419Z
UID:5749-1630096200-1630107000@www.lacasajeux.fr
SUMMARY:Magic : tournoi Trisk3le
DESCRIPTION:Nouveau tournoi de Trisk3le\, le format exclusif de la boutique ! \nVenez vous confronter aux autres joueurs\, et voir si vous avez bien analysé les bons decks du format. \nLe PAF sera de 5€\, et chaque joueur repartira avec des lots. \nN’hésitez pas à passer en boutique avant si vous voulez des infos sur ce format !
URL:https://www.lacasajeux.fr/evenements/magic-tournoi-trisk3le-2/
LOCATION:La Casa’Jeux\, 22 rue d'Estienne d'Orves\, Alès\, Gard\, 30100\, France
CATEGORIES:Tournois
ATTACH;FMTTYPE=image/jpeg:https://www.lacasajeux.fr/wp-content/uploads/2021/07/20210827_magic_triskele.jpg
ORGANIZER;CN="La Casa'Jeux":MAILTO:contact@lacasajeux.fr
END:VEVENT
BEGIN:VEVENT
DTSTART;TZID=Europe/Paris:20210821T140000
DTEND;TZID=Europe/Paris:20210821T170000
DTSTAMP:20260421T050514
CREATED:20210731T144644Z
LAST-MODIFIED:20210731T144644Z
UID:5756-1629554400-1629565200@www.lacasajeux.fr
SUMMARY:Avant-Première Pokémon : Evolution céleste
DESCRIPTION:Première avant-première de Pokémon à la boutique ! \nDécouvrez la prochaine extension une semaine avant sa sortie. \nPour ça\, chaque joueur aura 4 boosters de l’extension ainsi qu’un booster spécial de 23 cartes avec des cartes du standard et une promo aléatoire pour faire un deck de 40 cartes. \nA l’issue du tournoi\, chaque joueur repartira avec 3 boosters de lot supplémentaires. \nAttention\, les places étant limitées\, il est conseillé de se préinscrire (par email\, téléphone ou MP sur FB) !
URL:https://www.lacasajeux.fr/evenements/avant-premiere-pokemon-evolution-celeste/
LOCATION:La Casa’Jeux\, 22\, rue d'Estienne d'Orves\, Alès\, 30100\, France
CATEGORIES:Tournois
ATTACH;FMTTYPE=image/jpeg:https://www.lacasajeux.fr/wp-content/uploads/2021/07/20210821_pokemon.jpg
END:VEVENT
BEGIN:VEVENT
DTSTART;TZID=Europe/Paris:20210807T140000
DTEND;TZID=Europe/Paris:20210807T180000
DTSTAMP:20260421T050514
CREATED:20210731T140424Z
LAST-MODIFIED:20210731T140424Z
UID:5736-1628344800-1628359200@www.lacasajeux.fr
SUMMARY:Scellé Magic : Forgotten Realms
DESCRIPTION:2 semaines après la sortie de l’extension\, venez tester le format limité de celle-ci ! \nFaites votre deck avec 6 boosters\, et affrontez vos adversaires avec ! \nLe PAF est de 25€\, et il y aura des lots pour tout le monde.
URL:https://www.lacasajeux.fr/evenements/scelle-magic-forgotten-realms/
LOCATION:La Casa’Jeux\, 22 rue d'Estienne d'Orves\, Alès\, Gard\, 30100\, France
CATEGORIES:Tournois
ATTACH;FMTTYPE=image/jpeg:https://www.lacasajeux.fr/wp-content/uploads/2021/07/20210807_magic_scelle.jpg
ORGANIZER;CN="La Casa'Jeux":MAILTO:contact@lacasajeux.fr
END:VEVENT
BEGIN:VEVENT
DTSTART;TZID=Europe/Paris:20210731T140000
DTEND;TZID=Europe/Paris:20210731T190000
DTSTAMP:20260421T050514
CREATED:20210627T155024Z
LAST-MODIFIED:20210627T155024Z
UID:5708-1627740000-1627758000@www.lacasajeux.fr
SUMMARY:Tournoi construit 7 FALLEN
DESCRIPTION:Nouveau tournoi 7 Fallen à la boutique !\nArmez-vous de votre deck\, et venez affronter les autres joueurs. Voyez si les stratégies qu’ils auront développés dans leur coins sont plus performantes\, ou si au contraire\, vous avez des stratégies à leur apprendre…\nL’inscription sera de 5€\, et chaque participant repartira avec un lot !
URL:https://www.lacasajeux.fr/evenements/tournoi-construit-7-fallen-2/
LOCATION:La Casa’Jeux\, 22 rue d'Estienne d'Orves\, Alès\, Gard\, 30100\, France
CATEGORIES:Tournois
ATTACH;FMTTYPE=image/jpeg:https://www.lacasajeux.fr/wp-content/uploads/2021/06/20210731_7fallen.jpg
END:VEVENT
BEGIN:VEVENT
DTSTART;TZID=Europe/Paris:20210731T140000
DTEND;TZID=Europe/Paris:20210731T170000
DTSTAMP:20260421T050514
CREATED:20210627T143311Z
LAST-MODIFIED:20210627T143311Z
UID:5671-1627740000-1627750800@www.lacasajeux.fr
SUMMARY:Tournoi standard Magic
DESCRIPTION:Nouveau tournoi standard à la boutique ! \nVenez tester votre deck standard\, lors de ce tournoi gratuit\, ouvert à tous les niveaux ! \nDes boosters standard showdown exclusifs\, ainsi que des promos seront distribués pour l’occasion. \nIl y aura des lots pour chaque joueur ! 🙂
URL:https://www.lacasajeux.fr/evenements/tournoi-standard-magic-17/
LOCATION:La Casa’Jeux\, 22 rue d'Estienne d'Orves\, Alès\, Gard\, 30100\, France
CATEGORIES:Tournois
ATTACH;FMTTYPE=image/jpeg:https://www.lacasajeux.fr/wp-content/uploads/2021/06/20210731_magic_standard.jpg
END:VEVENT
BEGIN:VEVENT
DTSTART;TZID=Europe/Paris:20210731T100000
DTEND;TZID=Europe/Paris:20210731T130000
DTSTAMP:20260421T050514
CREATED:20210627T155608Z
LAST-MODIFIED:20210627T155608Z
UID:5714-1627725600-1627736400@www.lacasajeux.fr
SUMMARY:Tournoi standard Magic
DESCRIPTION:Nouveau tournoi standard à la boutique ! \nVenez tester votre deck standard\, lors de ce tournoi gratuit\, ouvert à tous les niveaux ! \nDes boosters standard showdown exclusifs\, ainsi que des promos seront distribués pour l’occasion. \nIl y aura des lots pour chaque joueur ! 🙂
URL:https://www.lacasajeux.fr/evenements/tournoi-standard-magic-18/
LOCATION:La Casa’Jeux\, 22 rue d'Estienne d'Orves\, Alès\, Gard\, 30100\, France
CATEGORIES:Tournois
ATTACH;FMTTYPE=image/jpeg:https://www.lacasajeux.fr/wp-content/uploads/2021/06/20210731_magic_standard-1.jpg
END:VEVENT
BEGIN:VEVENT
DTSTART;TZID=Europe/Paris:20210730T210000
DTEND;TZID=Europe/Paris:20210730T233000
DTSTAMP:20260421T050514
CREATED:20210627T155247Z
LAST-MODIFIED:20210627T155247Z
UID:5711-1627678800-1627687800@www.lacasajeux.fr
SUMMARY:FNM : Duel Commander
DESCRIPTION:Retour du format Duel Commander pendant les FNM ! \nVenez affronter les autres joueurs dans ce format apprécié par la communauté ! \nle PAF sera de 5€\, et chaque joueur repartira avec des lots !
URL:https://www.lacasajeux.fr/evenements/fnm-duel-commander-7/
LOCATION:La Casa’Jeux\, 22\, rue d'Estienne d'Orves\, Alès\, 30100\, France
CATEGORIES:Tournois
ATTACH;FMTTYPE=image/jpeg:https://www.lacasajeux.fr/wp-content/uploads/2021/06/20210730_magic_duelcommander.jpg
END:VEVENT
BEGIN:VEVENT
DTSTART;TZID=Europe/Paris:20210710T140000
DTEND;TZID=Europe/Paris:20210710T170000
DTSTAMP:20260421T050514
CREATED:20210627T152431Z
LAST-MODIFIED:20210627T152431Z
UID:5690-1625925600-1625936400@www.lacasajeux.fr
SUMMARY:Magic : tournoi Trisk3le !
DESCRIPTION:Après 2 sessions de tests\, voici venir le premier tournoi de Trisk3le\, le format exclusif de la boutique ! \nVenez vous confronter aux autres joueurs\, et voir si vous avez bien analysé les bons decks du format. \nLe PAF sera de 5€\, et chaque joueur repartira avec des lots. \nN’hésitez pas à passer en boutique avant si vous voulez des infos sur ce format !
URL:https://www.lacasajeux.fr/evenements/magic-tournoi-trisk3le/
LOCATION:La Casa’Jeux\, 22 rue d'Estienne d'Orves\, Alès\, Gard\, 30100\, France
CATEGORIES:Tournois
ATTACH;FMTTYPE=image/jpeg:https://www.lacasajeux.fr/wp-content/uploads/2021/06/20210710_magic_triskele.jpg
END:VEVENT
BEGIN:VEVENT
DTSTART;TZID=Europe/Paris:20210703T140000
DTEND;TZID=Europe/Paris:20210703T170000
DTSTAMP:20260421T050514
CREATED:20210627T142956Z
LAST-MODIFIED:20210627T142956Z
UID:5668-1625320800-1625331600@www.lacasajeux.fr
SUMMARY:Tournoi standard Magic
DESCRIPTION:Nouveau tournoi standard à la boutique ! \nVenez tester votre deck standard\, lors de ce tournoi gratuit\, ouvert à tous les niveaux ! \nDes boosters standard showdown exclusifs\, ainsi que des promos seront distribués pour l’occasion. \nIl y aura des lots pour chaque joueur ! 🙂
URL:https://www.lacasajeux.fr/evenements/tournoi-standard-magic-16/
LOCATION:La Casa’Jeux\, 22 rue d'Estienne d'Orves\, Alès\, 30100\, France
CATEGORIES:Tournois
ATTACH;FMTTYPE=image/jpeg:https://www.lacasajeux.fr/wp-content/uploads/2021/06/20210703_magic_standard.jpg
END:VEVENT
BEGIN:VEVENT
DTSTART;TZID=Europe/Paris:20210625T140000
DTEND;TZID=Europe/Paris:20210625T180000
DTSTAMP:20260421T050514
CREATED:20210530T200611Z
LAST-MODIFIED:20210530T200611Z
UID:5622-1624629600-1624644000@www.lacasajeux.fr
SUMMARY:Magic : Tournoi Duel Commander
DESCRIPTION:On reprend les tournois Duel Commander à la boutique ! \nAvec les dernières extensions et decks commanders sortis\, c’est autant de nouveaux commandants à tester 😉 \nLe PAF sera de 5€\, et chacun repartira avec des lots !
URL:https://www.lacasajeux.fr/evenements/magic-tournoi-duel-commander/
LOCATION:La Casa’Jeux\, 22\, rue d'Estienne d'Orves\, Alès\, 30100\, France
CATEGORIES:Tournois
ATTACH;FMTTYPE=image/jpeg:https://www.lacasajeux.fr/wp-content/uploads/2021/05/20210625_duelcommander.jpg
END:VEVENT
BEGIN:VEVENT
DTSTART;TZID=Europe/Paris:20210619T140000
DTEND;TZID=Europe/Paris:20210619T180000
DTSTAMP:20260421T050514
CREATED:20210530T200116Z
LAST-MODIFIED:20210530T200116Z
UID:5619-1624111200-1624125600@www.lacasajeux.fr
SUMMARY:Tournoi construit 7 FALLEN
DESCRIPTION:Après un jeu lancé pendant\, et malgré\, le confinement\, on lance le premier tournoi de 7 FALLEN Alèsien ! \nArmez-vous de votre deck\, et venez affronter les autres joueurs. Voyez si les stratégies qu’ils auront développés dans leur coins sont plus performantes\, ou si au contraire\, vous avez des stratégies à leur apprendre… \nL’inscription sera de 5€\, et chaque participant repartira avec un lot !
URL:https://www.lacasajeux.fr/evenements/tournoi-construit-7-fallen/
LOCATION:La Casa’Jeux\, 22 Rue Estienne d'Orves\, Alès\, Gard\, 30100\, France
CATEGORIES:Tournois
ATTACH;FMTTYPE=image/jpeg:https://www.lacasajeux.fr/wp-content/uploads/2021/05/20210619_7fallen.jpg
END:VEVENT
END:VCALENDAR