BEGIN:VCALENDAR
VERSION:2.0
PRODID:-//La Casa&#039;Jeux à Alès - ECPv6.15.20//NONSGML v1.0//EN
CALSCALE:GREGORIAN
METHOD:PUBLISH
X-ORIGINAL-URL:https://www.lacasajeux.fr
X-WR-CALDESC:Évènements pour La Casa&#039;Jeux à Alès
REFRESH-INTERVAL;VALUE=DURATION:PT1H
X-Robots-Tag:noindex
X-PUBLISHED-TTL:PT1H
BEGIN:VTIMEZONE
TZID:Europe/Paris
BEGIN:DAYLIGHT
TZOFFSETFROM:+0100
TZOFFSETTO:+0200
TZNAME:CEST
DTSTART:20180325T010000
END:DAYLIGHT
BEGIN:STANDARD
TZOFFSETFROM:+0200
TZOFFSETTO:+0100
TZNAME:CET
DTSTART:20181028T010000
END:STANDARD
BEGIN:DAYLIGHT
TZOFFSETFROM:+0100
TZOFFSETTO:+0200
TZNAME:CEST
DTSTART:20190331T010000
END:DAYLIGHT
BEGIN:STANDARD
TZOFFSETFROM:+0200
TZOFFSETTO:+0100
TZNAME:CET
DTSTART:20191027T010000
END:STANDARD
BEGIN:DAYLIGHT
TZOFFSETFROM:+0100
TZOFFSETTO:+0200
TZNAME:CEST
DTSTART:20200329T010000
END:DAYLIGHT
BEGIN:STANDARD
TZOFFSETFROM:+0200
TZOFFSETTO:+0100
TZNAME:CET
DTSTART:20201025T010000
END:STANDARD
BEGIN:DAYLIGHT
TZOFFSETFROM:+0100
TZOFFSETTO:+0200
TZNAME:CEST
DTSTART:20210328T010000
END:DAYLIGHT
BEGIN:STANDARD
TZOFFSETFROM:+0200
TZOFFSETTO:+0100
TZNAME:CET
DTSTART:20211031T010000
END:STANDARD
END:VTIMEZONE
BEGIN:VEVENT
DTSTART;TZID=Europe/Paris:20200718T140000
DTEND;TZID=Europe/Paris:20200718T170000
DTSTAMP:20260421T132806
CREATED:20200702T125554Z
LAST-MODIFIED:20200702T125554Z
UID:5033-1595080800-1595091600@www.lacasajeux.fr
SUMMARY:Tournoi standard Magic
DESCRIPTION:Nouveau tournoi standard à la boutique !\n\n\n \n\n\nVenez tester votre deck standard\, lors de ce tournoi gratuit\, ouvert à tous les niveaux !\n\n\n \n\n\nDes boosters standard showdown exclusifs\, ainsi que des promos seront distribués pour l’occasion.\n\n\n \n\n\nIl y aura des lots pour chaque joueur ! 🙂
URL:https://www.lacasajeux.fr/evenements/tournoi-standard-magic-11/
LOCATION:La Casa’Jeux\, 22\, rue d'Estienne d'Orves\, Alès\, 30100\, France
CATEGORIES:Tournois
ATTACH;FMTTYPE=image/jpeg:https://www.lacasajeux.fr/wp-content/uploads/2020/07/20200718_standard_magic.jpg
END:VEVENT
BEGIN:VEVENT
DTSTART;TZID=Europe/Paris:20200711T140000
DTEND;TZID=Europe/Paris:20200711T170000
DTSTAMP:20260421T132806
CREATED:20200702T123605Z
LAST-MODIFIED:20200702T123605Z
UID:5018-1594476000-1594486800@www.lacasajeux.fr
SUMMARY:Dragon Ball super : Divine tournament
DESCRIPTION:Nouveau tournoi construit de DBS à la boutique.\n\n\n \n\n\nPAF de 5€\, et des lots pour tous !
URL:https://www.lacasajeux.fr/evenements/dragon-ball-super-divine-tournament-2/
LOCATION:La Casa’Jeux\, 22\, rue d'Estienne d'Orves\, Alès\, 30100\, France
CATEGORIES:Tournois
ATTACH;FMTTYPE=image/jpeg:https://www.lacasajeux.fr/wp-content/uploads/2020/07/20200711_DBS.jpg
ORGANIZER;CN="La Casa'Jeux":MAILTO:contact@lacasajeux.fr
END:VEVENT
BEGIN:VEVENT
DTSTART;TZID=Europe/Paris:20200627T090000
DTEND;TZID=Europe/Paris:20200627T190000
DTSTAMP:20260421T132806
CREATED:20200530T131939Z
LAST-MODIFIED:20200602T114837Z
UID:4958-1593248400-1593284400@www.lacasajeux.fr
SUMMARY:Avant-premières M21
DESCRIPTION:Venez découvrir le nouveau core set Magic !\n\n\n \n\n\nPour l’occasion\, des avant-premières sont organisées…. Et à temps exceptionnels\, mesures exceptionnelles.\n\n\n \n\n\nDu coup\, les avant-premières seront limitées à 12 places (il est donc vivement conseillé de se pré-inscrire !!!).\n\n\nIl y en aura 2 le samedi : 9h\, puis 14h.\n\n\nEt si on a assez de pré-inscrits\, il sera possible d’en faire d’autres dans la semaine.\n\n\n \n\n\nIl y a possibilité aussi de passer prendre vos packs en boutique et de faire vos propres AP à la maison.\n\n\n \n\n\nPlus d’excuse de passer à côté ! 😉\n\n\n \n\n\nLe PAF est de 26€\, et chaque participant repart avec 2 boosters de dotation supplémentaires.
URL:https://www.lacasajeux.fr/evenements/tournoi-standard-magic-ikoria-2/
LOCATION:La Casa’Jeux\, 22\, rue d'Estienne d'Orves\, Alès\, 30100\, France
CATEGORIES:Tournois
ATTACH;FMTTYPE=image/jpeg:https://www.lacasajeux.fr/wp-content/uploads/2020/05/20200627_magic-1.jpg
END:VEVENT
BEGIN:VEVENT
DTSTART;TZID=Europe/Paris:20200620T140000
DTEND;TZID=Europe/Paris:20200620T170000
DTSTAMP:20260421T132806
CREATED:20200530T132745Z
LAST-MODIFIED:20200530T132745Z
UID:4961-1592661600-1592672400@www.lacasajeux.fr
SUMMARY:Magic : tournoi au format Brawl !
DESCRIPTION:Le Brawl est un nouveau format\, à mi-chemin entre le standard et le commander.\n\n\n \n\n\nMontez votre deck et venez affronter les autres joueurs !\n\n\n \n\n\nLe PAF sera de 5€\, et chaque joueur repartira avec des lots (promos\, boosters\,…).\n\n\n \n\n\nN’hésitez pas à venir chercher des informations à la boutique !
URL:https://www.lacasajeux.fr/evenements/magic-tournoi-au-format-brawl-7/
LOCATION:La Casa’Jeux\, 22\, rue d'Estienne d'Orves\, Alès\, 30100\, France
CATEGORIES:Tournois
ATTACH;FMTTYPE=image/jpeg:https://www.lacasajeux.fr/wp-content/uploads/2020/05/20200620_magic.jpg
ORGANIZER;CN="La Casa'Jeux":MAILTO:contact@lacasajeux.fr
END:VEVENT
BEGIN:VEVENT
DTSTART;TZID=Europe/Paris:20200613T140000
DTEND;TZID=Europe/Paris:20200613T170000
DTSTAMP:20260421T132806
CREATED:20200530T133157Z
LAST-MODIFIED:20200530T133157Z
UID:4964-1592056800-1592067600@www.lacasajeux.fr
SUMMARY:Dragon Ball super : Divine tournament
DESCRIPTION:Nouveau tournoi construit de DBS à la boutique.\n\n\n \n\n\nPAF de 5€\, et des lots pour tous !
URL:https://www.lacasajeux.fr/evenements/dragon-ball-super-divine-tournament/
LOCATION:La Casa’Jeux\, 22\, rue d'Estienne d'Orves\, Alès\, 30100\, France
CATEGORIES:Tournois
ATTACH;FMTTYPE=image/jpeg:https://www.lacasajeux.fr/wp-content/uploads/2020/05/20200613_dbs.jpg
ORGANIZER;CN="La Casa'Jeux":MAILTO:contact@lacasajeux.fr
END:VEVENT
BEGIN:VEVENT
DTSTART;TZID=Europe/Paris:20200606T140000
DTEND;TZID=Europe/Paris:20200606T170000
DTSTAMP:20260421T132806
CREATED:20200530T131751Z
LAST-MODIFIED:20200530T131751Z
UID:4955-1591452000-1591462800@www.lacasajeux.fr
SUMMARY:Tournoi standard Magic Ikoria
DESCRIPTION:Nouveau tournoi standard à la boutique !\n\n\n \n\n\nVenez tester votre deck standard\, lors de ce tournoi gratuit\, ouvert à tous les niveaux !\n\n\n \n\n\nDes boosters standard showdown exclusifs\, ainsi que des promos seront distribués pour l’occasion.\n\n\n \n\n\nIl y aura des lots pour chaque joueur ! 🙂\n\n\n \n\n\n \n\n\nAttention : avec les restrictions dues au coronavirus\, les places seront limitées pour le tournoi\, vous êtes donc vivement encouragés à vous pré-inscrire.
URL:https://www.lacasajeux.fr/evenements/tournoi-standard-magic-ikoria/
LOCATION:La Casa’Jeux\, 22 rue d'Estienne d'Orves\, Alès\, 30100\, France
CATEGORIES:Tournois
ATTACH;FMTTYPE=image/jpeg:https://www.lacasajeux.fr/wp-content/uploads/2020/05/20200606_magic.jpg
ORGANIZER;CN="La Casa'Jeux":MAILTO:contact@lacasajeux.fr
END:VEVENT
BEGIN:VEVENT
DTSTART;TZID=Europe/Paris:20200321T140000
DTEND;TZID=Europe/Paris:20200321T170000
DTSTAMP:20260421T132806
CREATED:20200303T144035Z
LAST-MODIFIED:20200303T144035Z
UID:4829-1584799200-1584810000@www.lacasajeux.fr
SUMMARY:Magic : tournoi au format Brawl !
DESCRIPTION:Le Brawl est un nouveau format\, à mi-chemin entre le standard et le commander.\n\n\n \n\n\nMontez votre deck et venez affronter les autres joueurs !\n\n\n \n\n\nLe PAF sera de 5€\, et chaque joueur repartira avec des lots (promos\, boosters\,…).\n\n\n \n\n\nN’hésitez pas à venir chercher des informations à la boutique !
URL:https://www.lacasajeux.fr/evenements/magic-tournoi-au-format-brawl-6/
LOCATION:La Casa’Jeux\, 22 rue d'Estienne d'Orves\, Alès\, Gard\, 30100\, France
CATEGORIES:Tournois
ATTACH;FMTTYPE=image/jpeg:https://www.lacasajeux.fr/wp-content/uploads/2020/03/20200321_brawl.jpg
END:VEVENT
BEGIN:VEVENT
DTSTART;TZID=Europe/Paris:20200321T100000
DTEND;TZID=Europe/Paris:20200321T180000
DTSTAMP:20260421T132806
CREATED:20200303T141240Z
LAST-MODIFIED:20200303T141240Z
UID:4811-1584784800-1584813600@www.lacasajeux.fr
SUMMARY:Tournoi Aristeia
DESCRIPTION:Premier tournoi Aristeia à la boutique !\n\n\n \n\n\nAu vu du succès du jeu d’arène de Corvus Belli\, on va tenter un premier tournoi à la boutique.\n\n\n \n\n\nPour ça\, nous commencerons le tournoi à 10h\, et ferons 3 rondes.\n\n\nChaque ronde durera 2 heures.\n\n\n \n\n\nLes règles utilisées seront celles de l’AGL (en tournoi standard\, sélection d’équipe standard\, sans sponsors\, et en utilisant le scénario « terre brulée » du livre de base) : https://assets.aristeiathegame.net/downloads/aristeia_agl_rules/fr/v1.0/aristeia_agl_rules.pdf\n\n\n \n\n\nLe gagnant (ou les 2 premiers selon le nombre de participants) repartira avec une boite d’extension.\n\n\n \n\n\nN’hésitez pas à demander plus de renseignements à la boutique ou ici ! 😉
URL:https://www.lacasajeux.fr/evenements/tournoi-aristeia/
LOCATION:La Casa’Jeux\, 22\, rue d'Estienne d'Orves\, Alès\, 30100\, France
CATEGORIES:Tournois
ATTACH;FMTTYPE=image/jpeg:https://www.lacasajeux.fr/wp-content/uploads/2020/03/20200321_aristeia.jpg
END:VEVENT
BEGIN:VEVENT
DTSTART;TZID=Europe/Paris:20200320T203000
DTEND;TZID=Europe/Paris:20200320T233000
DTSTAMP:20260421T132806
CREATED:20200303T143818Z
LAST-MODIFIED:20200303T143818Z
UID:4826-1584736200-1584747000@www.lacasajeux.fr
SUMMARY:FNM : Pauper
DESCRIPTION:La classique FNM au format pauper du mois !\n\n\n \n\n\nPrenez vos communes\, et venez voir si les votres sont meilleures que celles des autres joueurs 😉\n\n\n \n\n\nle PAF sera de 5€\, et chaque joueur repartira avec des lots !
URL:https://www.lacasajeux.fr/evenements/fnm-pauper-2/
LOCATION:La Casa’Jeux\, 22\, rue d'Estienne d'Orves\, Alès\, 30100\, France
CATEGORIES:Tournois
ATTACH;FMTTYPE=image/jpeg:https://www.lacasajeux.fr/wp-content/uploads/2020/03/20200320_FNMpauper.jpg
ORGANIZER;CN="La Casa'Jeux":MAILTO:contact@lacasajeux.fr
END:VEVENT
BEGIN:VEVENT
DTSTART;TZID=Europe/Paris:20200314T140000
DTEND;TZID=Europe/Paris:20200314T170000
DTSTAMP:20260421T132806
CREATED:20200303T133604Z
LAST-MODIFIED:20200303T133604Z
UID:4802-1584194400-1584205200@www.lacasajeux.fr
SUMMARY:Dragon Ball super : Tournoi Universal onslaught
DESCRIPTION:Nouveau tournoi construit de DBS à la boutique.\n\n\n \n\n\nPAF de 5€\, et des lots pour tous !
URL:https://www.lacasajeux.fr/evenements/dragon-ball-super-tournoi-universal-onslaught/
LOCATION:La Casa’Jeux\, 22 Rue Estienne d'Orves\, Alès\, Gard\, 30100\, France
CATEGORIES:Tournois
ATTACH;FMTTYPE=image/jpeg:https://www.lacasajeux.fr/wp-content/uploads/2020/03/20200314_DBS.jpg
END:VEVENT
BEGIN:VEVENT
DTSTART;TZID=Europe/Paris:20200313T203000
DTEND;TZID=Europe/Paris:20200313T233000
DTSTAMP:20260421T132806
CREATED:20200303T150845Z
LAST-MODIFIED:20200303T150845Z
UID:4835-1584131400-1584142200@www.lacasajeux.fr
SUMMARY:Booster : Draft Mystery booster
DESCRIPTION:Venez découvrir cette nouvelle extension Magic en draftant !\n\n\n \n\n\nCette extension est composée de plus de 1600 cartes différentes\, choisies parmi toutes les extensions depuis le début du jeu\, et vous permettra de revivre des sensations inédites de draft\, ou tout est possible\, et ou aucune carte ne sera en 2 exemplaires dans le draft…\n\n\n \n\n\nLe PAF sera de 20€\, chaque joueur repartira avec les cartes qu’il aura pické\, et des boosters et promos seront distribués à tout le monde.
URL:https://www.lacasajeux.fr/evenements/booster-draft-mystery-booster/
LOCATION:La Casa’Jeux\, 22\, rue d'Estienne d'Orves\, Alès\, 30100\, France
CATEGORIES:Tournois
ATTACH;FMTTYPE=image/jpeg:https://www.lacasajeux.fr/wp-content/uploads/2020/03/20200313_FNMdraftmysterybooster.jpg
END:VEVENT
BEGIN:VEVENT
DTSTART;TZID=Europe/Paris:20200307T140000
DTEND;TZID=Europe/Paris:20200307T170000
DTSTAMP:20260421T132806
CREATED:20200303T143039Z
LAST-MODIFIED:20200303T143039Z
UID:4820-1583589600-1583600400@www.lacasajeux.fr
SUMMARY:Tournoi standard Magic
DESCRIPTION:Nouveau tournoi standard à la boutique !\n\n\n \n\n\nVenez tester votre deck standard\, lors de ce tournoi gratuit\, ouvert à tous les niveaux !\n\n\n \n\n\nDes boosters standard showdown exclusifs\, ainsi que des promos seront distribués pour l’occasion.\n\n\n \n\n\nIl y aura des lots pour chaque joueur ! 🙂
URL:https://www.lacasajeux.fr/evenements/tournoi-standard-magic-10/
LOCATION:La Casa’Jeux\, 22\, rue d'Estienne d'Orves\, Alès\, 30100\, France
CATEGORIES:Tournois
ATTACH;FMTTYPE=image/jpeg:https://www.lacasajeux.fr/wp-content/uploads/2020/03/20200307_standard.jpg
END:VEVENT
BEGIN:VEVENT
DTSTART;TZID=Europe/Paris:20200306T210000
DTEND;TZID=Europe/Paris:20200306T233000
DTSTAMP:20260421T132806
CREATED:20200303T142856Z
LAST-MODIFIED:20200303T142856Z
UID:4817-1583528400-1583537400@www.lacasajeux.fr
SUMMARY:FNM : Duel Commander
DESCRIPTION:Retour du format Duel Commander pendant les FNM !\n\n\n \n\n\nVenez affronter les autres joueurs dans ce format apprécié par la communauté !\n\n\n \n\n\nle PAF sera de 10€\, et chaque joueur repartira avec des lots !
URL:https://www.lacasajeux.fr/evenements/fnm-duel-commander-2/
LOCATION:La Casa’Jeux\, 22\, rue d'Estienne d'Orves\, Alès\, 30100\, France
CATEGORIES:Tournois
ATTACH;FMTTYPE=image/jpeg:https://www.lacasajeux.fr/wp-content/uploads/2020/03/20200306_FNMcommander.jpg
END:VEVENT
BEGIN:VEVENT
DTSTART;TZID=Europe/Paris:20200229T140000
DTEND;TZID=Europe/Paris:20200229T170000
DTSTAMP:20260421T132806
CREATED:20200130T175029Z
LAST-MODIFIED:20200130T175029Z
UID:4770-1582984800-1582995600@www.lacasajeux.fr
SUMMARY:Magic : tournoi au format Brawl !
DESCRIPTION:Le Brawl est un nouveau format\, à mi-chemin entre le standard et le commander.\n\n\n \n\n\nMontez votre deck et venez affronter les autres joueurs !\n\n\n \n\n\nLe PAF sera de 5€\, et chaque joueur repartira avec des lots (promos\, boosters\,…).\n\n\n \n\n\nN’hésitez pas à venir chercher des informations à la boutique !
URL:https://www.lacasajeux.fr/evenements/magic-tournoi-au-format-brawl-5/
LOCATION:La Casa’Jeux\, 22\, rue d'Estienne d'Orves\, Alès\, 30100\, France
CATEGORIES:Tournois
ATTACH;FMTTYPE=image/jpeg:https://www.lacasajeux.fr/wp-content/uploads/2020/01/20200229_brawl.jpg
END:VEVENT
BEGIN:VEVENT
DTSTART;TZID=Europe/Paris:20200228T210000
DTEND;TZID=Europe/Paris:20200228T233000
DTSTAMP:20260421T132806
CREATED:20200130T175644Z
LAST-MODIFIED:20200130T175644Z
UID:4776-1582923600-1582932600@www.lacasajeux.fr
SUMMARY:FNM : Modern
DESCRIPTION:La classique FNM au format modern du mois !\n\n\n \n\n\nVenez vous affronter sur l’un des formats les plus techniques du jeu !\n\n\n \n\n\nle PAF sera de 10€\, et chaque joueur repartira avec des lots !
URL:https://www.lacasajeux.fr/evenements/fnm-modern/
LOCATION:La Casa’Jeux\, 22\, rue d'Estienne d'Orves\, Alès\, 30100\, France
CATEGORIES:Tournois
ATTACH;FMTTYPE=image/jpeg:https://www.lacasajeux.fr/wp-content/uploads/2020/01/20200228_modern.jpg
END:VEVENT
BEGIN:VEVENT
DTSTART;TZID=Europe/Paris:20200222T140000
DTEND;TZID=Europe/Paris:20200222T170000
DTSTAMP:20260421T132806
CREATED:20200129T002055Z
LAST-MODIFIED:20200129T002055Z
UID:4746-1582380000-1582390800@www.lacasajeux.fr
SUMMARY:Magic week-end : Pioneer
DESCRIPTION:Pour mettre en avant son nouveau format éternel\, Wizards of the coast nous propose de jouer en Pioneer pour ce nouveau Magic week-end !\n\n\n \n\n\nDépoussiérez votre ancien standard (pas trop ancien quand même\, c’est depuis Retour sur Ravnica\, depuis l’ouverture de La Casa’Jeux en fait quoi ^^)\, remettez le au goût du jour si vous avez accumulé un peu de cartes depuis\, et venez affronter les autres joueurs !\n\n\n \n\n\nLe PAF sera de 10€\, et il y aura des lots pour tous !
URL:https://www.lacasajeux.fr/evenements/magic-week-end-pioneer/
LOCATION:La Casa’Jeux\, 22\, rue d'Estienne d'Orves\, Alès\, 30100\, France
CATEGORIES:Tournois
ATTACH;FMTTYPE=image/jpeg:https://www.lacasajeux.fr/wp-content/uploads/2020/01/20200222_pioneer.jpg
END:VEVENT
BEGIN:VEVENT
DTSTART;TZID=Europe/Paris:20200222T140000
DTEND;TZID=Europe/Paris:20200222T170000
DTSTAMP:20260421T132806
CREATED:20200129T000628Z
LAST-MODIFIED:20200129T000628Z
UID:4743-1582380000-1582390800@www.lacasajeux.fr
SUMMARY:Dragon Ball super : Tournoi Miraculous machinations
DESCRIPTION:
URL:https://www.lacasajeux.fr/evenements/dragon-ball-super-tournoi-miraculous-machinations-5/
LOCATION:La Casa’Jeux\, 22\, rue d'Estienne d'Orves\, Alès\, 30100\, France
CATEGORIES:Tournois
ATTACH;FMTTYPE=image/jpeg:https://www.lacasajeux.fr/wp-content/uploads/2020/01/20200222_dbs.jpg
END:VEVENT
BEGIN:VEVENT
DTSTART;TZID=Europe/Paris:20200215T140000
DTEND;TZID=Europe/Paris:20200215T170000
DTSTAMP:20260421T132806
CREATED:20200130T174047Z
LAST-MODIFIED:20200130T174047Z
UID:4761-1581775200-1581786000@www.lacasajeux.fr
SUMMARY:Tournoi standard Magic
DESCRIPTION:Nouveau tournoi standard à la boutique !\n\n\n \n\n\nVenez tester votre deck standard\, lors de ce tournoi gratuit\, ouvert à tous les niveaux !\n\n\n \n\n\nDes boosters standard showdown exclusifs\, ainsi que des promos seront distribués pour l’occasion.\n\n\n \n\n\nIl y aura des lots pour chaque joueur ! 🙂
URL:https://www.lacasajeux.fr/evenements/tournoi-standard-magic-9/
LOCATION:La Casa’Jeux\, 22\, rue d'Estienne d'Orves\, Alès\, 30100\, France
CATEGORIES:Tournois
ATTACH;FMTTYPE=image/jpeg:https://www.lacasajeux.fr/wp-content/uploads/2020/01/20200215_magicstandard.jpg
END:VEVENT
BEGIN:VEVENT
DTSTART;TZID=Europe/Paris:20200214T210000
DTEND;TZID=Europe/Paris:20200214T233000
DTSTAMP:20260421T132806
CREATED:20200130T175408Z
LAST-MODIFIED:20200130T175408Z
UID:4773-1581714000-1581723000@www.lacasajeux.fr
SUMMARY:FNM : Pauper
DESCRIPTION:La classique FNM au format pauper du mois !\n\n\n \n\n\nPrenez vos communes\, et venez voir si les votres sont meilleures que celles des autres joueurs 😉\n\n\n \n\n\nle PAF sera de 5€\, et chaque joueur repartira avec des lots !
URL:https://www.lacasajeux.fr/evenements/fnm-pauper/
LOCATION:La Casa’Jeux\, 22\, rue d'Estienne d'Orves\, Alès\, 30100\, France
CATEGORIES:Tournois
ATTACH;FMTTYPE=image/jpeg:https://www.lacasajeux.fr/wp-content/uploads/2020/01/20200214_pauper.jpg
END:VEVENT
BEGIN:VEVENT
DTSTART;TZID=Europe/Paris:20200208T140000
DTEND;TZID=Europe/Paris:20200208T170000
DTSTAMP:20260421T132806
CREATED:20200130T174809Z
LAST-MODIFIED:20200130T174809Z
UID:4764-1581170400-1581181200@www.lacasajeux.fr
SUMMARY:Magic : tournoi au format Brawl !
DESCRIPTION:Le Brawl est un nouveau format\, à mi-chemin entre le standard et le commander.\n\n\n \n\n\nMontez votre deck et venez affronter les autres joueurs !\n\n\n \n\n\nLe PAF sera de 5€\, et chaque joueur repartira avec des lots (promos\, boosters\,…).\n\n\n \n\n\nN’hésitez pas à venir chercher des informations à la boutique !
URL:https://www.lacasajeux.fr/evenements/magic-tournoi-au-format-brawl-4/
LOCATION:La Casa’Jeux\, 22\, rue d'Estienne d'Orves\, Alès\, 30100\, France
CATEGORIES:Tournois
ATTACH;FMTTYPE=image/jpeg:https://www.lacasajeux.fr/wp-content/uploads/2020/01/20200208_brawl_ok.jpg
END:VEVENT
BEGIN:VEVENT
DTSTART;TZID=Europe/Paris:20200208T140000
DTEND;TZID=Europe/Paris:20200208T170000
DTSTAMP:20260421T132806
CREATED:20200129T000157Z
LAST-MODIFIED:20200129T000157Z
UID:4740-1581170400-1581181200@www.lacasajeux.fr
SUMMARY:Dragon Ball Super : Tournoi celebrations 2020
DESCRIPTION:Pour fêter la nouvelle année avec DBS\, voici un tournoi limité\, pour changer des habitudes\, qui vous permettra de découvrir un nouveau format.\n\n\n \n\n\nChaque joueur pourra choisir un starter parmi ceux disponible en boutique\, y ajoutera 4 boosters pour modifier le deck\, et fera le tournoi avec les cartes deck obtenu.\n\n\n \n\n\nLe PAF est de 35€\, et chaque joueur repartira avec des lots (dont les promos exclusives à cet évènement).\n\n\n \n\n\nLes préinscriptions sont vivement encouragées\, voire conseillées !
URL:https://www.lacasajeux.fr/evenements/dragon-ball-super-tournoi-celebrations-2020/
LOCATION:La Casa’Jeux\, 22 Rue Estienne d'Orves\, Alès\, Gard\, 30100\, France
CATEGORIES:Tournois
ATTACH;FMTTYPE=image/jpeg:https://www.lacasajeux.fr/wp-content/uploads/2020/01/20200208_DBScelebrations.jpg
END:VEVENT
BEGIN:VEVENT
DTSTART;TZID=Europe/Paris:20200207T210000
DTEND;TZID=Europe/Paris:20200208T190000
DTSTAMP:20260421T132806
CREATED:20200128T172051Z
LAST-MODIFIED:20200128T172051Z
UID:4737-1581109200-1581188400@www.lacasajeux.fr
SUMMARY:Week-end spécial : Vampire le jeu de cartes
DESCRIPTION:Pour la sortie de la VF de ce jeu mythique (un jeu développé par Richard Garfield\, fait pour être joué en multijoueurs…)\, La Casa’Jeux vous propose un week-end spécial pour le découvrir : \n\n\n_ le vendredi soir\, pendant la nocturne (à partir de 20h30)\, des initiations seront organisées. Des demi-decks vous seront prêtés gratuitement pour essayer le jeu\n\n\n_ le samedi\, à partir de 10h\, un tournoi pour les débutants (mais tout le monde est le bienvenue ! ;)) sera organisé : chaque joueur devra prendre un des nouveaux demi-decks\, vendus en avant-première pour l’occasion\, et faire le tournoi avec. Le gagnant en gagnera un second\, pour pouvoir composer un deck complet 😉\n\n\n \n\n\nLes places seront limitées\, pensez à vous manifester avant si vous êtes intéressés !
URL:https://www.lacasajeux.fr/evenements/week-end-special-vampire-le-jeu-de-cartes/
LOCATION:La Casa’Jeux\, 22 rue d'Estienne d'Orves\, Alès\, 30100\, France
CATEGORIES:Démonstration,Tournois
ATTACH;FMTTYPE=image/jpeg:https://www.lacasajeux.fr/wp-content/uploads/2020/01/20200207_vtes.jpg
END:VEVENT
BEGIN:VEVENT
DTSTART;TZID=Europe/Paris:20200207T210000
DTEND;TZID=Europe/Paris:20200207T233000
DTSTAMP:20260421T132806
CREATED:20200128T170342Z
LAST-MODIFIED:20200128T170342Z
UID:4734-1581109200-1581118200@www.lacasajeux.fr
SUMMARY:FNM : Duel Commander
DESCRIPTION:Retour du format Duel Commander pendant les FNM !\n\n\n \n\n\nVenez affronter les autres joueurs dans ce format apprécié par la communauté !\n\n\n \n\n\nle PAF sera de 10€\, et chaque joueur repartira avec des lots !
URL:https://www.lacasajeux.fr/evenements/fnm-duel-commander/
LOCATION:La Casa’Jeux\, 22 rue d'Estienne d'Orves\, Alès\, Gard\, 30100\, France
CATEGORIES:Tournois
ATTACH;FMTTYPE=image/jpeg:https://www.lacasajeux.fr/wp-content/uploads/2020/01/20200207_FNM_EDH.jpg
ORGANIZER;CN="La Casa'Jeux":MAILTO:contact@lacasajeux.fr
END:VEVENT
BEGIN:VEVENT
DTSTART;TZID=Europe/Paris:20200201T140000
DTEND;TZID=Europe/Paris:20200201T170000
DTSTAMP:20260421T132806
CREATED:20200130T173830Z
LAST-MODIFIED:20200130T173830Z
UID:4758-1580565600-1580576400@www.lacasajeux.fr
SUMMARY:Tournoi standard Magic
DESCRIPTION:Nouveau tournoi standard à la boutique !\n\n\n \n\n\nVenez tester votre deck standard\, lors de ce tournoi gratuit\, ouvert à tous les niveaux !\n\n\n \n\n\nDes boosters standard showdown exclusifs\, ainsi que des promos seront distribués pour l’occasion.\n\n\n \n\n\nIl y aura des lots pour chaque joueur ! 🙂
URL:https://www.lacasajeux.fr/evenements/tournoi-standard-magic-8/
LOCATION:La Casa’Jeux\, 22\, rue d'Estienne d'Orves\, Alès\, 30100\, France
CATEGORIES:Tournois
ATTACH;FMTTYPE=image/jpeg:https://www.lacasajeux.fr/wp-content/uploads/2020/01/20200201_magicstandard.jpg
END:VEVENT
BEGIN:VEVENT
DTSTART;TZID=Europe/Paris:20200125T140000
DTEND;TZID=Europe/Paris:20200125T170000
DTSTAMP:20260421T132806
CREATED:20191229T160218Z
LAST-MODIFIED:20191229T160218Z
UID:4670-1579960800-1579971600@www.lacasajeux.fr
SUMMARY:Dragon Ball super : Tournoi Miraculous machinations
DESCRIPTION:Nouveau tournoi construit de DBS à la boutique.\n\n\n \n\n\nPAF de 5€\, et des lots pour tous !
URL:https://www.lacasajeux.fr/evenements/dragon-ball-super-tournoi-miraculous-machinations-4/
LOCATION:La Casa’Jeux\, 22\, rue d'Estienne d'Orves\, Alès\, 30100\, France
CATEGORIES:Tournois
ATTACH;FMTTYPE=image/jpeg:https://www.lacasajeux.fr/wp-content/uploads/2019/12/DBS_20200125.jpg
END:VEVENT
BEGIN:VEVENT
DTSTART;TZID=Europe/Paris:20200111T140000
DTEND;TZID=Europe/Paris:20200111T180000
DTSTAMP:20260421T132806
CREATED:20191229T160738Z
LAST-MODIFIED:20191229T160738Z
UID:4676-1578751200-1578765600@www.lacasajeux.fr
SUMMARY:Magic : tournoi au format Brawl !
DESCRIPTION:Le Brawl est un nouveau format\, à mi-chemin entre le standard et le commander.\n\n\n \n\n\nMontez votre deck et venez affronter les autres joueurs !\n\n\n \n\n\nLe PAF sera de 5€\, et chaque joueur repartira avec des lots (promos\, boosters\,…).\n\n\n \n\n\nN’hésitez pas à venir chercher des informations à la boutique !
URL:https://www.lacasajeux.fr/evenements/magic-tournoi-au-format-brawl-3/
LOCATION:La Casa’Jeux\, 22\, rue d'Estienne d'Orves\, Alès\, 30100\, France
CATEGORIES:Tournois
ATTACH;FMTTYPE=image/jpeg:https://www.lacasajeux.fr/wp-content/uploads/2019/12/Magic_Brawl_202011.jpg
END:VEVENT
BEGIN:VEVENT
DTSTART;TZID=Europe/Paris:20200111T140000
DTEND;TZID=Europe/Paris:20200111T170000
DTSTAMP:20260421T132806
CREATED:20191229T154621Z
LAST-MODIFIED:20191229T154621Z
UID:4667-1578751200-1578762000@www.lacasajeux.fr
SUMMARY:Dragon Ball super : Tournoi Miraculous machinations
DESCRIPTION:Nouveau tournoi construit de DBS à la boutique.\n\n\n \n\n\nPAF de 5€\, et des lots pour tous !
URL:https://www.lacasajeux.fr/evenements/dragon-ball-super-tournoi-miraculous-machinations-3/
LOCATION:La Casa’Jeux\, 22 rue d'Estienne d'Orves\, Alès\, Gard\, 30100\, France
CATEGORIES:Tournois
ATTACH;FMTTYPE=image/jpeg:https://www.lacasajeux.fr/wp-content/uploads/2019/12/DBS_20200111.jpg
END:VEVENT
BEGIN:VEVENT
DTSTART;TZID=Europe/Paris:20200104T140000
DTEND;TZID=Europe/Paris:20200104T170000
DTSTAMP:20260421T132806
CREATED:20191229T160517Z
LAST-MODIFIED:20191229T160517Z
UID:4673-1578146400-1578157200@www.lacasajeux.fr
SUMMARY:Tournoi standard Magic
DESCRIPTION:Nouveau tournoi standard à la boutique !\n\n\n \n\n\nVenez tester votre deck standard\, lors de ce tournoi gratuit\, ouvert à tous les niveaux !\n\n\n \n\n\nDes boosters standard showdown exclusifs\, ainsi que des promos seront distribués pour l’occasion.\n\n\n \n\n\nIl y aura des lots pour chaque joueur ! 🙂
URL:https://www.lacasajeux.fr/evenements/tournoi-standard-magic-7/
LOCATION:La Casa’Jeux\, 22 rue d'Estienne d'Orves\, Alès\, Gard\, 30100\, France
CATEGORIES:Tournois
ATTACH;FMTTYPE=image/jpeg:https://www.lacasajeux.fr/wp-content/uploads/2019/12/Magic_Standard_20200104.jpg
END:VEVENT
BEGIN:VEVENT
DTSTART;TZID=Europe/Paris:20191228T140000
DTEND;TZID=Europe/Paris:20191228T170000
DTSTAMP:20260421T132806
CREATED:20191128T222146Z
LAST-MODIFIED:20191128T222146Z
UID:4647-1577541600-1577552400@www.lacasajeux.fr
SUMMARY:Dragon Ball super : Tournoi Miraculous machinations
DESCRIPTION:Nouveau tournoi construit de DBS à la boutique.\n\n\n \n\n\nPAF de 5€\, et des lots pour tous !
URL:https://www.lacasajeux.fr/evenements/dragon-ball-super-tournoi-miraculous-machinations-2/
LOCATION:La Casa’Jeux\, 22\, rue d'Estienne d'Orves\, Alès\, 30100\, France
CATEGORIES:Tournois
ATTACH;FMTTYPE=image/jpeg:https://www.lacasajeux.fr/wp-content/uploads/2019/11/DBS_20191228.jpg
END:VEVENT
BEGIN:VEVENT
DTSTART;TZID=Europe/Paris:20191221T140000
DTEND;TZID=Europe/Paris:20191221T180000
DTSTAMP:20260421T132806
CREATED:20191128T220509Z
LAST-MODIFIED:20191128T220509Z
UID:4635-1576936800-1576951200@www.lacasajeux.fr
SUMMARY:Tournoi standard Magic
DESCRIPTION:Nouveau tournoi standard à la boutique !\n\n\n \n\n\nVenez tester votre deck standard\, lors de ce tournoi gratuit\, ouvert à tous les niveaux !\n\n\n \n\n\nDes boosters standard showdown exclusifs\, ainsi que des promos seront distribués pour l’occasion.\n\n\n \n\n\nIl y aura des lots pour chaque joueur ! 🙂
URL:https://www.lacasajeux.fr/evenements/tournoi-standard-magic-6/
LOCATION:La Casa’Jeux\, 22 rue d'Estienne d'Orves\, Alès\, Gard\, 30100\, France
CATEGORIES:Tournois
ATTACH;FMTTYPE=image/jpeg:https://www.lacasajeux.fr/wp-content/uploads/2019/11/Magic_Standard_20191221.jpg
END:VEVENT
END:VCALENDAR